BEGIN:VCALENDAR
VERSION:2.0
PRODID:-//Industry 4.0 Skillnet - ECPv6.15.20//NONSGML v1.0//EN
CALSCALE:GREGORIAN
METHOD:PUBLISH
X-WR-CALNAME:Industry 4.0 Skillnet
X-ORIGINAL-URL:https://industry4skillnet.com
X-WR-CALDESC:Events for Industry 4.0 Skillnet
REFRESH-INTERVAL;VALUE=DURATION:PT1H
X-Robots-Tag:noindex
X-PUBLISHED-TTL:PT1H
BEGIN:VTIMEZONE
TZID:Europe/Dublin
BEGIN:STANDARD
TZOFFSETFROM:+0000
TZOFFSETTO:+0100
TZNAME:IST
DTSTART:20210328T010000
END:STANDARD
BEGIN:DAYLIGHT
TZOFFSETFROM:+0100
TZOFFSETTO:+0000
TZNAME:GMT
DTSTART:20211031T010000
END:DAYLIGHT
BEGIN:STANDARD
TZOFFSETFROM:+0000
TZOFFSETTO:+0100
TZNAME:IST
DTSTART:20220327T010000
END:STANDARD
BEGIN:DAYLIGHT
TZOFFSETFROM:+0100
TZOFFSETTO:+0000
TZNAME:GMT
DTSTART:20221030T010000
END:DAYLIGHT
BEGIN:STANDARD
TZOFFSETFROM:+0000
TZOFFSETTO:+0100
TZNAME:IST
DTSTART:20230326T010000
END:STANDARD
BEGIN:DAYLIGHT
TZOFFSETFROM:+0100
TZOFFSETTO:+0000
TZNAME:GMT
DTSTART:20231029T010000
END:DAYLIGHT
END:VTIMEZONE
BEGIN:VEVENT
DTSTART;TZID=Europe/Dublin:20221130T000000
DTEND;TZID=Europe/Dublin:20221202T000000
DTSTAMP:20260420T160423
CREATED:20211214T103609Z
LAST-MODIFIED:20211221T095858Z
UID:10000445-1669766400-1669939200@industry4skillnet.com
SUMMARY:QQI Effective People Management
DESCRIPTION:This training programme comes with a 30% Skillnet discount for member companies.  This practical course enables you to overcome barriers to effectively and confidently deliver high impact training. This course provides guidance on the effective planning and delivery of training in the office\, shop floor\, retail\, factory\, hotel\, laboratory or other areas including beauty\, hairdressing\, health and safety. We have had people from all areas attend this course. \nEnquire Now
URL:https://industry4skillnet.com/programme/qqi-effective-people-management-11/
CATEGORIES:Project Management
END:VEVENT
BEGIN:VEVENT
DTSTART;TZID=Europe/Dublin:20221130T090000
DTEND;TZID=Europe/Dublin:20221130T170000
DTSTAMP:20260420T160423
CREATED:20221103T045440Z
LAST-MODIFIED:20221103T045440Z
UID:10000875-1669798800-1669827600@industry4skillnet.com
SUMMARY:Blockchain in Health & Safety
DESCRIPTION:This programme will introduce the participants to Blockchain and its applications in industry\, focussing on Health & safety in Construction\, Manufacturing and Quarrying. (Venue – Dublin) \nEnquire Now
URL:https://industry4skillnet.com/programme/blockchain-in-health-safety/
CATEGORIES:Industry 4.0
END:VEVENT
BEGIN:VEVENT
DTSTART;VALUE=DATE:20221201
DTEND;VALUE=DATE:20221202
DTSTAMP:20260420T160423
CREATED:20221024T054801Z
LAST-MODIFIED:20221111T050534Z
UID:10000869-1669852800-1669939199@industry4skillnet.com
SUMMARY:Introduction to 3D Concrete Printing
DESCRIPTION:This training programme comes with a Skillnet discount for member companies.  Provide learners with the fundamentals of 3D concrete printing including the equipment\, the processes\, the materials\, the opportunities\, and limitations of the printer.  \nEnquire Now
URL:https://industry4skillnet.com/programme/introduction-to-3d-concrete-printing/
CATEGORIES:3D Concrete Printing
END:VEVENT
END:VCALENDAR