BEGIN:VCALENDAR
VERSION:2.0
PRODID:-//Industry 4.0 Skillnet - ECPv6.15.20//NONSGML v1.0//EN
CALSCALE:GREGORIAN
METHOD:PUBLISH
X-WR-CALNAME:Industry 4.0 Skillnet
X-ORIGINAL-URL:https://industry4skillnet.com
X-WR-CALDESC:Events for Industry 4.0 Skillnet
REFRESH-INTERVAL;VALUE=DURATION:PT1H
X-Robots-Tag:noindex
X-PUBLISHED-TTL:PT1H
BEGIN:VTIMEZONE
TZID:Europe/Dublin
BEGIN:STANDARD
TZOFFSETFROM:+0000
TZOFFSETTO:+0100
TZNAME:IST
DTSTART:20210328T010000
END:STANDARD
BEGIN:DAYLIGHT
TZOFFSETFROM:+0100
TZOFFSETTO:+0000
TZNAME:GMT
DTSTART:20211031T010000
END:DAYLIGHT
BEGIN:STANDARD
TZOFFSETFROM:+0000
TZOFFSETTO:+0100
TZNAME:IST
DTSTART:20220327T010000
END:STANDARD
BEGIN:DAYLIGHT
TZOFFSETFROM:+0100
TZOFFSETTO:+0000
TZNAME:GMT
DTSTART:20221030T010000
END:DAYLIGHT
BEGIN:STANDARD
TZOFFSETFROM:+0000
TZOFFSETTO:+0100
TZNAME:IST
DTSTART:20230326T010000
END:STANDARD
BEGIN:DAYLIGHT
TZOFFSETFROM:+0100
TZOFFSETTO:+0000
TZNAME:GMT
DTSTART:20231029T010000
END:DAYLIGHT
END:VTIMEZONE
BEGIN:VEVENT
DTSTART;VALUE=DATE:20221206
DTEND;VALUE=DATE:20221221
DTSTAMP:20260420T160424
CREATED:20221024T054802Z
LAST-MODIFIED:20221024T054802Z
UID:10000871-1670284800-1671580799@industry4skillnet.com
SUMMARY:Industrial Electrical Systems (5 Days)
DESCRIPTION:This training programme comes with a Skillnet discount for member companies.  The Industrial Electrical Systems course offered by TECHNO TRAINING leads to the QQI Level 6 6N5377 Industrial Electrical System Minor award. It is one of eight modules needed to complete the 6M5154 Maintenance Skills Technology major award.  \nEnquire Now
URL:https://industry4skillnet.com/programme/industrial-electrical-systems-5-days/
CATEGORIES:3D Concrete Printing
END:VEVENT
BEGIN:VEVENT
DTSTART;TZID=Europe/Dublin:20221219T000000
DTEND;TZID=Europe/Dublin:20221222T000000
DTSTAMP:20260420T160424
CREATED:20211221T102831Z
LAST-MODIFIED:20220106T112600Z
UID:10000636-1671408000-1671667200@industry4skillnet.com
SUMMARY:CCP153 Studio 5000 Maintenance & Troubleshooting
DESCRIPTION:This training programme comes with a Skillnet discount for member companies.  This course is designed to teach you how to troubleshoot a previously operational ControlLogix system and restore to normal operation. The course introduces new tasks such as connecting to a network\, interpreting project execution\, editing ladder logic online\, and more. \nEnquire Now
URL:https://industry4skillnet.com/programme/ccp153-studio-5000-maintenance-troubleshooting-5/
CATEGORIES:Rockwell Automation
END:VEVENT
END:VCALENDAR