BEGIN:VCALENDAR
VERSION:2.0
PRODID:-//Industry 4.0 Skillnet - ECPv6.15.20//NONSGML v1.0//EN
CALSCALE:GREGORIAN
METHOD:PUBLISH
X-ORIGINAL-URL:https://industry4skillnet.com
X-WR-CALDESC:Events for Industry 4.0 Skillnet
REFRESH-INTERVAL;VALUE=DURATION:PT1H
X-Robots-Tag:noindex
X-PUBLISHED-TTL:PT1H
BEGIN:VTIMEZONE
TZID:Europe/Dublin
BEGIN:STANDARD
TZOFFSETFROM:+0000
TZOFFSETTO:+0100
TZNAME:IST
DTSTART:20220327T010000
END:STANDARD
BEGIN:DAYLIGHT
TZOFFSETFROM:+0100
TZOFFSETTO:+0000
TZNAME:GMT
DTSTART:20221030T010000
END:DAYLIGHT
BEGIN:STANDARD
TZOFFSETFROM:+0000
TZOFFSETTO:+0100
TZNAME:IST
DTSTART:20230326T010000
END:STANDARD
BEGIN:DAYLIGHT
TZOFFSETFROM:+0100
TZOFFSETTO:+0000
TZNAME:GMT
DTSTART:20231029T010000
END:DAYLIGHT
BEGIN:STANDARD
TZOFFSETFROM:+0000
TZOFFSETTO:+0100
TZNAME:IST
DTSTART:20240331T010000
END:STANDARD
BEGIN:DAYLIGHT
TZOFFSETFROM:+0100
TZOFFSETTO:+0000
TZNAME:GMT
DTSTART:20241027T010000
END:DAYLIGHT
END:VTIMEZONE
BEGIN:VEVENT
DTSTART;VALUE=DATE:20230116
DTEND;VALUE=DATE:20230118
DTSTAMP:20260420T160533
CREATED:20221024T054803Z
LAST-MODIFIED:20221024T054803Z
UID:10000873-1673827200-1673999999@industry4skillnet.com
SUMMARY:Systemic Troubleshooting
DESCRIPTION:This training programme comes with a Skillnet discount for member companies.  Our Systematic Troubleshooting training course introduces a robust set of strategies for effective troubleshooting. The challenge is one of change management on a personal and company level. \nEnquire Now
URL:https://industry4skillnet.com/programme/systemic-troubleshooting/
CATEGORIES:3D Concrete Printing
END:VEVENT
BEGIN:VEVENT
DTSTART;TZID=Europe/Dublin:20230116T000000
DTEND;TZID=Europe/Dublin:20230118T000000
DTSTAMP:20260420T160533
CREATED:20230103T062055Z
LAST-MODIFIED:20230103T062055Z
UID:10000878-1673827200-1674000000@industry4skillnet.com
SUMMARY:QQI Train the Trainer
DESCRIPTION:This training programme comes with a 30% Skillnet discount for member companies.  This practical course enables you to overcome barriers to effectively and confidently deliver high impact training. This course provides guidance on the effective planning and delivery of training in the office\, shop floor\, retail\, factory\, hotel\, laboratory or other areas including beauty\, hairdressing\, health and safety. We have had people from all areas attend this course. \nEnquire Now
URL:https://industry4skillnet.com/programme/qqi-train-the-trainer-57/
CATEGORIES:DCM
END:VEVENT
BEGIN:VEVENT
DTSTART;VALUE=DATE:20230117
DTEND;VALUE=DATE:20230118
DTSTAMP:20260420T160533
CREATED:20230117T070353Z
LAST-MODIFIED:20230117T070353Z
UID:10000887-1673913600-1673999999@industry4skillnet.com
SUMMARY:Industrial Electrical Systems course PT1
DESCRIPTION:This training programme comes with a 30% Skillnet discount for member companies.  The Industrial Electrical Systems course offered by TECHNO TRAINING leads to the QQI Level 6 6N5377 Industrial Electrical System Minor award. It is one of eight modules needed to complete the 6M5154 Maintenance Skills Technology major award. \nEnquire Now
URL:https://industry4skillnet.com/programme/industrial-electrical-systems-course-pt1/
LOCATION:Online
CATEGORIES:Industry 4.0
END:VEVENT
END:VCALENDAR