BEGIN:VCALENDAR
VERSION:2.0
PRODID:-//Industry 4.0 Skillnet - ECPv6.15.20//NONSGML v1.0//EN
CALSCALE:GREGORIAN
METHOD:PUBLISH
X-ORIGINAL-URL:https://industry4skillnet.com
X-WR-CALDESC:Events for Industry 4.0 Skillnet
REFRESH-INTERVAL;VALUE=DURATION:PT1H
X-Robots-Tag:noindex
X-PUBLISHED-TTL:PT1H
BEGIN:VTIMEZONE
TZID:Europe/Dublin
BEGIN:STANDARD
TZOFFSETFROM:+0000
TZOFFSETTO:+0100
TZNAME:IST
DTSTART:20220327T010000
END:STANDARD
BEGIN:DAYLIGHT
TZOFFSETFROM:+0100
TZOFFSETTO:+0000
TZNAME:GMT
DTSTART:20221030T010000
END:DAYLIGHT
BEGIN:STANDARD
TZOFFSETFROM:+0000
TZOFFSETTO:+0100
TZNAME:IST
DTSTART:20230326T010000
END:STANDARD
BEGIN:DAYLIGHT
TZOFFSETFROM:+0100
TZOFFSETTO:+0000
TZNAME:GMT
DTSTART:20231029T010000
END:DAYLIGHT
BEGIN:STANDARD
TZOFFSETFROM:+0000
TZOFFSETTO:+0100
TZNAME:IST
DTSTART:20240331T010000
END:STANDARD
BEGIN:DAYLIGHT
TZOFFSETFROM:+0100
TZOFFSETTO:+0000
TZNAME:GMT
DTSTART:20241027T010000
END:DAYLIGHT
END:VTIMEZONE
BEGIN:VEVENT
DTSTART;VALUE=DATE:20230227
DTEND;VALUE=DATE:20230301
DTSTAMP:20260420T085444
CREATED:20230117T070909Z
LAST-MODIFIED:20230117T070909Z
UID:10000889-1677456000-1677628799@industry4skillnet.com
SUMMARY:Industrial Electrical Systems course PT2 (In Person)
DESCRIPTION:This training programme comes with a 30% Skillnet discount for member companies.  The Industrial Electrical Systems course offered by TECHNO TRAINING leads to the QQI Level 6 6N5377 Industrial Electrical System Minor award. It is one of eight modules needed to complete the 6M5154 Maintenance Skills Technology major award. \nEnquire Now
URL:https://industry4skillnet.com/programme/industrial-electrical-systems-course-pt2-in-person/
LOCATION:Robot Room\, W8 Centre\, Manorhamilton\, Co. Leitrim\, W8 Centre\, Manorhamilton
CATEGORIES:Industry 4.0
END:VEVENT
BEGIN:VEVENT
DTSTART;VALUE=DATE:20230227
DTEND;VALUE=DATE:20230302
DTSTAMP:20260420T085444
CREATED:20221024T051931Z
LAST-MODIFIED:20221024T051931Z
UID:10000853-1677456000-1677715199@industry4skillnet.com
SUMMARY:QQI Effective People Management
DESCRIPTION:This training programme comes with a 30% Skillnet discount for member companies.  This practical course enables you to overcome barriers to effectively and confidently deliver high impact training. This course provides guidance on the effective planning and delivery of training in the office\, shop floor\, retail\, factory\, hotel\, laboratory or other areas including beauty\, hairdressing\, health and safety. We have had people from all areas attend this course. \nEnquire Now
URL:https://industry4skillnet.com/programme/qqi-effective-people-management-27/
CATEGORIES:DCM
END:VEVENT
END:VCALENDAR