BEGIN:VCALENDAR
VERSION:2.0
PRODID:-//Industry 4.0 Skillnet - ECPv6.15.20//NONSGML v1.0//EN
CALSCALE:GREGORIAN
METHOD:PUBLISH
X-ORIGINAL-URL:https://industry4skillnet.com
X-WR-CALDESC:Events for Industry 4.0 Skillnet
REFRESH-INTERVAL;VALUE=DURATION:PT1H
X-Robots-Tag:noindex
X-PUBLISHED-TTL:PT1H
BEGIN:VTIMEZONE
TZID:Europe/Dublin
BEGIN:STANDARD
TZOFFSETFROM:+0000
TZOFFSETTO:+0100
TZNAME:IST
DTSTART:20220327T010000
END:STANDARD
BEGIN:DAYLIGHT
TZOFFSETFROM:+0100
TZOFFSETTO:+0000
TZNAME:GMT
DTSTART:20221030T010000
END:DAYLIGHT
BEGIN:STANDARD
TZOFFSETFROM:+0000
TZOFFSETTO:+0100
TZNAME:IST
DTSTART:20230326T010000
END:STANDARD
BEGIN:DAYLIGHT
TZOFFSETFROM:+0100
TZOFFSETTO:+0000
TZNAME:GMT
DTSTART:20231029T010000
END:DAYLIGHT
BEGIN:STANDARD
TZOFFSETFROM:+0000
TZOFFSETTO:+0100
TZNAME:IST
DTSTART:20240331T010000
END:STANDARD
BEGIN:DAYLIGHT
TZOFFSETFROM:+0100
TZOFFSETTO:+0000
TZNAME:GMT
DTSTART:20241027T010000
END:DAYLIGHT
END:VTIMEZONE
BEGIN:VEVENT
DTSTART;VALUE=DATE:20230306
DTEND;VALUE=DATE:20230308
DTSTAMP:20260420T085452
CREATED:20230117T071442Z
LAST-MODIFIED:20230117T071442Z
UID:10000890-1678060800-1678233599@industry4skillnet.com
SUMMARY:Industrial Electrical Systems PT 3 (In Person)
DESCRIPTION:This training programme comes with a 30% Skillnet discount for member companies.  The Industrial Electrical Systems course offered by TECHNO TRAINING leads to the QQI Level 6 6N5377 Industrial Electrical System Minor award. It is one of eight modules needed to complete the 6M5154 Maintenance Skills Technology major award. \nEnquire Now
URL:https://industry4skillnet.com/programme/industrial-electrical-systems-pt-3-in-person/
LOCATION:Robot Room\, W8 Centre\, Manorhamilton\, Co. Leitrim\, W8 Centre\, Manorhamilton
CATEGORIES:Industry 4.0
END:VEVENT
END:VCALENDAR