BEGIN:VCALENDAR
VERSION:2.0
PRODID:-//Industry 4.0 Skillnet - ECPv6.15.20//NONSGML v1.0//EN
CALSCALE:GREGORIAN
METHOD:PUBLISH
X-WR-CALNAME:Industry 4.0 Skillnet
X-ORIGINAL-URL:https://industry4skillnet.com
X-WR-CALDESC:Events for Industry 4.0 Skillnet
REFRESH-INTERVAL;VALUE=DURATION:PT1H
X-Robots-Tag:noindex
X-PUBLISHED-TTL:PT1H
BEGIN:VTIMEZONE
TZID:Europe/Dublin
BEGIN:STANDARD
TZOFFSETFROM:+0000
TZOFFSETTO:+0100
TZNAME:IST
DTSTART:20220327T010000
END:STANDARD
BEGIN:DAYLIGHT
TZOFFSETFROM:+0100
TZOFFSETTO:+0000
TZNAME:GMT
DTSTART:20221030T010000
END:DAYLIGHT
BEGIN:STANDARD
TZOFFSETFROM:+0000
TZOFFSETTO:+0100
TZNAME:IST
DTSTART:20230326T010000
END:STANDARD
BEGIN:DAYLIGHT
TZOFFSETFROM:+0100
TZOFFSETTO:+0000
TZNAME:GMT
DTSTART:20231029T010000
END:DAYLIGHT
BEGIN:STANDARD
TZOFFSETFROM:+0000
TZOFFSETTO:+0100
TZNAME:IST
DTSTART:20240331T010000
END:STANDARD
BEGIN:DAYLIGHT
TZOFFSETFROM:+0100
TZOFFSETTO:+0000
TZNAME:GMT
DTSTART:20241027T010000
END:DAYLIGHT
END:VTIMEZONE
BEGIN:VEVENT
DTSTART;VALUE=DATE:20230322
DTEND;VALUE=DATE:20230325
DTSTAMP:20260420T085423
CREATED:20221024T051908Z
LAST-MODIFIED:20221024T051908Z
UID:10000840-1679443200-1679702399@industry4skillnet.com
SUMMARY:Train the Trainer
DESCRIPTION:This training programme comes with a Skillnet discount for member companies.  This practical course enables you to overcome barriers to effectively and confidently deliver high impact training. This course provides guidance on the effective planning and delivery of training in the office\, shop floor\, retail\, factory\, hotel\, laboratory or other areas including beauty\, hairdressing\, health and safety. We have had people from all areas attend this course \nEnquire Now
URL:https://industry4skillnet.com/programme/train-the-trainer-32/
CATEGORIES:DCM
END:VEVENT
END:VCALENDAR