BEGIN:VCALENDAR
VERSION:2.0
PRODID:-//Industry 4.0 Skillnet - ECPv6.15.20//NONSGML v1.0//EN
CALSCALE:GREGORIAN
METHOD:PUBLISH
X-ORIGINAL-URL:https://industry4skillnet.com
X-WR-CALDESC:Events for Industry 4.0 Skillnet
REFRESH-INTERVAL;VALUE=DURATION:PT1H
X-Robots-Tag:noindex
X-PUBLISHED-TTL:PT1H
BEGIN:VTIMEZONE
TZID:Europe/Dublin
BEGIN:STANDARD
TZOFFSETFROM:+0000
TZOFFSETTO:+0100
TZNAME:IST
DTSTART:20220327T010000
END:STANDARD
BEGIN:DAYLIGHT
TZOFFSETFROM:+0100
TZOFFSETTO:+0000
TZNAME:GMT
DTSTART:20221030T010000
END:DAYLIGHT
BEGIN:STANDARD
TZOFFSETFROM:+0000
TZOFFSETTO:+0100
TZNAME:IST
DTSTART:20230326T010000
END:STANDARD
BEGIN:DAYLIGHT
TZOFFSETFROM:+0100
TZOFFSETTO:+0000
TZNAME:GMT
DTSTART:20231029T010000
END:DAYLIGHT
BEGIN:STANDARD
TZOFFSETFROM:+0000
TZOFFSETTO:+0100
TZNAME:IST
DTSTART:20240331T010000
END:STANDARD
BEGIN:DAYLIGHT
TZOFFSETFROM:+0100
TZOFFSETTO:+0000
TZNAME:GMT
DTSTART:20241027T010000
END:DAYLIGHT
END:VTIMEZONE
BEGIN:VEVENT
DTSTART;TZID=Europe/Dublin:20230612T080000
DTEND;TZID=Europe/Dublin:20230612T170000
DTSTAMP:20260420T032825
CREATED:20221024T051849Z
LAST-MODIFIED:20230717T135846Z
UID:10000907-1686556800-1686589200@industry4skillnet.com
SUMMARY:QQI Train the Trainer
DESCRIPTION:Dates: 3 Consecutive days via Zoom from 9:30am to 15:00pm each day \nFull Price €495 / Industry 4.0 Skillnet Price €206.50 \nThe funding is available to Irish Private Construction\, Manufacturing and Quarrying companies (including Sole Traders). \nThe Train The Trainer course is designed to help you enhance your existing skills and prepare you to deliver training sessions in a dynamic and thought-provoking way. \nView the full course description HERE \nEnquire Now
URL:https://industry4skillnet.com/programme/qqi-train-the-trainer-58/2023-06-12/
CATEGORIES:DCM
END:VEVENT
END:VCALENDAR