BEGIN:VCALENDAR
VERSION:2.0
PRODID:-//Industry 4.0 Skillnet - ECPv6.15.20//NONSGML v1.0//EN
CALSCALE:GREGORIAN
METHOD:PUBLISH
X-WR-CALNAME:Industry 4.0 Skillnet
X-ORIGINAL-URL:https://industry4skillnet.com
X-WR-CALDESC:Events for Industry 4.0 Skillnet
REFRESH-INTERVAL;VALUE=DURATION:PT1H
X-Robots-Tag:noindex
X-PUBLISHED-TTL:PT1H
BEGIN:VTIMEZONE
TZID:Europe/Dublin
BEGIN:STANDARD
TZOFFSETFROM:+0000
TZOFFSETTO:+0100
TZNAME:IST
DTSTART:20220327T010000
END:STANDARD
BEGIN:DAYLIGHT
TZOFFSETFROM:+0100
TZOFFSETTO:+0000
TZNAME:GMT
DTSTART:20221030T010000
END:DAYLIGHT
BEGIN:STANDARD
TZOFFSETFROM:+0000
TZOFFSETTO:+0100
TZNAME:IST
DTSTART:20230326T010000
END:STANDARD
BEGIN:DAYLIGHT
TZOFFSETFROM:+0100
TZOFFSETTO:+0000
TZNAME:GMT
DTSTART:20231029T010000
END:DAYLIGHT
BEGIN:STANDARD
TZOFFSETFROM:+0000
TZOFFSETTO:+0100
TZNAME:IST
DTSTART:20240331T010000
END:STANDARD
BEGIN:DAYLIGHT
TZOFFSETFROM:+0100
TZOFFSETTO:+0000
TZNAME:GMT
DTSTART:20241027T010000
END:DAYLIGHT
END:VTIMEZONE
BEGIN:VEVENT
DTSTART;TZID=Europe/Dublin:20230718T080000
DTEND;TZID=Europe/Dublin:20230718T170000
DTSTAMP:20260420T013532
CREATED:20230327T152315Z
LAST-MODIFIED:20230717T155759Z
UID:10000901-1689667200-1689699600@industry4skillnet.com
SUMMARY:Lean Six Sigma Green Belt Course
DESCRIPTION:Dates: July 18th\, 19th\, 20th & 24th from  9:30am to 15:00pm each day. \nThe Industry 4.0 Skillnet funding is available to Irish Private Construction\, Manufacturing and Quarrying companies (including Sole Traders). \nFull Price €495 – Industry 4.0 Skillnet Price €206.50 \nThis Certified Lean Six Sigma Green Belt course is designed to help you to optimise processes\, reduce costs and improve quality. \nUnderstand the concepts\, tools and principles of Lean Six Sigma.\nPractically learn the key tools needed to solve business problems.\nLearn implementation techniques to integrate lean into a company’s management system.\nIdentify areas for reviewing\, evaluating and improving.\nLearn to deliver an effective continuous improvement program and reduce waste and variation in business. \nCertification: \nAfter successfully completing the course and assessments\, you will be awarded with you will achieve 2 certifications: DCM Learning Lean Six Sigma Green Belt and a QQI Level 5 Certificate in Lean Manufacturing Tools. \nRead the full course description HERE \nContact Details:\nPaul Quinn\, Network Manager\nT: +353 (0)71 9317 485 / E: info@industry4skillnet.com \n  \nEnquire Now
URL:https://industry4skillnet.com/programme/lean-six-sigma-green-belt-3/
CATEGORIES:DCM
END:VEVENT
END:VCALENDAR