BEGIN:VCALENDAR
VERSION:2.0
PRODID:-//Industry 4.0 Skillnet - ECPv6.15.20//NONSGML v1.0//EN
CALSCALE:GREGORIAN
METHOD:PUBLISH
X-ORIGINAL-URL:https://industry4skillnet.com
X-WR-CALDESC:Events for Industry 4.0 Skillnet
REFRESH-INTERVAL;VALUE=DURATION:PT1H
X-Robots-Tag:noindex
X-PUBLISHED-TTL:PT1H
BEGIN:VTIMEZONE
TZID:Europe/Dublin
BEGIN:STANDARD
TZOFFSETFROM:+0000
TZOFFSETTO:+0100
TZNAME:IST
DTSTART:20220327T010000
END:STANDARD
BEGIN:DAYLIGHT
TZOFFSETFROM:+0100
TZOFFSETTO:+0000
TZNAME:GMT
DTSTART:20221030T010000
END:DAYLIGHT
BEGIN:STANDARD
TZOFFSETFROM:+0000
TZOFFSETTO:+0100
TZNAME:IST
DTSTART:20230326T010000
END:STANDARD
BEGIN:DAYLIGHT
TZOFFSETFROM:+0100
TZOFFSETTO:+0000
TZNAME:GMT
DTSTART:20231029T010000
END:DAYLIGHT
BEGIN:STANDARD
TZOFFSETFROM:+0000
TZOFFSETTO:+0100
TZNAME:IST
DTSTART:20240331T010000
END:STANDARD
BEGIN:DAYLIGHT
TZOFFSETFROM:+0100
TZOFFSETTO:+0000
TZNAME:GMT
DTSTART:20241027T010000
END:DAYLIGHT
END:VTIMEZONE
BEGIN:VEVENT
DTSTART;TZID=Europe/Dublin:20231004T080000
DTEND;TZID=Europe/Dublin:20231004T170000
DTSTAMP:20260419T202112
CREATED:20221024T052017Z
LAST-MODIFIED:20230717T150451Z
UID:10000918-1696406400-1696438800@industry4skillnet.com
SUMMARY:Project Management Course - QQI Level 6
DESCRIPTION:Dates: 3 consecutive days Via Zoom from 9.30am to 15.00pm each day. \nIndustry 4.0 Skillnet price €206.50 \nThis training programme comes with a Skillnet discount to Irish Private Construction and Quarrying Companies (Including Sole Traders).\nThis Certified Project Management course is designed to equip learners with essential knowledge\, skills and competencies to plan\, implement and review projects. \nCourse Aims:\nManage a project taking corrective action where necessary to meet agreed goals.\nEvaluate the methodology and process of a selected project.\nUtilise financial planning and budget models within the context of managing a project.\nDevise a risk analysis for a project to include the preparation of a contingency plan.\nCommunicate project management planning operations.\nInvestigate a range of approaches to plan\, cost and manage a project. \nRead the full course content HERE\nContact Details:\nPaul Quinn\, Network Manager\nT: +353 (0)71 9317 485 / E: info@industry4skillnet.com\nEnquire Now
URL:https://industry4skillnet.com/programme/qqi-project-management-20/2023-10-04/
CATEGORIES:DCM
END:VEVENT
END:VCALENDAR