BEGIN:VCALENDAR
VERSION:2.0
PRODID:-//Industry 4.0 Skillnet - ECPv6.15.20//NONSGML v1.0//EN
CALSCALE:GREGORIAN
METHOD:PUBLISH
X-ORIGINAL-URL:https://industry4skillnet.com
X-WR-CALDESC:Events for Industry 4.0 Skillnet
REFRESH-INTERVAL;VALUE=DURATION:PT1H
X-Robots-Tag:noindex
X-PUBLISHED-TTL:PT1H
BEGIN:VTIMEZONE
TZID:Europe/Dublin
BEGIN:STANDARD
TZOFFSETFROM:+0000
TZOFFSETTO:+0100
TZNAME:IST
DTSTART:20230326T010000
END:STANDARD
BEGIN:DAYLIGHT
TZOFFSETFROM:+0100
TZOFFSETTO:+0000
TZNAME:GMT
DTSTART:20231029T010000
END:DAYLIGHT
BEGIN:STANDARD
TZOFFSETFROM:+0000
TZOFFSETTO:+0100
TZNAME:IST
DTSTART:20240331T010000
END:STANDARD
BEGIN:DAYLIGHT
TZOFFSETFROM:+0100
TZOFFSETTO:+0000
TZNAME:GMT
DTSTART:20241027T010000
END:DAYLIGHT
BEGIN:STANDARD
TZOFFSETFROM:+0000
TZOFFSETTO:+0100
TZNAME:IST
DTSTART:20250330T010000
END:STANDARD
BEGIN:DAYLIGHT
TZOFFSETFROM:+0100
TZOFFSETTO:+0000
TZNAME:GMT
DTSTART:20251026T010000
END:DAYLIGHT
END:VTIMEZONE
BEGIN:VEVENT
DTSTART;TZID=Europe/Dublin:20240708T053000
DTEND;TZID=Europe/Dublin:20240708T063000
DTSTAMP:20260420T051122
CREATED:20240305T094509Z
LAST-MODIFIED:20240305T095750Z
UID:10001024-1720416600-1720420200@industry4skillnet.com
SUMMARY:Industrial Electrical Systems - QQI Level 6
DESCRIPTION:Location: Dublin / Dates: July 8th\, 9th\, 15th\, 16th\, 22nd\, 23rd \nFull Price €1\,550 / Industry 4.0 Skillnet Price €1\,085 \nIndustry 4.0 Skillnet funding is available to Irish Private Construction\, Manufacturing and Quarrying companies and Sole Traders. \nThe Industrial Electrical Systems training course develops the skills required by industrial maintenance technicians to safely diagnose and repair faults in electrically controlled equipment. We offer a uniquely practical course focused on replicating real-life scenarios using specialist industrial equipment and troubleshooting simulation software. We also provide a comprehensive suite of online learning activities which enable deep learning and excellent retention of skills learned. Students are given full access to our materials when they register on the course so they can dive straight in to our materials which will help them prepare for the course and get the most out of it. \nQQI Accreditation and Progression\n\n6N5377 QQI Level 6 Minor award in Industrial Electrical Systems\nThis Award is one component required for the Major Award 6M5154 Maintenance Skills Technology\n\nRead the full course description HERE \n\nContact Details:\nPaul Quinn\, Network Manager\nE: info@industry4skillnet.com\nT: 071 9317 485\nYlenia Morselli – ylenia@futurecast.info\n  \nEnquire Now
URL:https://industry4skillnet.com/programme/industrial-electrical-systems-qqi-level-6-6/
CATEGORIES:Industrial Training,TechnoTraining
ATTACH;FMTTYPE=image/png:https://industry4skillnet.com/wp-content/uploads/2023/05/Industry-4.0-Skillnet-Industrial-Electrial-Systems-Course.png
END:VEVENT
BEGIN:VEVENT
DTSTART;TZID=Europe/Dublin:20240708T053000
DTEND;TZID=Europe/Dublin:20240708T063000
DTSTAMP:20260420T051122
CREATED:20240523T153355Z
LAST-MODIFIED:20240523T153910Z
UID:10001037-1720416600-1720420200@industry4skillnet.com
SUMMARY:Solidworks Training
DESCRIPTION:Location: Dublin / 4 Consecutive days – Industry 4.0 Skillnet offering 40% off \nFull Price € 1\,979* – 40% funding = €1\,187.40\n*price is indicative – please check with us at the time of booking \nThis Industry 4.0 Skillnet course is under the ESF+ project\, co-funded by the Government of Ireland and the European Union.(www.eufunds.ie) \nIndustry 4.0 Skillnet funding is available to Irish Private Construction\, Manufacturing and Quarrying companies and Sole Traders. \nOverview\nStarting from the very basics of the program\, this SOLIDWORKS Essentials course develops looking at modelling essentials required for day to day use of the software\, right through to some advanced topics for automating designs. Part and Assembly modelling and also the 2D drawing environment are introduced during this course. \nWho should attend?\n\n\n\n\nIt is recommended to anyone new to SOLIDWORKS. Whether you have migrated from 2D CAD\, another 3D system\, or have no experience with CAD at all this course is suitable for you. \n\n\n\n\nRead the full course description HERE \nContact Details:\nPaul Quinn\, Network Manager\nE: info@industry4skillnet.com\nT: 071 9317 485\nYlenia Morselli – ylenia@futurecast.info T. 085 /8675275\nEnquire Now \n 
URL:https://industry4skillnet.com/programme/solidworks-training/
CATEGORIES:SolidSolutions,Solidworks Training
ATTACH;FMTTYPE=image/png:https://industry4skillnet.com/wp-content/uploads/2024/05/Courses-Banners-Website-Industry-4.0-Skillnet-13.png
END:VEVENT
END:VCALENDAR