BEGIN:VCALENDAR
VERSION:2.0
PRODID:-//Industry 4.0 Skillnet - ECPv6.15.20//NONSGML v1.0//EN
CALSCALE:GREGORIAN
METHOD:PUBLISH
X-ORIGINAL-URL:https://industry4skillnet.com
X-WR-CALDESC:Events for Industry 4.0 Skillnet
REFRESH-INTERVAL;VALUE=DURATION:PT1H
X-Robots-Tag:noindex
X-PUBLISHED-TTL:PT1H
BEGIN:VTIMEZONE
TZID:Europe/Dublin
BEGIN:STANDARD
TZOFFSETFROM:+0000
TZOFFSETTO:+0100
TZNAME:IST
DTSTART:20230326T010000
END:STANDARD
BEGIN:DAYLIGHT
TZOFFSETFROM:+0100
TZOFFSETTO:+0000
TZNAME:GMT
DTSTART:20231029T010000
END:DAYLIGHT
BEGIN:STANDARD
TZOFFSETFROM:+0000
TZOFFSETTO:+0100
TZNAME:IST
DTSTART:20240331T010000
END:STANDARD
BEGIN:DAYLIGHT
TZOFFSETFROM:+0100
TZOFFSETTO:+0000
TZNAME:GMT
DTSTART:20241027T010000
END:DAYLIGHT
BEGIN:STANDARD
TZOFFSETFROM:+0000
TZOFFSETTO:+0100
TZNAME:IST
DTSTART:20250330T010000
END:STANDARD
BEGIN:DAYLIGHT
TZOFFSETFROM:+0100
TZOFFSETTO:+0000
TZNAME:GMT
DTSTART:20251026T010000
END:DAYLIGHT
END:VTIMEZONE
BEGIN:VEVENT
DTSTART;TZID=Europe/Dublin:20240508T053000
DTEND;TZID=Europe/Dublin:20240508T063000
DTSTAMP:20260419T221626
CREATED:20231213T145034Z
LAST-MODIFIED:20240305T102420Z
UID:10000999-1715146200-1715149800@industry4skillnet.com
SUMMARY:Programmable Logic Controllers - Allen Bradley Course
DESCRIPTION:/ Location: Dublin  Dates: May 8th\, 9th\, 10th\, 16th\, 17th\nylenia@futurecast.info \nFull Price €1\,400 / Industry 4.0 Skillnet Price €1\,120 \nIndustry 4.0 Skillnet funding is available to Irish Private Construction\, Manufacturing and Quarrying companies and Sole Traders. \nPLC’s are at the centre of modern automation systems. If you can understand how PLC’s think and how they generate fault messages\, then you can use them as a powerful diagnostic tool. Our PLC course will enable maintenance staff to interrogate PLC code to determine the cause of machine faults and hang-ups. The course is  run using Allen Bradley PLCs but we can also offer Omron. \nLearners will learn good coding structure that makes programs and Data Blocks easy to follow. Our experienced developers have ensured that learners will experience and practice code structures that are routinely seen in industry. \nQQI Accreditation and Progression \n6N5370 Programmable Logic Controllers This Award is one component required for the Major Award 6M5154 Maintenance Skills Technology. \nRead the full course description HERE \n\nContact Details:\nPaul Quinn\, Network Manager\nE: info@industry4skillnet.com\nT: 071 9317 485\nYlenia Morselli – ylenia@futurecast.info\n  \nEnquire Now
URL:https://industry4skillnet.com/programme/programmable-logic-controllers-allen-bradley-course/
CATEGORIES:Programmable Logic Controllers,TechnoTraining
ATTACH;FMTTYPE=image/jpeg:https://industry4skillnet.com/wp-content/uploads/2023/06/Programmable-Logic-Controllers-Allen-Bradley-Course-Industry-4.0-Skillnet.jpg
END:VEVENT
END:VCALENDAR