BEGIN:VCALENDAR
VERSION:2.0
PRODID:-//Industry 4.0 Skillnet - ECPv6.15.20//NONSGML v1.0//EN
CALSCALE:GREGORIAN
METHOD:PUBLISH
X-ORIGINAL-URL:https://industry4skillnet.com
X-WR-CALDESC:Events for Industry 4.0 Skillnet
REFRESH-INTERVAL;VALUE=DURATION:PT1H
X-Robots-Tag:noindex
X-PUBLISHED-TTL:PT1H
BEGIN:VTIMEZONE
TZID:Europe/Dublin
BEGIN:STANDARD
TZOFFSETFROM:+0000
TZOFFSETTO:+0100
TZNAME:IST
DTSTART:20240331T010000
END:STANDARD
BEGIN:DAYLIGHT
TZOFFSETFROM:+0100
TZOFFSETTO:+0000
TZNAME:GMT
DTSTART:20241027T010000
END:DAYLIGHT
BEGIN:STANDARD
TZOFFSETFROM:+0000
TZOFFSETTO:+0100
TZNAME:IST
DTSTART:20250330T010000
END:STANDARD
BEGIN:DAYLIGHT
TZOFFSETFROM:+0100
TZOFFSETTO:+0000
TZNAME:GMT
DTSTART:20251026T010000
END:DAYLIGHT
BEGIN:STANDARD
TZOFFSETFROM:+0000
TZOFFSETTO:+0100
TZNAME:IST
DTSTART:20260329T010000
END:STANDARD
BEGIN:DAYLIGHT
TZOFFSETFROM:+0100
TZOFFSETTO:+0000
TZNAME:GMT
DTSTART:20261025T010000
END:DAYLIGHT
BEGIN:STANDARD
TZOFFSETFROM:+0000
TZOFFSETTO:+0100
TZNAME:IST
DTSTART:20270328T010000
END:STANDARD
BEGIN:DAYLIGHT
TZOFFSETFROM:+0100
TZOFFSETTO:+0000
TZNAME:GMT
DTSTART:20271031T010000
END:DAYLIGHT
END:VTIMEZONE
BEGIN:VEVENT
DTSTART;TZID=Europe/Dublin:20260401T080000
DTEND;TZID=Europe/Dublin:20260401T080000
DTSTAMP:20260420T121120
CREATED:20240820T113712Z
LAST-MODIFIED:20260331T084327Z
UID:10001344-1775030400-1775030400@industry4skillnet.com
SUMMARY:Postgraduate Certificate in Modern Methods of Construction – Level 9
DESCRIPTION:Location: Online – Open Application April 1st – Closing Application August 21st \nIndustry 4.0 Skillnet provide funding to the Irish Private sector and registered Sole trader\, not individuals. \n\n\n\n\n\n\n\nPostgraduate Certificate in Modern Methods of Construction L9 – University of Galway\nIndustry 4.0 Skillnet is thrilled to collaborate with University of Galway to offer funding towards a suite of courses in Construction Innovation\, Automation and Control to employees of the Construction\, Manufacturing and Quarrying private sectors. \nOverview\nThis 30 ECTS credit Level 9 Postgraduate Certificate in Modern Methods of Construction focuses on the latest advancements and sustainable practices in the construction sector. Delivered in a fully flexible format to accommodate working professionals\, this one-year course offers modules in Sustainability Planning in Construction\, Digital Construction Technologies and Modern Methods of Construction. \nWho should attend?\n\n\n\n\nIndividuals with a Level 8 qualification who are looking to progress their careers in modern construction techniques. Professionals from various sectors within the Built Environment will find this programme valuable for career advancement\, particularly in acquiring skills in sustainability\, digitalisation\, and modern construction methods. \n\n\n\n\n\n\n\n\n\n\n\n\n\n\n\n\n\n\n\n\n\nOverview of Programme Content\nModules \n\nSustainability Planning in Construction\nDigital Construction Technologies\nModern Methods of Construction\n\nProgramme Delivery:\nThis Postgraduate Certificate programme is delivered part-time\, online over one academic year with a flexible learning approach designed to accommodate your schedule. \nDelivery is via live online lectures one evening per week (7-9.00pm) and one weekly lunchtime session (12-1pm). \n\n\n\n\n\n\n\n\nEntry Requirements\nA Level 8 or Level 7 qualification or a recognised professional qualification with relevant industrial experience or equivalent is necessary for entry into this programme. \nLearner Outcome:\nParticipants will gain a comprehensive understanding of the processes required to develop and implement sustainable and digital construction methods. The programme aims to provide training\, skills\, and practical experience to manage and deliver projects effectively using modern construction principles. This course is ideal for recent graduates and experienced professionals looking to enhance their skills in response to industry demands. \n\n\n\n\n\n\n\n\n\n\n\n\n\n\n\n\nFull Price €4\,250 annual divided by semester:\nPer Semester fees: €2\,125 – Industry 4.0 Skillnet 40% funding =€1\,275\nPlease visit University of Galway to apply for the courses by August 21st!  \n  \nFunding is limited and subject to availability at time of request \nGet in touch with us today and invest in your future! \nYlenia Morselli\, Network Manager – info@industry4skillnet.com +353 (0)85 8675275 \n  \nEligibility Criteria: Funding is available only to successful candidates employed in the Irish Private Sector and Sole Traders. \n\n\n\n\n\n\nContact Details:\nE: info@industry4skillnet.com / Jack@futurecast.info\n  \nEnquire Now
URL:https://industry4skillnet.com/programme/postgraduate-certificate-in-modern-methods-of-construction/2026-04-01/
CATEGORIES:Modern Method of Construction,Postgraduate Certificate in Modern Methods of Construction – Level 9,Third Level Courses,University of Galway
ATTACH;FMTTYPE=image/png:https://industry4skillnet.com/wp-content/uploads/2024/07/Postgraduate-Certificate-in-Modern-Methods-of-Construction.png
END:VEVENT
BEGIN:VEVENT
DTSTART;TZID=Europe/Dublin:20260401T050000
DTEND;TZID=Europe/Dublin:20260401T053000
DTSTAMP:20260420T121120
CREATED:20250603T161322Z
LAST-MODIFIED:20260331T074435Z
UID:10001339-1775019600-1775021400@industry4skillnet.com
SUMMARY:Diploma in Manufacturing Automation
DESCRIPTION:Location: Blended – Open Application April 1st – Closing Application August 21st \nFunding is limited and subject to availability at time of request. \nIndustry 4.0 Skillnet funding is available to Irish Private Construction\, Manufacturing\, and Quarrying companies and Sole Traders. \n\n\n\nCertification: The Diploma in Manufacturing Automation (Level 8) is aligned with the Irish National Framework of Qualifications (NFQ) and is awarded by University of Galway. \n\n\n\n\n\n\nDiploma in Manufacturing Automation – University of Galway\nIndustry 4.0 Skillnet is thrilled to collaborate with University of Galway to offer funding towards a suite of courses in Construction Innovation\, Automation and Control to employees of the Construction\, Manufacturing and Quarrying private sectors. \nOverview\nThe Diploma in Manufacturing Automation equips students with the skills and knowledge required to work with automated tools in the manufacturing industry. Learners will gain a solid understanding of manufacturing automation and programming through both theoretical study and practical application. Designed for those looking to operate\, manage\, and troubleshoot automated systems\, this course provides essential hands-on experience to prepare graduates for careers in modern manufacturing. \nWho should attend?\n\n\n\n\nThe course is designed for working professionals\, allowing them to upskill while employed. It helps participants enhance their employability\, address skills gaps\, and build key competencies. Professionals from various sectors\, including Construction\, Manufacturing\, and Quarrying\, will find this programme valuable for career enhancement​ \n\n\n\n\n\n\n\n\n\n\n\n\n\n\n\n\n\n\n\n\nLearner Outcomes:\nAt the end of the course\, students will be able to: \n\nIdentify cases in industry where sensors\, actuators\, controllers\, could be networked\, and controlled by programmable logic controllers (PLCs) effectively.\nImplement a solution using commercial components to develop an automated system.\nExtract and analyse real-time data for further process improvement.\nDiagnose problems by thinking critically\, innovating and collaborating through team-based work.\nEvaluate\, through written and oral communication\, technical findings concerning industrial automation systems.\nValue lifelong personal and professional attributes including communication\, interpersonal\, analytical\, enterprising and problem solving skills in vibrant\, technologically advanced economies.\n\n\n\n\n\n\n\n\n\nCourse Content\nModules: \n\nEnterprise Simulation for Digital Twinning with Project\nRobotics & automated systems with Project\nProgramming Sensor & Actuators with Project*\n\n*Students will need access to a Windows laptop for the Programming Sensors and Actuators module\, as the software doesn’t run on Apple. \nProgramme Delivery:\nThis Diploma programme is delivered part-time over one academic year with a blended learning approach designed to accommodate your schedule. Lectures and course materials are delivered online\, allowing you to study at your convenience. Find out more \n\n\n\n\n\n\n\n\n\n\n\n\n\n\n\n\n  \nPlease visit University of Galway to apply for the course by August 22nd!  \nFull Price Annual Fee €2\,720 divided by semester:\nPer Semester Fee: €1\,360 – I4S 40% funding = €816\nFunding is limited and subject to availability at time of request \nGet in touch with us today and invest in your future! \nYlenia Morselli\, Network Manager – info@industry4skillnet.com +353 (0)85 8675275 \nEligibility Criteria: Funding is available only to successful candidate employed in the Irish Private Sector and registered Sole Traders\, not individuals. \n\n\n\n\n\n\n\n\n\n\n\n\n\n\n\n\n\nGet in touch with us today: \n\n\n\n\n\n\n\n\nE: info@industry4skillnet.com \nEnquire Now
URL:https://industry4skillnet.com/programme/diploma-in-manufacturing-automation/2026-04-01/
CATEGORIES:Digital Construction,Manufacturing Automation,online course,University of Galway
ATTACH;FMTTYPE=image/png:https://industry4skillnet.com/wp-content/uploads/2025/05/Industry-4.0-Skillnet_Diploma-in-Manufacturing-Automation.png
END:VEVENT
BEGIN:VEVENT
DTSTART;TZID=Europe/Dublin:20250905T050000
DTEND;TZID=Europe/Dublin:20250905T053000
DTSTAMP:20260420T121120
CREATED:20250603T160451Z
LAST-MODIFIED:20250603T161816Z
UID:10001271-1757048400-1757050200@industry4skillnet.com
SUMMARY:Micro-credential in Modern Methods of Construction
DESCRIPTION:Location: Online – Date: September 5th \n40% funding available \nFunding is limited and subject to availability at time of request. \nIndustry 4.0 Skillnet funding is available to Irish Private Construction\, Manufacturing\, and Quarrying companies and Sole Traders. \n\n\n\nCertification: The Micro-credential in Modern Methods of Construction (10 ECTS) is aligned with the Irish National Framework of Qualifications (NFQ) and is awarded by University of Galway. \nRead the full course description HERE \n\n\n\nContact Details:\nE: info@industry4skillnet.com \nEnquire Now \n 
URL:https://industry4skillnet.com/programme/micro-credential-in-modern-methods-of-construction/
CATEGORIES:Digital Construction,Micro credential,Modern Method of Construction,online course,University of Galway
ATTACH;FMTTYPE=image/png:https://industry4skillnet.com/wp-content/uploads/2025/05/Industry-4.0-Skillnet_Modern-Methods-of-Construction_Micro-Credential.png
END:VEVENT
BEGIN:VEVENT
DTSTART;TZID=Europe/Dublin:20250829T050000
DTEND;TZID=Europe/Dublin:20250829T053000
DTSTAMP:20260420T121120
CREATED:20250603T155134Z
LAST-MODIFIED:20250603T155134Z
UID:10001269-1756443600-1756445400@industry4skillnet.com
SUMMARY:Postgraduate Certificate in Modern Methods of Construction
DESCRIPTION:Location: Online – Date: August 29th \n40% funding available \nFunding is limited and subject to availability at time of request. \nIndustry 4.0 Skillnet funding is available to Irish Private Construction\, Manufacturing\, and Quarrying companies and Sole Traders. \n\n\n\nCertification: The Postgraduate Certificate in Modern Methods of Construction (Level 9) is aligned with the Irish National Framework of Qualifications (NFQ) and is awarded by University of Galway. \nRead the full course description HERE \n\n\n\nContact Details:\nE: info@industry4skillnet.com \nEnquire Now \n 
URL:https://industry4skillnet.com/programme/postgraduate-certificate-in-modern-methods-of-construction-2/
CATEGORIES:online course,Postgraduate Certificate in Modern Methods of Construction – Level 9,University of Galway
ATTACH;FMTTYPE=image/png:https://industry4skillnet.com/wp-content/uploads/2024/07/Postgraduate-Certificate-in-Modern-Methods-of-Construction.png
END:VEVENT
BEGIN:VEVENT
DTSTART;TZID=Europe/Dublin:20250822T050000
DTEND;TZID=Europe/Dublin:20250822T053000
DTSTAMP:20260420T121120
CREATED:20250603T155950Z
LAST-MODIFIED:20250603T155950Z
UID:10001270-1755838800-1755840600@industry4skillnet.com
SUMMARY:Micro-credential in Digital Construction Technologies
DESCRIPTION:Location: Online – Date: August 22nd \n40% funding available \nFunding is limited and subject to availability at time of request. \nIndustry 4.0 Skillnet funding is available to Irish Private Construction\, Manufacturing\, and Quarrying companies and Sole Traders. \n\n\n\nCertification: The Micro-credential in Digital Construction Technologies (10 ECTS) is aligned with the Irish National Framework of Qualifications (NFQ) and is awarded by University of Galway. \nRead the full course description HERE \n\n\n\nContact Details:\nE: info@industry4skillnet.com \nEnquire Now \n 
URL:https://industry4skillnet.com/programme/micro-credential-in-digital-construction-technologies/
CATEGORIES:Digital Construction,Micro credential,online course,University of Galway
ATTACH;FMTTYPE=image/png:https://industry4skillnet.com/wp-content/uploads/2025/05/Industry-4.0-Skillnet_Digital-Construction-Technologies_Micro-Credential.png
END:VEVENT
END:VCALENDAR