BEGIN:VCALENDAR
VERSION:2.0
PRODID:-//Industry 4.0 Skillnet - ECPv6.15.20//NONSGML v1.0//EN
CALSCALE:GREGORIAN
METHOD:PUBLISH
X-WR-CALNAME:Industry 4.0 Skillnet
X-ORIGINAL-URL:https://industry4skillnet.com
X-WR-CALDESC:Events for Industry 4.0 Skillnet
REFRESH-INTERVAL;VALUE=DURATION:PT1H
X-Robots-Tag:noindex
X-PUBLISHED-TTL:PT1H
BEGIN:VTIMEZONE
TZID:Europe/Dublin
BEGIN:STANDARD
TZOFFSETFROM:+0000
TZOFFSETTO:+0100
TZNAME:IST
DTSTART:20210328T010000
END:STANDARD
BEGIN:DAYLIGHT
TZOFFSETFROM:+0100
TZOFFSETTO:+0000
TZNAME:GMT
DTSTART:20211031T010000
END:DAYLIGHT
BEGIN:STANDARD
TZOFFSETFROM:+0000
TZOFFSETTO:+0100
TZNAME:IST
DTSTART:20220327T010000
END:STANDARD
BEGIN:DAYLIGHT
TZOFFSETFROM:+0100
TZOFFSETTO:+0000
TZNAME:GMT
DTSTART:20221030T010000
END:DAYLIGHT
BEGIN:STANDARD
TZOFFSETFROM:+0000
TZOFFSETTO:+0100
TZNAME:IST
DTSTART:20230326T010000
END:STANDARD
BEGIN:DAYLIGHT
TZOFFSETFROM:+0100
TZOFFSETTO:+0000
TZNAME:GMT
DTSTART:20231029T010000
END:DAYLIGHT
END:VTIMEZONE
BEGIN:VEVENT
DTSTART;TZID=Europe/Dublin:20220314T000000
DTEND;TZID=Europe/Dublin:20220318T000000
DTSTAMP:20260420T141800
CREATED:20211222T121912Z
LAST-MODIFIED:20211222T121912Z
UID:10000670-1647216000-1647561600@industry4skillnet.com
SUMMARY:S7 Service 1 Course (ST-SERV1)
DESCRIPTION:This training programme comes with a Skillnet discount for member companies.  This course introduces the customer to a Siemens integrated automation system. Participants will build skills on commissioning\, troubleshooting and upgrading an automation system complete with HMI\, PLC\, drive and communications network. Students will learn to navigate STEP7\, use the built-in diagnostics tools and perform basic program modifications. Profibus DP configuration and troubleshooting are included using remote I/O\, a touch panel display and a drive system. \nEnquire Now
URL:https://industry4skillnet.com/programme/s7-service-1-course-st-serv1-3/
CATEGORIES:Siemens
END:VEVENT
BEGIN:VEVENT
DTSTART;TZID=Europe/Dublin:20220314T000000
DTEND;TZID=Europe/Dublin:20220318T000000
DTSTAMP:20260420T141800
CREATED:20211221T100541Z
LAST-MODIFIED:20211222T121809Z
UID:10000594-1647216000-1647561600@industry4skillnet.com
SUMMARY:TIA Portal Programming 2 Course (TIA-PRO2)
DESCRIPTION:This training programme comes with a Skillnet discount for member companies.  In this first part of the SIMATIC TIA Portal programming training\, we teach you the handling of the TIA Portal\, basic knowledge about the structure of the SIMATIC S7 automation system\, configuration and parameterization of hardware\, and the basics of standard PLC programming. You also receive an overview of HMI\, PROFINET IO\, and connecting drives. \nEnquire Now
URL:https://industry4skillnet.com/programme/tia-portal-programming-2-course-tia-pro2-4/
CATEGORIES:Siemens
END:VEVENT
BEGIN:VEVENT
DTSTART;TZID=Europe/Dublin:20220314T000000
DTEND;TZID=Europe/Dublin:20220318T000000
DTSTAMP:20260420T141800
CREATED:20211221T100441Z
LAST-MODIFIED:20211222T121714Z
UID:10000574-1647216000-1647561600@industry4skillnet.com
SUMMARY:TIA Portal Service 1 Course (TIA-SERV1)
DESCRIPTION:This training programme comes with a Skillnet discount for member companies.   In this first part of the SIMATIC TIA Portal service training\, we teach you the handling of the TIA Portal\, basic knowledge about the structure of the SIMATIC S7 automation system\, configuration and parameterization of hardware\, and the basics of programming. You also receive an overview of HMI\, PROFINET IO / PROFIBUS\, Distributed I/O and connecting drives. You will learn to diagnose and clear simple hardware faults and software errors. You will thus be capable of reducing downtimes in your plant. \nEnquire Now
URL:https://industry4skillnet.com/programme/tia-portal-service-1-course-tia-serv1-4/
CATEGORIES:Siemens
END:VEVENT
BEGIN:VEVENT
DTSTART;TZID=Europe/Dublin:20220314T000000
DTEND;TZID=Europe/Dublin:20220316T000000
DTSTAMP:20260420T141800
CREATED:20211222T122242Z
LAST-MODIFIED:20211222T122242Z
UID:10000701-1647216000-1647388800@industry4skillnet.com
SUMMARY:Programming Safety Related S7 PLC via STEP 7 Safety Advanced for SIMATIC TIA Portal (TIA-SAFETY)
DESCRIPTION:This training programme comes with a Skillnet discount for member companies.   In this course\, you will learn about configuring\, programming\, starting up\, diagnosing and troubleshooting of the failsafe CPUs of the SIMATIC S7 Safety PLC (no H systems) and the failsafe distributed ET200 systems.  \nEnquire Now
URL:https://industry4skillnet.com/programme/programming-safety-related-s7-plc-via-step-7-safety-advanced-for-simatic-tia-portal-tia-safety-2/
CATEGORIES:Siemens
END:VEVENT
BEGIN:VEVENT
DTSTART;TZID=Europe/Dublin:20220310T140000
DTEND;TZID=Europe/Dublin:20220310T150000
DTSTAMP:20260420T141800
CREATED:20220209T145849Z
LAST-MODIFIED:20220209T145849Z
UID:10000760-1646920800-1646924400@industry4skillnet.com
SUMMARY:Collaboration with BIM (Part 1)
DESCRIPTION:Full Details to come
URL:https://industry4skillnet.com/programme/collaboration-with-bim-part-1/
LOCATION:
END:VEVENT
BEGIN:VEVENT
DTSTART;TZID=Europe/Dublin:20220310T000000
DTEND;TZID=Europe/Dublin:20220410T000000
DTSTAMP:20260420T141800
CREATED:20211221T102928Z
LAST-MODIFIED:20220106T112659Z
UID:10000652-1646870400-1649548800@industry4skillnet.com
SUMMARY:CCP152 Studio 5000 Function Block Programming
DESCRIPTION:This training programme comes with a Skillnet discount for member companies.  This course is a skill-building programming course that provides you with an understanding of Studio 5000 Logix Designer function block diagrams and terminology. This course also provides you with the resources and hands- on practice required to efficiently program a Logix5000 controller using function block diagrams. \nEnquire Now
URL:https://industry4skillnet.com/programme/ccp152-studio-5000-function-block-programming-2/
CATEGORIES:Rockwell Automation
END:VEVENT
BEGIN:VEVENT
DTSTART;TZID=Europe/Dublin:20220309T000000
DTEND;TZID=Europe/Dublin:20220311T000000
DTSTAMP:20260420T141800
CREATED:20211214T103359Z
LAST-MODIFIED:20211221T095707Z
UID:10000408-1646784000-1646956800@industry4skillnet.com
SUMMARY:QQI Train the trainer
DESCRIPTION:This training programme comes with a 30% Skillnet discount for member companies.  This practical course enables you to overcome barriers to effectively and confidently deliver high impact training. This course provides guidance on the effective planning and delivery of training in the office\, shop floor\, retail\, factory\, hotel\, laboratory or other areas including beauty\, hairdressing\, health and safety. We have had people from all areas attend this course. \nEnquire Now
URL:https://industry4skillnet.com/programme/qqi-train-the-trainer-4/
CATEGORIES:Project Management
END:VEVENT
BEGIN:VEVENT
DTSTART;TZID=Europe/Dublin:20220307T000000
DTEND;TZID=Europe/Dublin:20220311T000000
DTSTAMP:20260420T141800
CREATED:20211222T122244Z
LAST-MODIFIED:20211222T122244Z
UID:10000703-1646611200-1646956800@industry4skillnet.com
SUMMARY:840D Solution Line Service Course (NC-84SL-SK)
DESCRIPTION:This training programme comes with a Skillnet discount for member companies.   This course is aimed at Maintenance and Service Engineers who wish to maintain and service SINUMERIK 840D sl equipment. On completion of the course delegates will have the knowledge and abilities necessary to handle ongoing service and maintenance work on the machine tools SINUMERIK 840D sl and SINAMICS S120.  \nEnquire Now
URL:https://industry4skillnet.com/programme/840d-solution-line-service-course-nc-84sl-sk/
CATEGORIES:Siemens
END:VEVENT
BEGIN:VEVENT
DTSTART;TZID=Europe/Dublin:20220307T000000
DTEND;TZID=Europe/Dublin:20220311T000000
DTSTAMP:20260420T141800
CREATED:20211222T122025Z
LAST-MODIFIED:20211222T122025Z
UID:10000692-1646611200-1646956800@industry4skillnet.com
SUMMARY:PROFINET with Industrial Ethernet in the TIA Portal Course (IK-TIAPN)
DESCRIPTION:This training programme comes with a Skillnet discount for member companies.  Using SIMATIC NET components\, you will learn how to parameterize\, commission and troubleshoot a PROFINET network quickly and effectively. Numerous practical exercises reinforce the acquired theoretical knowledge.  \nEnquire Now
URL:https://industry4skillnet.com/programme/profinet-with-industrial-ethernet-in-the-tia-portal-course-ik-tiapn/
CATEGORIES:Siemens
END:VEVENT
BEGIN:VEVENT
DTSTART;TZID=Europe/Dublin:20220307T000000
DTEND;TZID=Europe/Dublin:20220311T000000
DTSTAMP:20260420T141800
CREATED:20211222T121943Z
LAST-MODIFIED:20211222T121943Z
UID:10000678-1646611200-1646956800@industry4skillnet.com
SUMMARY:S7 Programming 1 Course (ST-PRO1)
DESCRIPTION:This training programme comes with a Skillnet discount for member companies.  This course is primarily aimed at personnel who program other vendors PLCs and are looking to migrate their skills onto the S7 CPU.  \nEnquire Now
URL:https://industry4skillnet.com/programme/s7-programming-1-course-st-pro1-2/
CATEGORIES:Siemens
END:VEVENT
BEGIN:VEVENT
DTSTART;TZID=Europe/Dublin:20220307T000000
DTEND;TZID=Europe/Dublin:20220311T000000
DTSTAMP:20260420T141800
CREATED:20211221T100525Z
LAST-MODIFIED:20211222T121755Z
UID:10000586-1646611200-1646956800@industry4skillnet.com
SUMMARY:TIA Portal Programming 1 Course (TIA-PRO1)
DESCRIPTION:This training programme comes with a Skillnet discount for member companies.  In this first part of the SIMATIC TIA Portal programming training\, we teach you the handling of the TIA Portal\, basic knowledge about the structure of the SIMATIC S7 automation system\, configuration and parameterization of hardware\, and the basics of standard PLC programming. You also receive an overview of HMI\, PROFINET IO\, and connecting drives. \nEnquire Now
URL:https://industry4skillnet.com/programme/tia-portal-programming-1-course-tia-pro1-4/
CATEGORIES:Siemens
END:VEVENT
BEGIN:VEVENT
DTSTART;TZID=Europe/Dublin:20220307T000000
DTEND;TZID=Europe/Dublin:20220311T000000
DTSTAMP:20260420T141800
CREATED:20211221T100441Z
LAST-MODIFIED:20211222T121714Z
UID:10000573-1646611200-1646956800@industry4skillnet.com
SUMMARY:TIA Portal Service 1 Course (TIA-SERV1)
DESCRIPTION:This training programme comes with a Skillnet discount for member companies.   In this first part of the SIMATIC TIA Portal service training\, we teach you the handling of the TIA Portal\, basic knowledge about the structure of the SIMATIC S7 automation system\, configuration and parameterization of hardware\, and the basics of programming. You also receive an overview of HMI\, PROFINET IO / PROFIBUS\, Distributed I/O and connecting drives. You will learn to diagnose and clear simple hardware faults and software errors. You will thus be capable of reducing downtimes in your plant. \nEnquire Now
URL:https://industry4skillnet.com/programme/tia-portal-service-1-course-tia-serv1-3/
CATEGORIES:Siemens
END:VEVENT
BEGIN:VEVENT
DTSTART;TZID=Europe/Dublin:20220301T000000
DTEND;TZID=Europe/Dublin:20220303T000000
DTSTAMP:20260420T141800
CREATED:20211222T122330Z
LAST-MODIFIED:20211222T122330Z
UID:10000717-1646092800-1646265600@industry4skillnet.com
SUMMARY:Functional Safety for the Machine Industry Workshop & Certification (ST-NSST)
DESCRIPTION:This training programme comes with a Skillnet discount for member companies.  This workshop provides a practical view on the application of the standards. It is appropriate for quality managers\, project personnel\, programmers\, engineering and maintenance personnel involved with the design\, commissioning and sustaining of functional machine safety systems in an industrial environment. The examination module is for those personnel who have completed the required pre-requisite Functional Safety for the Machine Industry Workshop and wish to enter the associated examination module. \nEnquire Now
URL:https://industry4skillnet.com/programme/functional-safety-for-the-machine-industry-workshop-certification-st-nsst/
CATEGORIES:Siemens
END:VEVENT
BEGIN:VEVENT
DTSTART;TZID=Europe/Dublin:20220301T000000
DTEND;TZID=Europe/Dublin:20220303T000000
DTSTAMP:20260420T141800
CREATED:20211222T122228Z
LAST-MODIFIED:20211222T122228Z
UID:10000700-1646092800-1646265600@industry4skillnet.com
SUMMARY:Programming Safety Related S7 PLC via STEP 7 Safety Advanced for SIMATIC TIA Portal (TIA-SAFETY)
DESCRIPTION:This training programme comes with a Skillnet discount for member companies.   In this course\, you will learn about configuring\, programming\, starting up\, diagnosing and troubleshooting of the failsafe CPUs of the SIMATIC S7 Safety PLC (no H systems) and the failsafe distributed ET200 systems.  \nEnquire Now
URL:https://industry4skillnet.com/programme/programming-safety-related-s7-plc-via-step-7-safety-advanced-for-simatic-tia-portal-tia-safety/
CATEGORIES:Siemens
END:VEVENT
BEGIN:VEVENT
DTSTART;TZID=Europe/Dublin:20220228T000000
DTEND;TZID=Europe/Dublin:20220304T000000
DTSTAMP:20260420T141800
CREATED:20211222T121925Z
LAST-MODIFIED:20211222T121925Z
UID:10000675-1646006400-1646352000@industry4skillnet.com
SUMMARY:S7 Service 3 Course (ST-SERV3)
DESCRIPTION:This training programme comes with a Skillnet discount for member companies.  This course uses a ‘hands-on’ practical approach to reinforce the theoretical aspects of the training. Practical tasks are undertaken using a simulation rig\, distributed Profibus nodes and S7-300. This course is for SIMATIC S7-300-400 PLC users with basic SIMATIC control system knowledge who install or maintain automation systems and their application programs.  \nEnquire Now
URL:https://industry4skillnet.com/programme/s7-service-3-course-st-serv3/
CATEGORIES:Siemens
END:VEVENT
BEGIN:VEVENT
DTSTART;TZID=Europe/Dublin:20220228T000000
DTEND;TZID=Europe/Dublin:20220304T000000
DTSTAMP:20260420T141800
CREATED:20211222T121912Z
LAST-MODIFIED:20211222T121912Z
UID:10000669-1646006400-1646352000@industry4skillnet.com
SUMMARY:S7 Service 1 Course (ST-SERV1)
DESCRIPTION:This training programme comes with a Skillnet discount for member companies.  This course introduces the customer to a Siemens integrated automation system. Participants will build skills on commissioning\, troubleshooting and upgrading an automation system complete with HMI\, PLC\, drive and communications network. Students will learn to navigate STEP7\, use the built-in diagnostics tools and perform basic program modifications. Profibus DP configuration and troubleshooting are included using remote I/O\, a touch panel display and a drive system. \nEnquire Now
URL:https://industry4skillnet.com/programme/s7-service-1-course-st-serv1-2/
CATEGORIES:Siemens
END:VEVENT
BEGIN:VEVENT
DTSTART;TZID=Europe/Dublin:20220228T000000
DTEND;TZID=Europe/Dublin:20220302T000000
DTSTAMP:20260420T141800
CREATED:20211215T145648Z
LAST-MODIFIED:20220104T100216Z
UID:10000505-1646006400-1646179200@industry4skillnet.com
SUMMARY:Virtual Classroom Training - Civil 3D Essentials Training Course
DESCRIPTION:This training programme comes with a 30% Skillnet discount for member companies.  This course is designed to teach the essential elements of AutoCAD Civil 3D to new users. Delegates should have a working knowledge of AutoCAD.It is also recommended that delegates have a working knowledge of Microsoft Windows. \nEnquire Now
URL:https://industry4skillnet.com/programme/virtual-classroom-training-civil-3d-essentials-training-course-5/
CATEGORIES:CADLINE
END:VEVENT
BEGIN:VEVENT
DTSTART;TZID=Europe/Dublin:20220228T000000
DTEND;TZID=Europe/Dublin:20220301T000000
DTSTAMP:20260420T141800
CREATED:20220104T100246Z
LAST-MODIFIED:20220104T100246Z
UID:10000729-1646006400-1646092800@industry4skillnet.com
SUMMARY:Virtual Classroom Training - AutoCAD Intermediate Training Course
DESCRIPTION:This training programme comes with a 30% Skillnet discount for member companies.  This course is designed for the experienced AutoCAD user who requires additional training. It incorporates the features\, commands\, and techniques for becoming more productive when creating\, annotating and printing drawings with AutoCAD. This intermediate-level course continues to build on the basic concepts of the AutoCAD for New Users Course. \nEnquire Now
URL:https://industry4skillnet.com/programme/virtual-classroom-training-autocad-intermediate-training-course-2/
CATEGORIES:CADLINE
END:VEVENT
BEGIN:VEVENT
DTSTART;TZID=Europe/Dublin:20220228T000000
DTEND;TZID=Europe/Dublin:20220301T000000
DTSTAMP:20260420T141800
CREATED:20211215T145648Z
LAST-MODIFIED:20220104T100217Z
UID:10000506-1646006400-1646092800@industry4skillnet.com
SUMMARY:Virtual Classroom Training - Introduction to QGIS Training Course
DESCRIPTION:This training programme comes with a 30% Skillnet discount for member companies.  This two-day intensive course introduces the core functionality of QGIS\, taking you through all the tools you will need to get started with the software. QGIS is a free desktop GIS\, providing the same GIS functionality as commercial desktop GIS solutions such as MapInfo or ArcGIS for Desktop.The course covers topics including\, getting started with QGIS\, map navigation and general mapping tips\, selecting and querying your data\, applying symbology\, data analysis and editing\, accessing external data sources and cartographic output. \nEnquire Now
URL:https://industry4skillnet.com/programme/virtual-classroom-training-introduction-to-qgis-training-course-4/
CATEGORIES:CADLINE
END:VEVENT
BEGIN:VEVENT
DTSTART;TZID=Europe/Dublin:20220228T000000
DTEND;TZID=Europe/Dublin:20220228T000000
DTSTAMP:20260420T141800
CREATED:20220104T100302Z
LAST-MODIFIED:20220104T100302Z
UID:10000738-1646006400-1646006400@industry4skillnet.com
SUMMARY:Virtual Classroom Training - Site Simulation with Autodesk Navisworks - Beyond The Basics
DESCRIPTION:This training programme comes with a 30% Skillnet discount for member companies.  The primary objective of this course is to teach users the basic commands necessary for professional 2D drawing\, design and drafting using Navisworks. \nEnquire Now
URL:https://industry4skillnet.com/programme/virtual-classroom-training-site-simulation-with-autodesk-navisworks-beyond-the-basics/
CATEGORIES:CADLINE
END:VEVENT
BEGIN:VEVENT
DTSTART;TZID=Europe/Dublin:20220224T000000
DTEND;TZID=Europe/Dublin:20220225T000000
DTSTAMP:20260420T141800
CREATED:20220104T100332Z
LAST-MODIFIED:20220104T100332Z
UID:10000748-1645660800-1645747200@industry4skillnet.com
SUMMARY:Virtual Classroom Training - AutoCAD Electrical Essentials Training Course
DESCRIPTION:This training programme comes with a 30% Skillnet discount for member companies.  This course teaches the production of Electrical Schematic Drawing\, Terminal Plan Drawing\, Bill of Materials in various formats\, Connection List reports and other associated reports using AutoCAD Electrical. We work up at least one project from a blank starting point\, and include during this project the generation of new symbol elements. It is entirely practical\, with a hands-onapproach and you will have your own professional CAD computer. You will be given your own bound set of course notes\, which includes a reference guide. \nEnquire Now
URL:https://industry4skillnet.com/programme/virtual-classroom-training-autocad-electrical-essentials-training-course-2/
CATEGORIES:CADLINE
END:VEVENT
BEGIN:VEVENT
DTSTART;TZID=Europe/Dublin:20220223T000000
DTEND;TZID=Europe/Dublin:20220225T000000
DTSTAMP:20260420T141800
CREATED:20211214T103357Z
LAST-MODIFIED:20211221T095706Z
UID:10000407-1645574400-1645747200@industry4skillnet.com
SUMMARY:QQI Train the trainer
DESCRIPTION:This training programme comes with a 30% Skillnet discount for member companies.  This practical course enables you to overcome barriers to effectively and confidently deliver high impact training. This course provides guidance on the effective planning and delivery of training in the office\, shop floor\, retail\, factory\, hotel\, laboratory or other areas including beauty\, hairdressing\, health and safety. We have had people from all areas attend this course. \nEnquire Now
URL:https://industry4skillnet.com/programme/qqi-train-the-trainer-3/
CATEGORIES:Project Management
END:VEVENT
BEGIN:VEVENT
DTSTART;TZID=Europe/Dublin:20220222T000000
DTEND;TZID=Europe/Dublin:20220224T000000
DTSTAMP:20260420T141800
CREATED:20211222T122257Z
LAST-MODIFIED:20211222T122257Z
UID:10000706-1645488000-1645660800@industry4skillnet.com
SUMMARY:SINAMICS S120 - Parameterizing and Commissioning in the TIA Portal (DR-S12-PMT)
DESCRIPTION:This training programme comes with a Skillnet discount for member companies.   In this course you learn to put the converter system SINAMICS S120 into operation using the PC-tool Startdrive in the TIA Portal. You can adapt the parameters to the respective application and perform diagnostics in case of a fault. \nEnquire Now
URL:https://industry4skillnet.com/programme/sinamics-s120-parameterizing-and-commissioning-in-the-tia-portal-dr-s12-pmt/
CATEGORIES:Siemens
END:VEVENT
BEGIN:VEVENT
DTSTART;TZID=Europe/Dublin:20220222T000000
DTEND;TZID=Europe/Dublin:20220224T000000
DTSTAMP:20260420T141800
CREATED:20211222T122257Z
LAST-MODIFIED:20211222T122257Z
UID:10000709-1645488000-1645660800@industry4skillnet.com
SUMMARY:Sinamics G120 Parameterizing and Commissioning Course (DR-G12-PM)
DESCRIPTION:This training programme comes with a Skillnet discount for member companies.   SINAMICS G120 allow the variable-speed operation of induction motors to drive pumps\, fans\, conveyor systems and many other machines. This course shows you how to handle the SINAMICS G120 inverter. \nEnquire Now
URL:https://industry4skillnet.com/programme/sinamics-g120-parameterizing-and-commissioning-course-dr-g12-pm/
CATEGORIES:Siemens
END:VEVENT
BEGIN:VEVENT
DTSTART;TZID=Europe/Dublin:20220221T000000
DTEND;TZID=Europe/Dublin:20220225T000000
DTSTAMP:20260420T141800
CREATED:20211222T122315Z
LAST-MODIFIED:20211222T122315Z
UID:10000714-1645401600-1645747200@industry4skillnet.com
SUMMARY:Simotion System and Programming Course (MC-SMO-SYS)
DESCRIPTION:This training programme comes with a Skillnet discount for member companies.  You will learn how to configure and start up the SIMOTION Motion Control system with the associated drives and visualization devices. \nEnquire Now
URL:https://industry4skillnet.com/programme/simotion-system-and-programming-course-mc-smo-sys/
CATEGORIES:Siemens
END:VEVENT
BEGIN:VEVENT
DTSTART;TZID=Europe/Dublin:20220221T000000
DTEND;TZID=Europe/Dublin:20220225T000000
DTSTAMP:20260420T141800
CREATED:20211221T100440Z
LAST-MODIFIED:20211222T121711Z
UID:10000570-1645401600-1645747200@industry4skillnet.com
SUMMARY:(Online) TIA Portal Service 1 Course (TIA-SERV1)
DESCRIPTION:This training programme comes with a Skillnet discount for member companies.   In this first part of the SIMATIC TIA Portal service training\, we teach you the handling of the TIA Portal\, basic knowledge about the structure of the SIMATIC S7 automation system\, configuration and parameterization of hardware\, and the basics of programming. You also receive an overview of HMI\, PROFINET IO / PROFIBUS\, Distributed I/O and connecting drives. You will learn to diagnose and clear simple hardware faults and software errors. You will thus be capable of reducing downtimes in your plant. \nEnquire Now
URL:https://industry4skillnet.com/programme/online-tia-portal-service-1-course-tia-serv1/
CATEGORIES:Siemens
END:VEVENT
BEGIN:VEVENT
DTSTART;TZID=Europe/Dublin:20220221T000000
DTEND;TZID=Europe/Dublin:20220224T000000
DTSTAMP:20260420T141800
CREATED:20211221T102829Z
LAST-MODIFIED:20220106T112559Z
UID:10000632-1645401600-1645660800@industry4skillnet.com
SUMMARY:CCP153 Studio 5000 Maintenance & Troubleshooting
DESCRIPTION:This training programme comes with a Skillnet discount for member companies.  This course is designed to teach you how to troubleshoot a previously operational ControlLogix system and restore to normal operation. The course introduces new tasks such as connecting to a network\, interpreting project execution\, editing ladder logic online\, and more. \nEnquire Now
URL:https://industry4skillnet.com/programme/ccp153-studio-5000-maintenance-troubleshooting/
CATEGORIES:Rockwell Automation
END:VEVENT
BEGIN:VEVENT
DTSTART;TZID=Europe/Dublin:20220221T000000
DTEND;TZID=Europe/Dublin:20220223T000000
DTSTAMP:20260420T141800
CREATED:20220104T100231Z
LAST-MODIFIED:20220104T100231Z
UID:10000727-1645401600-1645574400@industry4skillnet.com
SUMMARY:Virtual Revit Structures Essentials Training Course
DESCRIPTION:This training programme comes with a 30% Skillnet discount for member companies.  The primary objective of this course is to teach delegates the concepts of Building Information Modelling and introduce the tools for parametric design\, analysis and documentation using Revit Structure.  \nEnquire Now
URL:https://industry4skillnet.com/programme/virtual-revit-structures-essentials-training-course-2/
CATEGORIES:CADLINE
END:VEVENT
BEGIN:VEVENT
DTSTART;TZID=Europe/Dublin:20220216T000000
DTEND;TZID=Europe/Dublin:20220218T000000
DTSTAMP:20260420T141800
CREATED:20220104T100350Z
LAST-MODIFIED:20220104T100350Z
UID:10000753-1644969600-1645142400@industry4skillnet.com
SUMMARY:Virtual Classroom Training - Revit MEP Essentials Training Course
DESCRIPTION:This training programme comes with a 30% Skillnet discount for member companies.  The primary objective of this course is to teach delegates the concepts of building information modelling and introduce the tools for parametric engineering design and documentation using Revit MEP. \nEnquire Now
URL:https://industry4skillnet.com/programme/virtual-classroom-training-revit-mep-essentials-training-course-3/
CATEGORIES:CADLINE
END:VEVENT
BEGIN:VEVENT
DTSTART;TZID=Europe/Dublin:20220216T000000
DTEND;TZID=Europe/Dublin:20220218T000000
DTSTAMP:20260420T141800
CREATED:20211214T103538Z
LAST-MODIFIED:20211221T095828Z
UID:10000436-1644969600-1645142400@industry4skillnet.com
SUMMARY:QQI Effective People Management
DESCRIPTION:This training programme comes with a 30% Skillnet discount for member companies.  This practical course enables you to overcome barriers to effectively and confidently deliver high impact training. This course provides guidance on the effective planning and delivery of training in the office\, shop floor\, retail\, factory\, hotel\, laboratory or other areas including beauty\, hairdressing\, health and safety. We have had people from all areas attend this course. \nEnquire Now
URL:https://industry4skillnet.com/programme/qqi-effective-people-management-2/
CATEGORIES:Project Management
END:VEVENT
END:VCALENDAR