BEGIN:VCALENDAR
VERSION:2.0
PRODID:-//Industry 4.0 Skillnet - ECPv6.15.20//NONSGML v1.0//EN
CALSCALE:GREGORIAN
METHOD:PUBLISH
X-WR-CALNAME:Industry 4.0 Skillnet
X-ORIGINAL-URL:https://industry4skillnet.com
X-WR-CALDESC:Events for Industry 4.0 Skillnet
REFRESH-INTERVAL;VALUE=DURATION:PT1H
X-Robots-Tag:noindex
X-PUBLISHED-TTL:PT1H
BEGIN:VTIMEZONE
TZID:Europe/Dublin
BEGIN:STANDARD
TZOFFSETFROM:+0000
TZOFFSETTO:+0100
TZNAME:IST
DTSTART:20210328T010000
END:STANDARD
BEGIN:DAYLIGHT
TZOFFSETFROM:+0100
TZOFFSETTO:+0000
TZNAME:GMT
DTSTART:20211031T010000
END:DAYLIGHT
BEGIN:STANDARD
TZOFFSETFROM:+0000
TZOFFSETTO:+0100
TZNAME:IST
DTSTART:20220327T010000
END:STANDARD
BEGIN:DAYLIGHT
TZOFFSETFROM:+0100
TZOFFSETTO:+0000
TZNAME:GMT
DTSTART:20221030T010000
END:DAYLIGHT
BEGIN:STANDARD
TZOFFSETFROM:+0000
TZOFFSETTO:+0100
TZNAME:IST
DTSTART:20230326T010000
END:STANDARD
BEGIN:DAYLIGHT
TZOFFSETFROM:+0100
TZOFFSETTO:+0000
TZNAME:GMT
DTSTART:20231029T010000
END:DAYLIGHT
END:VTIMEZONE
BEGIN:VEVENT
DTSTART;TZID=Europe/Dublin:20220228T000000
DTEND;TZID=Europe/Dublin:20220301T000000
DTSTAMP:20260420T193844
CREATED:20211215T145648Z
LAST-MODIFIED:20220104T100217Z
UID:10000506-1646006400-1646092800@industry4skillnet.com
SUMMARY:Virtual Classroom Training - Introduction to QGIS Training Course
DESCRIPTION:This training programme comes with a 30% Skillnet discount for member companies.  This two-day intensive course introduces the core functionality of QGIS\, taking you through all the tools you will need to get started with the software. QGIS is a free desktop GIS\, providing the same GIS functionality as commercial desktop GIS solutions such as MapInfo or ArcGIS for Desktop.The course covers topics including\, getting started with QGIS\, map navigation and general mapping tips\, selecting and querying your data\, applying symbology\, data analysis and editing\, accessing external data sources and cartographic output. \nEnquire Now
URL:https://industry4skillnet.com/programme/virtual-classroom-training-introduction-to-qgis-training-course-4/
CATEGORIES:CADLINE
END:VEVENT
BEGIN:VEVENT
DTSTART;TZID=Europe/Dublin:20220228T000000
DTEND;TZID=Europe/Dublin:20220228T000000
DTSTAMP:20260420T193844
CREATED:20220104T100302Z
LAST-MODIFIED:20220104T100302Z
UID:10000738-1646006400-1646006400@industry4skillnet.com
SUMMARY:Virtual Classroom Training - Site Simulation with Autodesk Navisworks - Beyond The Basics
DESCRIPTION:This training programme comes with a 30% Skillnet discount for member companies.  The primary objective of this course is to teach users the basic commands necessary for professional 2D drawing\, design and drafting using Navisworks. \nEnquire Now
URL:https://industry4skillnet.com/programme/virtual-classroom-training-site-simulation-with-autodesk-navisworks-beyond-the-basics/
CATEGORIES:CADLINE
END:VEVENT
BEGIN:VEVENT
DTSTART;TZID=Europe/Dublin:20220224T000000
DTEND;TZID=Europe/Dublin:20220225T000000
DTSTAMP:20260420T193844
CREATED:20220104T100332Z
LAST-MODIFIED:20220104T100332Z
UID:10000748-1645660800-1645747200@industry4skillnet.com
SUMMARY:Virtual Classroom Training - AutoCAD Electrical Essentials Training Course
DESCRIPTION:This training programme comes with a 30% Skillnet discount for member companies.  This course teaches the production of Electrical Schematic Drawing\, Terminal Plan Drawing\, Bill of Materials in various formats\, Connection List reports and other associated reports using AutoCAD Electrical. We work up at least one project from a blank starting point\, and include during this project the generation of new symbol elements. It is entirely practical\, with a hands-onapproach and you will have your own professional CAD computer. You will be given your own bound set of course notes\, which includes a reference guide. \nEnquire Now
URL:https://industry4skillnet.com/programme/virtual-classroom-training-autocad-electrical-essentials-training-course-2/
CATEGORIES:CADLINE
END:VEVENT
BEGIN:VEVENT
DTSTART;TZID=Europe/Dublin:20220223T000000
DTEND;TZID=Europe/Dublin:20220225T000000
DTSTAMP:20260420T193844
CREATED:20211214T103357Z
LAST-MODIFIED:20211221T095706Z
UID:10000407-1645574400-1645747200@industry4skillnet.com
SUMMARY:QQI Train the trainer
DESCRIPTION:This training programme comes with a 30% Skillnet discount for member companies.  This practical course enables you to overcome barriers to effectively and confidently deliver high impact training. This course provides guidance on the effective planning and delivery of training in the office\, shop floor\, retail\, factory\, hotel\, laboratory or other areas including beauty\, hairdressing\, health and safety. We have had people from all areas attend this course. \nEnquire Now
URL:https://industry4skillnet.com/programme/qqi-train-the-trainer-3/
CATEGORIES:Project Management
END:VEVENT
BEGIN:VEVENT
DTSTART;TZID=Europe/Dublin:20220222T000000
DTEND;TZID=Europe/Dublin:20220224T000000
DTSTAMP:20260420T193844
CREATED:20211222T122257Z
LAST-MODIFIED:20211222T122257Z
UID:10000706-1645488000-1645660800@industry4skillnet.com
SUMMARY:SINAMICS S120 - Parameterizing and Commissioning in the TIA Portal (DR-S12-PMT)
DESCRIPTION:This training programme comes with a Skillnet discount for member companies.   In this course you learn to put the converter system SINAMICS S120 into operation using the PC-tool Startdrive in the TIA Portal. You can adapt the parameters to the respective application and perform diagnostics in case of a fault. \nEnquire Now
URL:https://industry4skillnet.com/programme/sinamics-s120-parameterizing-and-commissioning-in-the-tia-portal-dr-s12-pmt/
CATEGORIES:Siemens
END:VEVENT
BEGIN:VEVENT
DTSTART;TZID=Europe/Dublin:20220222T000000
DTEND;TZID=Europe/Dublin:20220224T000000
DTSTAMP:20260420T193844
CREATED:20211222T122257Z
LAST-MODIFIED:20211222T122257Z
UID:10000709-1645488000-1645660800@industry4skillnet.com
SUMMARY:Sinamics G120 Parameterizing and Commissioning Course (DR-G12-PM)
DESCRIPTION:This training programme comes with a Skillnet discount for member companies.   SINAMICS G120 allow the variable-speed operation of induction motors to drive pumps\, fans\, conveyor systems and many other machines. This course shows you how to handle the SINAMICS G120 inverter. \nEnquire Now
URL:https://industry4skillnet.com/programme/sinamics-g120-parameterizing-and-commissioning-course-dr-g12-pm/
CATEGORIES:Siemens
END:VEVENT
BEGIN:VEVENT
DTSTART;TZID=Europe/Dublin:20220221T000000
DTEND;TZID=Europe/Dublin:20220225T000000
DTSTAMP:20260420T193844
CREATED:20211222T122315Z
LAST-MODIFIED:20211222T122315Z
UID:10000714-1645401600-1645747200@industry4skillnet.com
SUMMARY:Simotion System and Programming Course (MC-SMO-SYS)
DESCRIPTION:This training programme comes with a Skillnet discount for member companies.  You will learn how to configure and start up the SIMOTION Motion Control system with the associated drives and visualization devices. \nEnquire Now
URL:https://industry4skillnet.com/programme/simotion-system-and-programming-course-mc-smo-sys/
CATEGORIES:Siemens
END:VEVENT
BEGIN:VEVENT
DTSTART;TZID=Europe/Dublin:20220221T000000
DTEND;TZID=Europe/Dublin:20220225T000000
DTSTAMP:20260420T193844
CREATED:20211221T100440Z
LAST-MODIFIED:20211222T121711Z
UID:10000570-1645401600-1645747200@industry4skillnet.com
SUMMARY:(Online) TIA Portal Service 1 Course (TIA-SERV1)
DESCRIPTION:This training programme comes with a Skillnet discount for member companies.   In this first part of the SIMATIC TIA Portal service training\, we teach you the handling of the TIA Portal\, basic knowledge about the structure of the SIMATIC S7 automation system\, configuration and parameterization of hardware\, and the basics of programming. You also receive an overview of HMI\, PROFINET IO / PROFIBUS\, Distributed I/O and connecting drives. You will learn to diagnose and clear simple hardware faults and software errors. You will thus be capable of reducing downtimes in your plant. \nEnquire Now
URL:https://industry4skillnet.com/programme/online-tia-portal-service-1-course-tia-serv1/
CATEGORIES:Siemens
END:VEVENT
BEGIN:VEVENT
DTSTART;TZID=Europe/Dublin:20220221T000000
DTEND;TZID=Europe/Dublin:20220224T000000
DTSTAMP:20260420T193844
CREATED:20211221T102829Z
LAST-MODIFIED:20220106T112559Z
UID:10000632-1645401600-1645660800@industry4skillnet.com
SUMMARY:CCP153 Studio 5000 Maintenance & Troubleshooting
DESCRIPTION:This training programme comes with a Skillnet discount for member companies.  This course is designed to teach you how to troubleshoot a previously operational ControlLogix system and restore to normal operation. The course introduces new tasks such as connecting to a network\, interpreting project execution\, editing ladder logic online\, and more. \nEnquire Now
URL:https://industry4skillnet.com/programme/ccp153-studio-5000-maintenance-troubleshooting/
CATEGORIES:Rockwell Automation
END:VEVENT
BEGIN:VEVENT
DTSTART;TZID=Europe/Dublin:20220221T000000
DTEND;TZID=Europe/Dublin:20220223T000000
DTSTAMP:20260420T193844
CREATED:20220104T100231Z
LAST-MODIFIED:20220104T100231Z
UID:10000727-1645401600-1645574400@industry4skillnet.com
SUMMARY:Virtual Revit Structures Essentials Training Course
DESCRIPTION:This training programme comes with a 30% Skillnet discount for member companies.  The primary objective of this course is to teach delegates the concepts of Building Information Modelling and introduce the tools for parametric design\, analysis and documentation using Revit Structure.  \nEnquire Now
URL:https://industry4skillnet.com/programme/virtual-revit-structures-essentials-training-course-2/
CATEGORIES:CADLINE
END:VEVENT
BEGIN:VEVENT
DTSTART;TZID=Europe/Dublin:20220216T000000
DTEND;TZID=Europe/Dublin:20220218T000000
DTSTAMP:20260420T193844
CREATED:20220104T100350Z
LAST-MODIFIED:20220104T100350Z
UID:10000753-1644969600-1645142400@industry4skillnet.com
SUMMARY:Virtual Classroom Training - Revit MEP Essentials Training Course
DESCRIPTION:This training programme comes with a 30% Skillnet discount for member companies.  The primary objective of this course is to teach delegates the concepts of building information modelling and introduce the tools for parametric engineering design and documentation using Revit MEP. \nEnquire Now
URL:https://industry4skillnet.com/programme/virtual-classroom-training-revit-mep-essentials-training-course-3/
CATEGORIES:CADLINE
END:VEVENT
BEGIN:VEVENT
DTSTART;TZID=Europe/Dublin:20220216T000000
DTEND;TZID=Europe/Dublin:20220218T000000
DTSTAMP:20260420T193844
CREATED:20211214T103538Z
LAST-MODIFIED:20211221T095828Z
UID:10000436-1644969600-1645142400@industry4skillnet.com
SUMMARY:QQI Effective People Management
DESCRIPTION:This training programme comes with a 30% Skillnet discount for member companies.  This practical course enables you to overcome barriers to effectively and confidently deliver high impact training. This course provides guidance on the effective planning and delivery of training in the office\, shop floor\, retail\, factory\, hotel\, laboratory or other areas including beauty\, hairdressing\, health and safety. We have had people from all areas attend this course. \nEnquire Now
URL:https://industry4skillnet.com/programme/qqi-effective-people-management-2/
CATEGORIES:Project Management
END:VEVENT
BEGIN:VEVENT
DTSTART;TZID=Europe/Dublin:20220215T000000
DTEND;TZID=Europe/Dublin:20220217T000000
DTSTAMP:20260420T193844
CREATED:20211222T122342Z
LAST-MODIFIED:20211222T122342Z
UID:10000722-1644883200-1645056000@industry4skillnet.com
SUMMARY:Maxum Edition II Operation & Maintenance Course (SC-C-MAX1)
DESCRIPTION:This training programme comes with a Skillnet discount for member companies.  This course covers operation\, maintenance and calibration of the Maxum Edition II Gas Chromatograph and operation of the Maxum Workstation including GC Portal. \nEnquire Now
URL:https://industry4skillnet.com/programme/maxum-edition-ii-operation-maintenance-course-sc-c-max1-2/
CATEGORIES:Siemens
END:VEVENT
BEGIN:VEVENT
DTSTART;TZID=Europe/Dublin:20220214T000000
DTEND;TZID=Europe/Dublin:20220218T000000
DTSTAMP:20260420T193844
CREATED:20211222T122010Z
LAST-MODIFIED:20211222T122010Z
UID:10000689-1644796800-1645142400@industry4skillnet.com
SUMMARY:WinCC System Course (ST-BWINCCS)
DESCRIPTION:This training programme comes with a Skillnet discount for member companies.  A foundation course to provide participants with a sound undertaking of the concepts of WINCC V7.x and the utilisation of its facilities and features. \nEnquire Now
URL:https://industry4skillnet.com/programme/wincc-system-course-st-bwinccs/
CATEGORIES:Siemens
END:VEVENT
BEGIN:VEVENT
DTSTART;TZID=Europe/Dublin:20220214T000000
DTEND;TZID=Europe/Dublin:20220218T000000
DTSTAMP:20260420T193844
CREATED:20211221T102743Z
LAST-MODIFIED:20220106T112514Z
UID:10000619-1644796800-1645142400@industry4skillnet.com
SUMMARY:CCP299 Studio 5000 ControlLogix Fundamentals & Troubleshooting
DESCRIPTION:This training programme comes with a Skillnet discount for member companies.  Upon completion of this course\, you should be able totroubleshoot a previously operational ControlLogix system and restore normal operation.\nYou will have the opportunity to develop and practice\nthese skills by:\nLearning basic concepts and terminology used with ControlLogix system hardware and Studio 5000 Logix Designer\nPracticing a systematic strategy for diagnosing and troubleshooting problems:\n– Configuration issues\n– Electrical noise\n– Faulty/malfunctioning field devices\n– Controller I/O\, or other hardware issues\n• Performing hands-on exercises \nEnquire Now
URL:https://industry4skillnet.com/programme/ccp299-studio-5000-controllogix-fundamentals-troubleshooting-2/
CATEGORIES:Rockwell Automation
END:VEVENT
BEGIN:VEVENT
DTSTART;TZID=Europe/Dublin:20220214T000000
DTEND;TZID=Europe/Dublin:20220218T000000
DTSTAMP:20260420T193844
CREATED:20211221T100541Z
LAST-MODIFIED:20211222T121809Z
UID:10000593-1644796800-1645142400@industry4skillnet.com
SUMMARY:TIA Portal Programming 2 Course (TIA-PRO2)
DESCRIPTION:This training programme comes with a Skillnet discount for member companies.  In this first part of the SIMATIC TIA Portal programming training\, we teach you the handling of the TIA Portal\, basic knowledge about the structure of the SIMATIC S7 automation system\, configuration and parameterization of hardware\, and the basics of standard PLC programming. You also receive an overview of HMI\, PROFINET IO\, and connecting drives. \nEnquire Now
URL:https://industry4skillnet.com/programme/tia-portal-programming-2-course-tia-pro2-3/
CATEGORIES:Siemens
END:VEVENT
BEGIN:VEVENT
DTSTART;TZID=Europe/Dublin:20220214T000000
DTEND;TZID=Europe/Dublin:20220218T000000
DTSTAMP:20260420T193844
CREATED:20211221T100525Z
LAST-MODIFIED:20211222T121754Z
UID:10000585-1644796800-1645142400@industry4skillnet.com
SUMMARY:TIA Portal Programming 1 Course (TIA-PRO1)
DESCRIPTION:This training programme comes with a Skillnet discount for member companies.  In this first part of the SIMATIC TIA Portal programming training\, we teach you the handling of the TIA Portal\, basic knowledge about the structure of the SIMATIC S7 automation system\, configuration and parameterization of hardware\, and the basics of standard PLC programming. You also receive an overview of HMI\, PROFINET IO\, and connecting drives. \nEnquire Now
URL:https://industry4skillnet.com/programme/tia-portal-programming-1-course-tia-pro1-3/
CATEGORIES:Siemens
END:VEVENT
BEGIN:VEVENT
DTSTART;TZID=Europe/Dublin:20220214T000000
DTEND;TZID=Europe/Dublin:20220218T000000
DTSTAMP:20260420T193844
CREATED:20211221T100441Z
LAST-MODIFIED:20211222T121713Z
UID:10000572-1644796800-1645142400@industry4skillnet.com
SUMMARY:TIA Portal Service 1 Course (TIA-SERV1)
DESCRIPTION:This training programme comes with a Skillnet discount for member companies.   In this first part of the SIMATIC TIA Portal service training\, we teach you the handling of the TIA Portal\, basic knowledge about the structure of the SIMATIC S7 automation system\, configuration and parameterization of hardware\, and the basics of programming. You also receive an overview of HMI\, PROFINET IO / PROFIBUS\, Distributed I/O and connecting drives. You will learn to diagnose and clear simple hardware faults and software errors. You will thus be capable of reducing downtimes in your plant. \nEnquire Now
URL:https://industry4skillnet.com/programme/tia-portal-service-1-course-tia-serv1-2/
CATEGORIES:Siemens
END:VEVENT
BEGIN:VEVENT
DTSTART;TZID=Europe/Dublin:20220214T000000
DTEND;TZID=Europe/Dublin:20220217T000000
DTSTAMP:20260420T193844
CREATED:20220104T100348Z
LAST-MODIFIED:20220104T100348Z
UID:10000750-1644796800-1645056000@industry4skillnet.com
SUMMARY:Virtual Classroom Training - Autodesk Inventor Training Course Parts 1 & 2
DESCRIPTION:This training programme comes with a 30% Skillnet discount for member companies.  The primary objective of this course is to provide delegates with a thorough understanding of the principal 3D design\, validation and documentation processes that they will use to develop products using Autodesk Inventor. \nEnquire Now
URL:https://industry4skillnet.com/programme/virtual-classroom-training-autodesk-inventor-training-course-parts-1-2-2/
CATEGORIES:CADLINE
END:VEVENT
BEGIN:VEVENT
DTSTART;TZID=Europe/Dublin:20220214T000000
DTEND;TZID=Europe/Dublin:20220216T000000
DTSTAMP:20260420T193844
CREATED:20220104T100402Z
LAST-MODIFIED:20220104T100402Z
UID:10000755-1644796800-1644969600@industry4skillnet.com
SUMMARY:Virtual Classroom Training - Revit Architecture Essentials Training Course
DESCRIPTION:This training programme comes with a 30% Skillnet discount for member companies.  The primary objective of this course is to teach delegates the concepts of Building Information Modelling and introduce the tools for parametric building design and documentation using Revit Architecture. \nEnquire Now
URL:https://industry4skillnet.com/programme/virtual-classroom-training-revit-architecture-essentials-training-course-2/
CATEGORIES:CADLINE
END:VEVENT
BEGIN:VEVENT
DTSTART;TZID=Europe/Dublin:20220214T000000
DTEND;TZID=Europe/Dublin:20220216T000000
DTSTAMP:20260420T193844
CREATED:20211215T145634Z
LAST-MODIFIED:20220104T100216Z
UID:10000503-1644796800-1644969600@industry4skillnet.com
SUMMARY:Virtual Classroom Training - AutoCAD & AutoCAD LT Essentials Training Course
DESCRIPTION:This training programme comes with a 30% Skillnet discount for member companies.  The primary objective of this course is to teach users the basic commands necessary for professional 2D drawing\, design and drafting using AutoCAD / AutoCAD LT. \nEnquire Now
URL:https://industry4skillnet.com/programme/virtual-classroom-training-autocad-autocad-lt-essentials-training-course-10/
CATEGORIES:CADLINE
END:VEVENT
BEGIN:VEVENT
DTSTART;TZID=Europe/Dublin:20220209T000000
DTEND;TZID=Europe/Dublin:20220211T000000
DTSTAMP:20260420T193844
CREATED:20211215T145633Z
LAST-MODIFIED:20220104T100210Z
UID:10000502-1644364800-1644537600@industry4skillnet.com
SUMMARY:Virtual Classroom Training - AutoCAD & AutoCAD LT Essentials Training Course
DESCRIPTION:This training programme comes with a 30% Skillnet discount for member companies.  The primary objective of this course is to teach users the basic commands necessary for professional 2D drawing\, design and drafting using AutoCAD / AutoCAD LT. \nEnquire Now
URL:https://industry4skillnet.com/programme/virtual-classroom-training-autocad-autocad-lt-essentials-training-course-9/
CATEGORIES:CADLINE
END:VEVENT
BEGIN:VEVENT
DTSTART;TZID=Europe/Dublin:20220209T000000
DTEND;TZID=Europe/Dublin:20220211T000000
DTSTAMP:20260420T193844
CREATED:20211214T103357Z
LAST-MODIFIED:20211221T095706Z
UID:10000406-1644364800-1644537600@industry4skillnet.com
SUMMARY:QQI Train the trainer
DESCRIPTION:This training programme comes with a 30% Skillnet discount for member companies.  This practical course enables you to overcome barriers to effectively and confidently deliver high impact training. This course provides guidance on the effective planning and delivery of training in the office\, shop floor\, retail\, factory\, hotel\, laboratory or other areas including beauty\, hairdressing\, health and safety. We have had people from all areas attend this course. \nEnquire Now
URL:https://industry4skillnet.com/programme/qqi-train-the-trainer-2/
CATEGORIES:Project Management
END:VEVENT
BEGIN:VEVENT
DTSTART;TZID=Europe/Dublin:20220209T000000
DTEND;TZID=Europe/Dublin:20220210T000000
DTSTAMP:20260420T193844
CREATED:20220104T100231Z
LAST-MODIFIED:20220104T100231Z
UID:10000724-1644364800-1644451200@industry4skillnet.com
SUMMARY:Virtual Classroom Training - Open Source GIS Integration Training Course
DESCRIPTION:This training programme comes with a 30% Skillnet discount for member companies.  This two-day intensive course introduces you to the core functionality of PostGIS\, QGIS\, GeoServer and OpenLayers\, taking you through all the tools you will need to load\, spatially analyse\, publish and share geospatial data. This course is designed specifically by Open Source GIS software specialists to demonstrate how to setup and successfully utilise Open Source GIS\, spatial databases and web mapping services in an integrated environment.The course covers topics including\, installation and configuration of all software\, loading vector data into a spatial database\, connecting to a spatial database and then undertaking GIS analysis\, manipulating spatial data\, publishing and connecting to WMS and WFS services and utilising OpenLayers to explore web mapping capabilities. \nEnquire Now
URL:https://industry4skillnet.com/programme/virtual-classroom-training-open-source-gis-integration-training-course/
CATEGORIES:CADLINE
END:VEVENT
BEGIN:VEVENT
DTSTART;TZID=Europe/Dublin:20220207T000000
DTEND;TZID=Europe/Dublin:20220211T000000
DTSTAMP:20260420T193844
CREATED:20211222T122224Z
LAST-MODIFIED:20211222T122224Z
UID:10000696-1644192000-1644537600@industry4skillnet.com
SUMMARY:PCS7 Batch Course (ST-PCS7BAT)
DESCRIPTION:This training programme comes with a Skillnet discount for member companies.  Target group are project managers and assistants\, configuring engineers and users of PCS 7 configurations in batch processes. They get knowledge about batch basics and the SIMATIC Batch interfaces to the automation systems and their administration. \nEnquire Now
URL:https://industry4skillnet.com/programme/pcs7-batch-course-st-pcs7bat/
CATEGORIES:Siemens
END:VEVENT
BEGIN:VEVENT
DTSTART;TZID=Europe/Dublin:20220207T000000
DTEND;TZID=Europe/Dublin:20220211T000000
DTSTAMP:20260420T193844
CREATED:20211222T122024Z
LAST-MODIFIED:20211222T122024Z
UID:10000691-1644192000-1644537600@industry4skillnet.com
SUMMARY:Simatic S7 Ethernet/Profinet Course (IK-ETHERPR)
DESCRIPTION:This training programme comes with a Skillnet discount for member companies.  This course is directed at Programmers\, Commissioning engineers\, Configuring engineers\, Service personnel\, Maintenance personnel involved with the design\, commissioning and sustaining of an S7 Industrial Ethernet and PROFINET networks.  \nEnquire Now
URL:https://industry4skillnet.com/programme/simatic-s7-ethernet-profinet-course-ik-etherpr/
CATEGORIES:Siemens
END:VEVENT
BEGIN:VEVENT
DTSTART;TZID=Europe/Dublin:20220207T000000
DTEND;TZID=Europe/Dublin:20220211T000000
DTSTAMP:20260420T193844
CREATED:20211222T121924Z
LAST-MODIFIED:20211222T121924Z
UID:10000673-1644192000-1644537600@industry4skillnet.com
SUMMARY:S7 Service 2 Course (ST-SERV2)
DESCRIPTION:This training programme comes with a Skillnet discount for member companies.  The course uses a ‘hands-on’ practical approach to reinforce the theoretical aspects of the training. Practical tasks are undertaken using a simulation rig\, distributed profibus nodes and S7-300. This course is for SIMATIC S7-300-400 PLC users with basic SIMATIC control system knowledge who install or maintain automation systems and their application programs. This course continues skill development in troubleshooting and modifying a control system.  \nEnquire Now
URL:https://industry4skillnet.com/programme/s7-service-2-course-st-serv2/
CATEGORIES:Siemens
END:VEVENT
BEGIN:VEVENT
DTSTART;TZID=Europe/Dublin:20220207T000000
DTEND;TZID=Europe/Dublin:20220211T000000
DTSTAMP:20260420T193844
CREATED:20211221T100625Z
LAST-MODIFIED:20211222T121853Z
UID:10000605-1644192000-1644537600@industry4skillnet.com
SUMMARY:TIA Portal System Retraining Course (TIA-SYSUP)
DESCRIPTION:This training programme comes with a Skillnet discount for member companies.  In this course the student will learn about the major differences between SIMATIC Manager and TIA Portal\, and between STEP 7 V5.x and STEP 7 based on TIA Portal. They will learn how to configure and program a SIMATIC S7 automation system with the “TIA Portal” engineering platform. Participants can reinforce their theoretical knowledge with extensive practical exercises on a TIA system model.  \nEnquire Now
URL:https://industry4skillnet.com/programme/tia-portal-system-retraining-course-tia-sysup/
CATEGORIES:Siemens
END:VEVENT
BEGIN:VEVENT
DTSTART;TZID=Europe/Dublin:20220207T000000
DTEND;TZID=Europe/Dublin:20220211T000000
DTSTAMP:20260420T193844
CREATED:20211221T100511Z
LAST-MODIFIED:20211222T121738Z
UID:10000581-1644192000-1644537600@industry4skillnet.com
SUMMARY:(Online)TIA Portal Programming 1 Course (TIA-PRO1)
DESCRIPTION:This training programme comes with a Skillnet discount for member companies.  In this first part of the SIMATIC TIA Portal programming training\, we teach you the handling of the TIA Portal\, basic knowledge about the structure of the SIMATIC S7 automation system\, configuration and parameterization of hardware\, and the basics of standard PLC programming. You also receive an overview of HMI\, PROFINET IO\, and connecting drives. \nEnquire Now
URL:https://industry4skillnet.com/programme/onlinetia-portal-programming-1-course-tia-pro1/
CATEGORIES:Siemens
END:VEVENT
BEGIN:VEVENT
DTSTART;TZID=Europe/Dublin:20220203T000000
DTEND;TZID=Europe/Dublin:20220303T000000
DTSTAMP:20260420T193844
CREATED:20211221T102843Z
LAST-MODIFIED:20220106T112614Z
UID:10000637-1643846400-1646265600@industry4skillnet.com
SUMMARY:CCCL21 Studio 5000 Basic Ladder Logic Interpretation
DESCRIPTION:This training programme comes with a Skillnet discount for member companies.  This course is a skill-building course that provides you with a more detailed understanding of Studio 5000 Logix Designer ladder logic instructions and terminology.This course also provides you with the resources and hands-on practice required to interpret ladder logic instructions for any Logix5000 controller. \nEnquire Now
URL:https://industry4skillnet.com/programme/cccl21-studio-5000-basic-ladder-logic-interpretation/
CATEGORIES:Rockwell Automation
END:VEVENT
END:VCALENDAR