BEGIN:VCALENDAR
VERSION:2.0
PRODID:-//Industry 4.0 Skillnet - ECPv6.15.20//NONSGML v1.0//EN
CALSCALE:GREGORIAN
METHOD:PUBLISH
X-WR-CALNAME:Industry 4.0 Skillnet
X-ORIGINAL-URL:https://industry4skillnet.com
X-WR-CALDESC:Events for Industry 4.0 Skillnet
REFRESH-INTERVAL;VALUE=DURATION:PT1H
X-Robots-Tag:noindex
X-PUBLISHED-TTL:PT1H
BEGIN:VTIMEZONE
TZID:Europe/Dublin
BEGIN:STANDARD
TZOFFSETFROM:+0000
TZOFFSETTO:+0100
TZNAME:IST
DTSTART:20210328T010000
END:STANDARD
BEGIN:DAYLIGHT
TZOFFSETFROM:+0100
TZOFFSETTO:+0000
TZNAME:GMT
DTSTART:20211031T010000
END:DAYLIGHT
BEGIN:STANDARD
TZOFFSETFROM:+0000
TZOFFSETTO:+0100
TZNAME:IST
DTSTART:20220327T010000
END:STANDARD
BEGIN:DAYLIGHT
TZOFFSETFROM:+0100
TZOFFSETTO:+0000
TZNAME:GMT
DTSTART:20221030T010000
END:DAYLIGHT
BEGIN:STANDARD
TZOFFSETFROM:+0000
TZOFFSETTO:+0100
TZNAME:IST
DTSTART:20230326T010000
END:STANDARD
BEGIN:DAYLIGHT
TZOFFSETFROM:+0100
TZOFFSETTO:+0000
TZNAME:GMT
DTSTART:20231029T010000
END:DAYLIGHT
END:VTIMEZONE
BEGIN:VEVENT
DTSTART;TZID=Europe/Dublin:20221109T000000
DTEND;TZID=Europe/Dublin:20221111T000000
DTSTAMP:20260420T035706
CREATED:20211214T103637Z
LAST-MODIFIED:20211221T095953Z
UID:10000458-1667952000-1668124800@industry4skillnet.com
SUMMARY:QQI Project Management
DESCRIPTION:This training programme comes with a 30% Skillnet discount for member companies.  This practical course enables you to overcome barriers to effectively and confidently deliver high impact training. This course provides guidance on the effective planning and delivery of training in the office\, shop floor\, retail\, factory\, hotel\, laboratory or other areas including beauty\, hairdressing\, health and safety. We have had people from all areas attend this course. \nEnquire Now
URL:https://industry4skillnet.com/programme/qqi-project-management-7/
CATEGORIES:Project Management
END:VEVENT
BEGIN:VEVENT
DTSTART;TZID=Europe/Dublin:20221109T000000
DTEND;TZID=Europe/Dublin:20221111T000000
DTSTAMP:20260420T035706
CREATED:20211214T103454Z
LAST-MODIFIED:20211221T095745Z
UID:10000424-1667952000-1668124800@industry4skillnet.com
SUMMARY:QQI Train the trainer
DESCRIPTION:This training programme comes with a 30% Skillnet discount for member companies.  This practical course enables you to overcome barriers to effectively and confidently deliver high impact training. This course provides guidance on the effective planning and delivery of training in the office\, shop floor\, retail\, factory\, hotel\, laboratory or other areas including beauty\, hairdressing\, health and safety. We have had people from all areas attend this course. \nEnquire Now
URL:https://industry4skillnet.com/programme/qqi-train-the-trainer-20/
CATEGORIES:Project Management
END:VEVENT
BEGIN:VEVENT
DTSTART;TZID=Europe/Dublin:20221108T000000
DTEND;TZID=Europe/Dublin:20221111T000000
DTSTAMP:20260420T035706
CREATED:20211214T103524Z
LAST-MODIFIED:20211221T095814Z
UID:10000433-1667865600-1668124800@industry4skillnet.com
SUMMARY:Lean Green Belt
DESCRIPTION:This training programme comes with a 30% Skillnet discount for member companies.  This practical course enables you to overcome barriers to effectively and confidently deliver high impact training. This course provides guidance on the effective planning and delivery of training in the office\, shop floor\, retail\, factory\, hotel\, laboratory or other areas including beauty\, hairdressing\, health and safety. We have had people from all areas attend this course. \nEnquire Now
URL:https://industry4skillnet.com/programme/lean-green-belt-7/
CATEGORIES:Project Management
END:VEVENT
BEGIN:VEVENT
DTSTART;TZID=Europe/Dublin:20221031T000000
DTEND;TZID=Europe/Dublin:20221031T000000
DTSTAMP:20260420T035706
CREATED:20211221T102946Z
LAST-MODIFIED:20220106T112715Z
UID:10000660-1667174400-1667174400@industry4skillnet.com
SUMMARY:CCV207 FactoryTalk View SE Programming
DESCRIPTION:This training programme comes with a Skillnet discount for member companies.  This course provides guidance on how to organize and develop FactoryTalk View Site Edition (SE) applications. You will have the opportunity to practice the skills used to create an application and build graphic displays. You will learn how to configure alarms and security\, trend data\, and test your application using FactoryTalk View SE Client. You will also work with FactoryTalk Linx communications software and the FactoryTalk Diagnostics system. \nEnquire Now
URL:https://industry4skillnet.com/programme/ccv207-factorytalk-view-se-programming-4/
CATEGORIES:Rockwell Automation
END:VEVENT
BEGIN:VEVENT
DTSTART;TZID=Europe/Dublin:20221024T000000
DTEND;TZID=Europe/Dublin:20221026T000000
DTSTAMP:20260420T035706
CREATED:20211221T102959Z
LAST-MODIFIED:20220106T112730Z
UID:10000665-1666569600-1666742400@industry4skillnet.com
SUMMARY:RS-FTHSEC FactoryTalk Historian SE Configuration & Data Collection
DESCRIPTION:This training programme comes with a Skillnet discount for member companies.  This course will provide you with an overview of the various FactoryTalk® Historian tools for collecting data.You will learn how to configure a FactoryTalk Historian Site Edition system \nEnquire Now
URL:https://industry4skillnet.com/programme/rs-fthsec-factorytalk-historian-se-configuration-data-collection-2/
CATEGORIES:Rockwell Automation
END:VEVENT
BEGIN:VEVENT
DTSTART;TZID=Europe/Dublin:20221024T000000
DTEND;TZID=Europe/Dublin:20221026T000000
DTSTAMP:20260420T035706
CREATED:20211214T103555Z
LAST-MODIFIED:20211221T095844Z
UID:10000444-1666569600-1666742400@industry4skillnet.com
SUMMARY:QQI Effective People Management
DESCRIPTION:This training programme comes with a 30% Skillnet discount for member companies.  This practical course enables you to overcome barriers to effectively and confidently deliver high impact training. This course provides guidance on the effective planning and delivery of training in the office\, shop floor\, retail\, factory\, hotel\, laboratory or other areas including beauty\, hairdressing\, health and safety. We have had people from all areas attend this course. \nEnquire Now
URL:https://industry4skillnet.com/programme/qqi-effective-people-management-10/
CATEGORIES:Project Management
END:VEVENT
BEGIN:VEVENT
DTSTART;TZID=Europe/Dublin:20221020T000000
DTEND;TZID=Europe/Dublin:20221021T000000
DTSTAMP:20260420T035706
CREATED:20211214T103622Z
LAST-MODIFIED:20211221T095926Z
UID:10000450-1666224000-1666310400@industry4skillnet.com
SUMMARY:PSM Scrum Master
DESCRIPTION:This training programme comes with a 30% Skillnet discount for member companies.  This practical course enables you to overcome barriers to effectively and confidently deliver high impact training. This course provides guidance on the effective planning and delivery of training in the office\, shop floor\, retail\, factory\, hotel\, laboratory or other areas including beauty\, hairdressing\, health and safety. We have had people from all areas attend this course. \nEnquire Now
URL:https://industry4skillnet.com/programme/psm-scrum-master-5/
CATEGORIES:Project Management
END:VEVENT
BEGIN:VEVENT
DTSTART;TZID=Europe/Dublin:20221019T000000
DTEND;TZID=Europe/Dublin:20221021T000000
DTSTAMP:20260420T035706
CREATED:20211214T103453Z
LAST-MODIFIED:20211221T095745Z
UID:10000423-1666137600-1666310400@industry4skillnet.com
SUMMARY:QQI Train the trainer
DESCRIPTION:This training programme comes with a 30% Skillnet discount for member companies.  This practical course enables you to overcome barriers to effectively and confidently deliver high impact training. This course provides guidance on the effective planning and delivery of training in the office\, shop floor\, retail\, factory\, hotel\, laboratory or other areas including beauty\, hairdressing\, health and safety. We have had people from all areas attend this course. \nEnquire Now
URL:https://industry4skillnet.com/programme/qqi-train-the-trainer-19/
CATEGORIES:Project Management
END:VEVENT
BEGIN:VEVENT
DTSTART;TZID=Europe/Dublin:20221017T000000
DTEND;TZID=Europe/Dublin:20221020T000000
DTSTAMP:20260420T035706
CREATED:20211221T102800Z
LAST-MODIFIED:20220106T112530Z
UID:10000625-1665964800-1666224000@industry4skillnet.com
SUMMARY:CCP299 Studio 5000 ControlLogix Fundamentals & Troubleshooting
DESCRIPTION:This training programme comes with a Skillnet discount for member companies.  Upon completion of this course\, you should be able totroubleshoot a previously operational ControlLogix system and restore normal operation.\nYou will have the opportunity to develop and practice\nthese skills by:\nLearning basic concepts and terminology used with ControlLogix system hardware and Studio 5000 Logix Designer\nPracticing a systematic strategy for diagnosing and troubleshooting problems:\n– Configuration issues\n– Electrical noise\n– Faulty/malfunctioning field devices\n– Controller I/O\, or other hardware issues\n• Performing hands-on exercises \nEnquire Now
URL:https://industry4skillnet.com/programme/ccp299-studio-5000-controllogix-fundamentals-troubleshooting-8/
CATEGORIES:Rockwell Automation
END:VEVENT
BEGIN:VEVENT
DTSTART;TZID=Europe/Dublin:20221013T000000
DTEND;TZID=Europe/Dublin:20221014T000000
DTSTAMP:20260420T035706
CREATED:20211221T102844Z
LAST-MODIFIED:20220106T112615Z
UID:10000641-1665619200-1665705600@industry4skillnet.com
SUMMARY:CCP151 Studio 5000 Basic Ladder Logic Programming
DESCRIPTION:This training programme comes with a Skillnet discount for member companies.  This course provides you with the resources to program basic ladder logic instructions for Logix 5000 controllers. You will have an opportunity to use the Studio 5000 Logix Designer application to perform basic software tasks to meet the requirements of a given functional specification. In addition\, you will set up a sequencer to run equipment through a predefined procedure and separate production procedure from equipment control. \nEnquire Now
URL:https://industry4skillnet.com/programme/ccp151-studio-5000-basic-ladder-logic-programming-3/
CATEGORIES:Rockwell Automation
END:VEVENT
BEGIN:VEVENT
DTSTART;TZID=Europe/Dublin:20221012T000000
DTEND;TZID=Europe/Dublin:20221014T000000
DTSTAMP:20260420T035706
CREATED:20211214T103452Z
LAST-MODIFIED:20211221T095744Z
UID:10000422-1665532800-1665705600@industry4skillnet.com
SUMMARY:QQI Train the trainer
DESCRIPTION:This training programme comes with a 30% Skillnet discount for member companies.  This practical course enables you to overcome barriers to effectively and confidently deliver high impact training. This course provides guidance on the effective planning and delivery of training in the office\, shop floor\, retail\, factory\, hotel\, laboratory or other areas including beauty\, hairdressing\, health and safety. We have had people from all areas attend this course. \nEnquire Now
URL:https://industry4skillnet.com/programme/qqi-train-the-trainer-18/
CATEGORIES:Project Management
END:VEVENT
BEGIN:VEVENT
DTSTART;TZID=Europe/Dublin:20221001T000000
DTEND;TZID=Europe/Dublin:20221001T000000
DTSTAMP:20260420T035706
CREATED:20211221T102743Z
LAST-MODIFIED:20220106T112514Z
UID:10000618-1664582400-1664582400@industry4skillnet.com
SUMMARY:CCP299 Studio 5000 ControlLogix Fundamentals & Troubleshooting
DESCRIPTION:This training programme comes with a Skillnet discount for member companies.  Upon completion of this course\, you should be able totroubleshoot a previously operational ControlLogix system and restore normal operation.\nYou will have the opportunity to develop and practice\nthese skills by:\nLearning basic concepts and terminology used with ControlLogix system hardware and Studio 5000 Logix Designer\nPracticing a systematic strategy for diagnosing and troubleshooting problems:\n– Configuration issues\n– Electrical noise\n– Faulty/malfunctioning field devices\n– Controller I/O\, or other hardware issues\n• Performing hands-on exercises \nEnquire Now
URL:https://industry4skillnet.com/programme/ccp299-studio-5000-controllogix-fundamentals-troubleshooting/
CATEGORIES:Rockwell Automation
END:VEVENT
BEGIN:VEVENT
DTSTART;TZID=Europe/Dublin:20220928T000000
DTEND;TZID=Europe/Dublin:20220930T000000
DTSTAMP:20260420T035706
CREATED:20211214T103451Z
LAST-MODIFIED:20211221T095744Z
UID:10000421-1664323200-1664496000@industry4skillnet.com
SUMMARY:QQI Train the trainer
DESCRIPTION:This training programme comes with a 30% Skillnet discount for member companies.  This practical course enables you to overcome barriers to effectively and confidently deliver high impact training. This course provides guidance on the effective planning and delivery of training in the office\, shop floor\, retail\, factory\, hotel\, laboratory or other areas including beauty\, hairdressing\, health and safety. We have had people from all areas attend this course. \nEnquire Now
URL:https://industry4skillnet.com/programme/qqi-train-the-trainer-17/
CATEGORIES:Project Management
END:VEVENT
BEGIN:VEVENT
DTSTART;TZID=Europe/Dublin:20220921T000000
DTEND;TZID=Europe/Dublin:20220923T000000
DTSTAMP:20260420T035706
CREATED:20211214T103554Z
LAST-MODIFIED:20211221T095843Z
UID:10000443-1663718400-1663891200@industry4skillnet.com
SUMMARY:QQI Effective People Management
DESCRIPTION:This training programme comes with a 30% Skillnet discount for member companies.  This practical course enables you to overcome barriers to effectively and confidently deliver high impact training. This course provides guidance on the effective planning and delivery of training in the office\, shop floor\, retail\, factory\, hotel\, laboratory or other areas including beauty\, hairdressing\, health and safety. We have had people from all areas attend this course. \nEnquire Now
URL:https://industry4skillnet.com/programme/qqi-effective-people-management-9/
CATEGORIES:Project Management
END:VEVENT
BEGIN:VEVENT
DTSTART;TZID=Europe/Dublin:20220919T000000
DTEND;TZID=Europe/Dublin:20220922T000000
DTSTAMP:20260420T035706
CREATED:20211221T102800Z
LAST-MODIFIED:20220106T112530Z
UID:10000624-1663545600-1663804800@industry4skillnet.com
SUMMARY:CCP299 Studio 5000 ControlLogix Fundamentals & Troubleshooting
DESCRIPTION:This training programme comes with a Skillnet discount for member companies.  Upon completion of this course\, you should be able totroubleshoot a previously operational ControlLogix system and restore normal operation.\nYou will have the opportunity to develop and practice\nthese skills by:\nLearning basic concepts and terminology used with ControlLogix system hardware and Studio 5000 Logix Designer\nPracticing a systematic strategy for diagnosing and troubleshooting problems:\n– Configuration issues\n– Electrical noise\n– Faulty/malfunctioning field devices\n– Controller I/O\, or other hardware issues\n• Performing hands-on exercises \nEnquire Now
URL:https://industry4skillnet.com/programme/ccp299-studio-5000-controllogix-fundamentals-troubleshooting-7/
CATEGORIES:Rockwell Automation
END:VEVENT
BEGIN:VEVENT
DTSTART;TZID=Europe/Dublin:20220914T000000
DTEND;TZID=Europe/Dublin:20220916T000000
DTSTAMP:20260420T035706
CREATED:20211221T102959Z
LAST-MODIFIED:20220106T112730Z
UID:10000663-1663113600-1663286400@industry4skillnet.com
SUMMARY:FTAC FactoryTalk Asset Centre System Design & Implementation
DESCRIPTION:This training programme comes with a Skillnet discount for member companies.  This course provides you with the skills required to use FactoryTalk® AssetCentre software to maximize your control system investment and manage assets effectively. Throughout the course\, you will learn how to design a FactoryTalk AssetCentre system\, install and configure the software\, secure access to the control system\, track users’ actions\, manage asset configurationfiles\, provide backup and recovery of operating asset configurations\, and troubleshoot your system using FactoryTalk AssetCentre software. \nEnquire Now
URL:https://industry4skillnet.com/programme/ftac-factorytalk-asset-centre-system-design-implementation-2/
CATEGORIES:Rockwell Automation
END:VEVENT
BEGIN:VEVENT
DTSTART;TZID=Europe/Dublin:20220914T000000
DTEND;TZID=Europe/Dublin:20220916T000000
DTSTAMP:20260420T035706
CREATED:20211214T103451Z
LAST-MODIFIED:20211221T095744Z
UID:10000420-1663113600-1663286400@industry4skillnet.com
SUMMARY:QQI Train the trainer
DESCRIPTION:This training programme comes with a 30% Skillnet discount for member companies.  This practical course enables you to overcome barriers to effectively and confidently deliver high impact training. This course provides guidance on the effective planning and delivery of training in the office\, shop floor\, retail\, factory\, hotel\, laboratory or other areas including beauty\, hairdressing\, health and safety. We have had people from all areas attend this course. \nEnquire Now
URL:https://industry4skillnet.com/programme/qqi-train-the-trainer-16/
CATEGORIES:Project Management
END:VEVENT
BEGIN:VEVENT
DTSTART;TZID=Europe/Dublin:20220913T000000
DTEND;TZID=Europe/Dublin:20220916T000000
DTSTAMP:20260420T035706
CREATED:20211214T103524Z
LAST-MODIFIED:20211221T095814Z
UID:10000432-1663027200-1663286400@industry4skillnet.com
SUMMARY:Lean Green Belt
DESCRIPTION:This training programme comes with a 30% Skillnet discount for member companies.  This practical course enables you to overcome barriers to effectively and confidently deliver high impact training. This course provides guidance on the effective planning and delivery of training in the office\, shop floor\, retail\, factory\, hotel\, laboratory or other areas including beauty\, hairdressing\, health and safety. We have had people from all areas attend this course. \nEnquire Now
URL:https://industry4skillnet.com/programme/lean-green-belt-6/
CATEGORIES:Project Management
END:VEVENT
BEGIN:VEVENT
DTSTART;TZID=Europe/Dublin:20220907T000000
DTEND;TZID=Europe/Dublin:20220909T000000
DTSTAMP:20260420T035706
CREATED:20211214T103637Z
LAST-MODIFIED:20211221T095953Z
UID:10000457-1662508800-1662681600@industry4skillnet.com
SUMMARY:QQI Project Management
DESCRIPTION:This training programme comes with a 30% Skillnet discount for member companies.  This practical course enables you to overcome barriers to effectively and confidently deliver high impact training. This course provides guidance on the effective planning and delivery of training in the office\, shop floor\, retail\, factory\, hotel\, laboratory or other areas including beauty\, hairdressing\, health and safety. We have had people from all areas attend this course. \nEnquire Now
URL:https://industry4skillnet.com/programme/qqi-project-management-6/
CATEGORIES:Project Management
END:VEVENT
BEGIN:VEVENT
DTSTART;TZID=Europe/Dublin:20220831T000000
DTEND;TZID=Europe/Dublin:20220831T000000
DTSTAMP:20260420T035706
CREATED:20211221T102843Z
LAST-MODIFIED:20220106T112614Z
UID:10000638-1661904000-1661904000@industry4skillnet.com
SUMMARY:CCCL21 Studio 5000 Basic Ladder Logic Interpretation
DESCRIPTION:This training programme comes with a Skillnet discount for member companies.  This course is a skill-building course that provides you with a more detailed understanding of Studio 5000 Logix Designer ladder logic instructions and terminology.This course also provides you with the resources and hands-on practice required to interpret ladder logic instructions for any Logix5000 controller. \nEnquire Now
URL:https://industry4skillnet.com/programme/cccl21-studio-5000-basic-ladder-logic-interpretation-2/
CATEGORIES:Rockwell Automation
END:VEVENT
BEGIN:VEVENT
DTSTART;TZID=Europe/Dublin:20220830T000000
DTEND;TZID=Europe/Dublin:20220830T000000
DTSTAMP:20260420T035706
CREATED:20211221T102946Z
LAST-MODIFIED:20220106T112715Z
UID:10000661-1661817600-1661817600@industry4skillnet.com
SUMMARY:SI101 FactoryTalk View SE Configuration
DESCRIPTION:This training programme comes with a Skillnet discount for member companies.  This course provides opportunities for you to work withlocal FactoryTalk View SE applications.  \nEnquire Now
URL:https://industry4skillnet.com/programme/si101-factorytalk-view-se-configuration/
CATEGORIES:Rockwell Automation
END:VEVENT
BEGIN:VEVENT
DTSTART;TZID=Europe/Dublin:20220825T000000
DTEND;TZID=Europe/Dublin:20220826T000000
DTSTAMP:20260420T035706
CREATED:20211214T103636Z
LAST-MODIFIED:20211221T095953Z
UID:10000456-1661385600-1661472000@industry4skillnet.com
SUMMARY:QQI Project Management
DESCRIPTION:This training programme comes with a 30% Skillnet discount for member companies.  This practical course enables you to overcome barriers to effectively and confidently deliver high impact training. This course provides guidance on the effective planning and delivery of training in the office\, shop floor\, retail\, factory\, hotel\, laboratory or other areas including beauty\, hairdressing\, health and safety. We have had people from all areas attend this course. \nEnquire Now
URL:https://industry4skillnet.com/programme/qqi-project-management-5/
CATEGORIES:Project Management
END:VEVENT
BEGIN:VEVENT
DTSTART;TZID=Europe/Dublin:20220825T000000
DTEND;TZID=Europe/Dublin:20220826T000000
DTSTAMP:20260420T035706
CREATED:20211214T103612Z
LAST-MODIFIED:20211221T095859Z
UID:10000449-1661385600-1661472000@industry4skillnet.com
SUMMARY:PSM Scrum Master
DESCRIPTION:This training programme comes with a 30% Skillnet discount for member companies.  This practical course enables you to overcome barriers to effectively and confidently deliver high impact training. This course provides guidance on the effective planning and delivery of training in the office\, shop floor\, retail\, factory\, hotel\, laboratory or other areas including beauty\, hairdressing\, health and safety. We have had people from all areas attend this course. \nEnquire Now
URL:https://industry4skillnet.com/programme/psm-scrum-master-4/
CATEGORIES:Project Management
END:VEVENT
BEGIN:VEVENT
DTSTART;TZID=Europe/Dublin:20220824T000000
DTEND;TZID=Europe/Dublin:20220826T000000
DTSTAMP:20260420T035706
CREATED:20211214T103553Z
LAST-MODIFIED:20211221T095843Z
UID:10000442-1661299200-1661472000@industry4skillnet.com
SUMMARY:QQI Effective People Management
DESCRIPTION:This training programme comes with a 30% Skillnet discount for member companies.  This practical course enables you to overcome barriers to effectively and confidently deliver high impact training. This course provides guidance on the effective planning and delivery of training in the office\, shop floor\, retail\, factory\, hotel\, laboratory or other areas including beauty\, hairdressing\, health and safety. We have had people from all areas attend this course. \nEnquire Now
URL:https://industry4skillnet.com/programme/qqi-effective-people-management-8/
CATEGORIES:Project Management
END:VEVENT
BEGIN:VEVENT
DTSTART;TZID=Europe/Dublin:20220823T000000
DTEND;TZID=Europe/Dublin:20220826T000000
DTSTAMP:20260420T035706
CREATED:20211221T102737Z
LAST-MODIFIED:20220106T112505Z
UID:10000616-1661212800-1661472000@industry4skillnet.com
SUMMARY:CCP298 Studio 5000 CompactLogix Fundamentals & Troubleshooting
DESCRIPTION:This training programme comes with a Skillnet discount for member companies.  Upon completion of this course\, you should be able totroubleshoot a previously operational CompactLogix™\nsystem and restore normal operation.\nIn this course you will develop and practice these\nskills by:\nLearning basic concepts and terminology used with CompactLogix and Studio 5000 Logix Designer\nPracticing a systematic strategy for diagnosing and troubleshooting problems\nPerforming hands-on exercises  \nEnquire Now
URL:https://industry4skillnet.com/programme/ccp298-studio-5000-compactlogix-fundamentals-troubleshooting-2/
CATEGORIES:Rockwell Automation
END:VEVENT
BEGIN:VEVENT
DTSTART;TZID=Europe/Dublin:20220817T000000
DTEND;TZID=Europe/Dublin:20220819T000000
DTSTAMP:20260420T035706
CREATED:20211214T103441Z
LAST-MODIFIED:20211221T095728Z
UID:10000419-1660694400-1660867200@industry4skillnet.com
SUMMARY:QQI Train the trainer
DESCRIPTION:This training programme comes with a 30% Skillnet discount for member companies.  This practical course enables you to overcome barriers to effectively and confidently deliver high impact training. This course provides guidance on the effective planning and delivery of training in the office\, shop floor\, retail\, factory\, hotel\, laboratory or other areas including beauty\, hairdressing\, health and safety. We have had people from all areas attend this course. \nEnquire Now
URL:https://industry4skillnet.com/programme/qqi-train-the-trainer-15/
CATEGORIES:Project Management
END:VEVENT
BEGIN:VEVENT
DTSTART;TZID=Europe/Dublin:20220816T000000
DTEND;TZID=Europe/Dublin:20220819T000000
DTSTAMP:20260420T035706
CREATED:20211221T102915Z
LAST-MODIFIED:20220106T112644Z
UID:10000649-1660608000-1660867200@industry4skillnet.com
SUMMARY:SI100 Logix5000 Project Development & Basic Ladder Programming
DESCRIPTION:This training programme comes with a Skillnet discount for member companies.  DESCRIPTION  \nEnquire Now
URL:https://industry4skillnet.com/programme/si100-logix5000-project-development-basic-ladder-programming-2/
CATEGORIES:Rockwell Automation
END:VEVENT
BEGIN:VEVENT
DTSTART;TZID=Europe/Dublin:20220810T000000
DTEND;TZID=Europe/Dublin:20220812T000000
DTSTAMP:20260420T035706
CREATED:20211214T103440Z
LAST-MODIFIED:20211221T095728Z
UID:10000418-1660089600-1660262400@industry4skillnet.com
SUMMARY:QQI Train the trainer
DESCRIPTION:This training programme comes with a 30% Skillnet discount for member companies.  This practical course enables you to overcome barriers to effectively and confidently deliver high impact training. This course provides guidance on the effective planning and delivery of training in the office\, shop floor\, retail\, factory\, hotel\, laboratory or other areas including beauty\, hairdressing\, health and safety. We have had people from all areas attend this course. \nEnquire Now
URL:https://industry4skillnet.com/programme/qqi-train-the-trainer-14/
CATEGORIES:Project Management
END:VEVENT
BEGIN:VEVENT
DTSTART;TZID=Europe/Dublin:20220801T000000
DTEND;TZID=Europe/Dublin:20220804T000000
DTSTAMP:20260420T035706
CREATED:20220511T113800Z
LAST-MODIFIED:20220511T113800Z
UID:10000800-1659312000-1659571200@industry4skillnet.com
SUMMARY:Virtual Classroom Training - Autodesk Inventor Training Course Parts 1 & 2
DESCRIPTION:This training programme comes with a 30% Skillnet discount for member companies.  The primary objective of this course is to provide delegates with a thorough understanding of the principal 3D design\, validation and documentation processes that they will use to develop products using Autodesk Inventor. \nEnquire Now
URL:https://industry4skillnet.com/programme/virtual-classroom-training-autodesk-inventor-training-course-parts-1-2-4/
CATEGORIES:CADLINE
END:VEVENT
BEGIN:VEVENT
DTSTART;TZID=Europe/Dublin:20220801T000000
DTEND;TZID=Europe/Dublin:20220804T000000
DTSTAMP:20260420T035706
CREATED:20220106T112529Z
LAST-MODIFIED:20220106T112529Z
UID:10000758-1659312000-1659571200@industry4skillnet.com
SUMMARY:CCP299 Studio 5000 ControlLogix Fundamentals & Troubleshooting
DESCRIPTION:This training programme comes with a Skillnet discount for member companies.  Upon completion of this course\, you should be able totroubleshoot a previously operational ControlLogix system and restore normal operation.\nYou will have the opportunity to develop and practice\nthese skills by:\nLearning basic concepts and terminology used with ControlLogix system hardware and Studio 5000 Logix Designer\nPracticing a systematic strategy for diagnosing and troubleshooting problems:\n– Configuration issues\n– Electrical noise\n– Faulty/malfunctioning field devices\n– Controller I/O\, or other hardware issues\n• Performing hands-on exercises \nEnquire Now
URL:https://industry4skillnet.com/programme/ccp299-studio-5000-controllogix-fundamentals-troubleshooting-11/
CATEGORIES:Rockwell Automation
END:VEVENT
END:VCALENDAR