BEGIN:VCALENDAR
VERSION:2.0
PRODID:-//Industry 4.0 Skillnet - ECPv6.15.20//NONSGML v1.0//EN
CALSCALE:GREGORIAN
METHOD:PUBLISH
X-WR-CALNAME:Industry 4.0 Skillnet
X-ORIGINAL-URL:https://industry4skillnet.com
X-WR-CALDESC:Events for Industry 4.0 Skillnet
REFRESH-INTERVAL;VALUE=DURATION:PT1H
X-Robots-Tag:noindex
X-PUBLISHED-TTL:PT1H
BEGIN:VTIMEZONE
TZID:Europe/Dublin
BEGIN:STANDARD
TZOFFSETFROM:+0000
TZOFFSETTO:+0100
TZNAME:IST
DTSTART:20210328T010000
END:STANDARD
BEGIN:DAYLIGHT
TZOFFSETFROM:+0100
TZOFFSETTO:+0000
TZNAME:GMT
DTSTART:20211031T010000
END:DAYLIGHT
BEGIN:STANDARD
TZOFFSETFROM:+0000
TZOFFSETTO:+0100
TZNAME:IST
DTSTART:20220327T010000
END:STANDARD
BEGIN:DAYLIGHT
TZOFFSETFROM:+0100
TZOFFSETTO:+0000
TZNAME:GMT
DTSTART:20221030T010000
END:DAYLIGHT
BEGIN:STANDARD
TZOFFSETFROM:+0000
TZOFFSETTO:+0100
TZNAME:IST
DTSTART:20230326T010000
END:STANDARD
BEGIN:DAYLIGHT
TZOFFSETFROM:+0100
TZOFFSETTO:+0000
TZNAME:GMT
DTSTART:20231029T010000
END:DAYLIGHT
END:VTIMEZONE
BEGIN:VEVENT
DTSTART;TZID=Europe/Dublin:20220707T000000
DTEND;TZID=Europe/Dublin:20220708T000000
DTSTAMP:20260420T083057
CREATED:20220511T113048Z
LAST-MODIFIED:20220511T113048Z
UID:10000773-1657152000-1657238400@industry4skillnet.com
SUMMARY:Virtual Classroom Training - Introduction to GeoServer Training Course
DESCRIPTION:This training programme comes with a 30% Skillnet discount for member companies. No previous CAD experience is necessary. However\, drafting\, design or engineering experience would be an advantage.It is also recommended that delegates have a working knowledge of Microsoft Windows.Delegates should have some experience using GIS software and knowledge of GIS concepts is preferential.This two-day intensive course introduces you to the core functionality of GeoServer\, taking you through all the tools you will need to load\, publish and share geospatial data. GeoServer is an Open Source software server designed for interoperability; publishing data from any major spatial data source using open standards\, allowing users to share and edit geospatial data. \nEnquire Now
URL:https://industry4skillnet.com/programme/virtual-classroom-training-introduction-to-geoserver-training-course-2/
CATEGORIES:CADLINE
END:VEVENT
BEGIN:VEVENT
DTSTART;TZID=Europe/Dublin:20220706T000000
DTEND;TZID=Europe/Dublin:20220708T000000
DTSTAMP:20260420T083057
CREATED:20220511T113035Z
LAST-MODIFIED:20220511T113035Z
UID:10000769-1657065600-1657238400@industry4skillnet.com
SUMMARY:Virtual Classroom Training - AutoCAD & AutoCAD LT Essentials Training Course
DESCRIPTION:This training programme comes with a 30% Skillnet discount for member companies.  The primary objective of this course is to teach users the basic commands necessary for professional 2D drawing\, design and drafting using AutoCAD / AutoCAD LT. \nEnquire Now
URL:https://industry4skillnet.com/programme/virtual-classroom-training-autocad-autocad-lt-essentials-training-course-24/
CATEGORIES:CADLINE
END:VEVENT
BEGIN:VEVENT
DTSTART;TZID=Europe/Dublin:20220706T000000
DTEND;TZID=Europe/Dublin:20220708T000000
DTSTAMP:20260420T083057
CREATED:20211214T103438Z
LAST-MODIFIED:20211221T095728Z
UID:10000416-1657065600-1657238400@industry4skillnet.com
SUMMARY:QQI Train the trainer
DESCRIPTION:This training programme comes with a 30% Skillnet discount for member companies.  This practical course enables you to overcome barriers to effectively and confidently deliver high impact training. This course provides guidance on the effective planning and delivery of training in the office\, shop floor\, retail\, factory\, hotel\, laboratory or other areas including beauty\, hairdressing\, health and safety. We have had people from all areas attend this course. \nEnquire Now
URL:https://industry4skillnet.com/programme/qqi-train-the-trainer-12/
CATEGORIES:Project Management
END:VEVENT
BEGIN:VEVENT
DTSTART;TZID=Europe/Dublin:20220705T000000
DTEND;TZID=Europe/Dublin:20220708T000000
DTSTAMP:20260420T083057
CREATED:20220511T113800Z
LAST-MODIFIED:20220511T113800Z
UID:10000799-1656979200-1657238400@industry4skillnet.com
SUMMARY:Virtual Classroom Training - Autodesk Inventor Training Course Parts 1 & 3
DESCRIPTION:This training programme comes with a 30% Skillnet discount for member companies.  The primary objective of this course is to provide delegates with a thorough understanding of the principal 3D design\, validation and documentation processes that they will use to develop products using Autodesk Inventor. \nEnquire Now
URL:https://industry4skillnet.com/programme/virtual-classroom-training-autodesk-inventor-training-course-parts-1-3/
CATEGORIES:CADLINE
END:VEVENT
BEGIN:VEVENT
DTSTART;TZID=Europe/Dublin:20220704T000000
DTEND;TZID=Europe/Dublin:20220708T000000
DTSTAMP:20260420T083057
CREATED:20211222T122025Z
LAST-MODIFIED:20211222T122025Z
UID:10000693-1656892800-1657238400@industry4skillnet.com
SUMMARY:PROFINET with Industrial Ethernet in the TIA Portal Course (IK-TIAPN)
DESCRIPTION:This training programme comes with a Skillnet discount for member companies.  Using SIMATIC NET components\, you will learn how to parameterize\, commission and troubleshoot a PROFINET network quickly and effectively. Numerous practical exercises reinforce the acquired theoretical knowledge.  \nEnquire Now
URL:https://industry4skillnet.com/programme/profinet-with-industrial-ethernet-in-the-tia-portal-course-ik-tiapn-2/
CATEGORIES:Siemens
END:VEVENT
BEGIN:VEVENT
DTSTART;TZID=Europe/Dublin:20220704T000000
DTEND;TZID=Europe/Dublin:20220706T000000
DTSTAMP:20260420T083057
CREATED:20220511T114110Z
LAST-MODIFIED:20220511T114110Z
UID:10000807-1656892800-1657065600@industry4skillnet.com
SUMMARY:Virtual Classroom Training - Revit Architecture Essentials Training Course
DESCRIPTION:This training programme comes with a 30% Skillnet discount for member companies.  The primary objective of this course is to teach delegates the concepts of Building Information Modelling and introduce the tools for parametric building design and documentation using Revit Architecture. \nEnquire Now
URL:https://industry4skillnet.com/programme/virtual-classroom-training-revit-architecture-essentials-training-course-6/
CATEGORIES:CADLINE
END:VEVENT
BEGIN:VEVENT
DTSTART;TZID=Europe/Dublin:20220704T000000
DTEND;TZID=Europe/Dublin:20220704T000000
DTSTAMP:20260420T083057
CREATED:20211222T122313Z
LAST-MODIFIED:20211222T122313Z
UID:10000713-1656892800-1656892800@industry4skillnet.com
SUMMARY:SIMOTION and SINAMICS S120 - Diagnostics and Service (MC-SMO-DG)
DESCRIPTION:This training programme comes with a Skillnet discount for member companies.   You are responsible for the reliable operation of the SIMOTION automation system and the SINAMCS S120 drive system. In this course\, you learn the proper way to handle systems when a fault occurs. Based on prepared projects\, you analyse signal interconnection and programming. Using projects with deliberate faults and errors\, you identify and resolve faults. \nEnquire Now
URL:https://industry4skillnet.com/programme/simotion-and-sinamics-s120-diagnostics-and-service-mc-smo-dg-2/
CATEGORIES:Siemens
END:VEVENT
BEGIN:VEVENT
DTSTART;TZID=Europe/Dublin:20220701T000000
DTEND;TZID=Europe/Dublin:20220701T000000
DTSTAMP:20260420T083057
CREATED:20220511T113600Z
LAST-MODIFIED:20220511T113600Z
UID:10000792-1656633600-1656633600@industry4skillnet.com
SUMMARY:Virtual Classroom Training - AutoCAD Advanced Blocks Training Course -Intermediate AutoCAD Level
DESCRIPTION:This training programme comes with a 30% Skillnet discount for member companies.  The primary objective of this course is to teach users the basic commands necessary for professional 2D drawing\, design and drafting using AutoCAD / AutoCAD LT. \nEnquire Now
URL:https://industry4skillnet.com/programme/virtual-classroom-training-autocad-advanced-blocks-training-course-intermediate-autocad-level-2/
CATEGORIES:CADLINE
END:VEVENT
BEGIN:VEVENT
DTSTART;TZID=Europe/Dublin:20220701T000000
DTEND;TZID=Europe/Dublin:20220701T000000
DTSTAMP:20260420T083057
CREATED:20220511T113514Z
LAST-MODIFIED:20220511T113514Z
UID:10000791-1656633600-1656633600@industry4skillnet.com
SUMMARY:Virtual Classroom Training - AutoCAD Dynamic Blocks Training Course -Intermediate AutoCAD Level
DESCRIPTION:This training programme comes with a 30% Skillnet discount for member companies.  The primary objective of this course is to teach users the basic commands necessary for professional 2D drawing\, design and drafting using AutoCAD / AutoCAD LT. \nEnquire Now
URL:https://industry4skillnet.com/programme/virtual-classroom-training-autocad-dynamic-blocks-training-course-intermediate-autocad-level-2/
CATEGORIES:CADLINE
END:VEVENT
BEGIN:VEVENT
DTSTART;TZID=Europe/Dublin:20220630T000000
DTEND;TZID=Europe/Dublin:20220701T000000
DTSTAMP:20260420T083057
CREATED:20220511T113759Z
LAST-MODIFIED:20220511T113759Z
UID:10000797-1656547200-1656633600@industry4skillnet.com
SUMMARY:Virtual Classroom Training - AutoCAD Electrical Essentials Training Course
DESCRIPTION:This training programme comes with a 30% Skillnet discount for member companies.  This course teaches the production of Electrical Schematic Drawing\, Terminal Plan Drawing\, Bill of Materials in various formats\, Connection List reports and other associated reports using AutoCAD Electrical. We work up at least one project from a blank starting point\, and include during this project the generation of new symbol elements. It is entirely practical\, with a hands-onapproach and you will have your own professional CAD computer. You will be given your own bound set of course notes\, which includes a reference guide. \nEnquire Now
URL:https://industry4skillnet.com/programme/virtual-classroom-training-autocad-electrical-essentials-training-course-4/
CATEGORIES:CADLINE
END:VEVENT
BEGIN:VEVENT
DTSTART;TZID=Europe/Dublin:20220628T000000
DTEND;TZID=Europe/Dublin:20220630T000000
DTSTAMP:20260420T083057
CREATED:20211221T100629Z
LAST-MODIFIED:20211222T121853Z
UID:10000609-1656374400-1656547200@industry4skillnet.com
SUMMARY:S7 1200 Basic Course (TIA-MICRO1)
DESCRIPTION:This training programme comes with a Skillnet discount for member companies.  This course introduces the participant to the Siemens 1200 PLC hardware and software and will build skills on programming\, installation\, commissioning and basic fault diagnostics\, utilising a HMI and PLC\, PROFINET communications network. Participants will learn to navigate S7 1200 software by creating a basic control program and use of the built-in diagnostics tools.  \nEnquire Now
URL:https://industry4skillnet.com/programme/s7-1200-basic-course-tia-micro1-3/
CATEGORIES:Siemens
END:VEVENT
BEGIN:VEVENT
DTSTART;TZID=Europe/Dublin:20220627T000000
DTEND;TZID=Europe/Dublin:20220701T000000
DTSTAMP:20260420T083057
CREATED:20211222T122244Z
LAST-MODIFIED:20211222T122244Z
UID:10000705-1656288000-1656633600@industry4skillnet.com
SUMMARY:840D Solution Line Service Course (NC-84SL-SK)
DESCRIPTION:This training programme comes with a Skillnet discount for member companies.   This course is aimed at Maintenance and Service Engineers who wish to maintain and service SINUMERIK 840D sl equipment. On completion of the course delegates will have the knowledge and abilities necessary to handle ongoing service and maintenance work on the machine tools SINUMERIK 840D sl and SINAMICS S120.  \nEnquire Now
URL:https://industry4skillnet.com/programme/840d-solution-line-service-course-nc-84sl-sk-3/
CATEGORIES:Siemens
END:VEVENT
BEGIN:VEVENT
DTSTART;TZID=Europe/Dublin:20220627T000000
DTEND;TZID=Europe/Dublin:20220701T000000
DTSTAMP:20260420T083057
CREATED:20211222T122010Z
LAST-MODIFIED:20211222T122010Z
UID:10000690-1656288000-1656633600@industry4skillnet.com
SUMMARY:WinCC System Course (ST-BWINCCS)
DESCRIPTION:This training programme comes with a Skillnet discount for member companies.  A foundation course to provide participants with a sound undertaking of the concepts of WINCC V7.x and the utilisation of its facilities and features. \nEnquire Now
URL:https://industry4skillnet.com/programme/wincc-system-course-st-bwinccs-2/
CATEGORIES:Siemens
END:VEVENT
BEGIN:VEVENT
DTSTART;TZID=Europe/Dublin:20220627T000000
DTEND;TZID=Europe/Dublin:20220701T000000
DTSTAMP:20260420T083057
CREATED:20211221T100508Z
LAST-MODIFIED:20211222T121726Z
UID:10000577-1656288000-1656633600@industry4skillnet.com
SUMMARY:TIA Portal Service 1 Course (TIA-SERV1)
DESCRIPTION:This training programme comes with a Skillnet discount for member companies.   In this first part of the SIMATIC TIA Portal service training\, we teach you the handling of the TIA Portal\, basic knowledge about the structure of the SIMATIC S7 automation system\, configuration and parameterization of hardware\, and the basics of programming. You also receive an overview of HMI\, PROFINET IO / PROFIBUS\, Distributed I/O and connecting drives. You will learn to diagnose and clear simple hardware faults and software errors. You will thus be capable of reducing downtimes in your plant. \nEnquire Now
URL:https://industry4skillnet.com/programme/tia-portal-service-1-course-tia-serv1-7/
CATEGORIES:Siemens
END:VEVENT
BEGIN:VEVENT
DTSTART;TZID=Europe/Dublin:20220627T000000
DTEND;TZID=Europe/Dublin:20220630T000000
DTSTAMP:20260420T083057
CREATED:20211221T102800Z
LAST-MODIFIED:20220106T112529Z
UID:10000622-1656288000-1656547200@industry4skillnet.com
SUMMARY:CCP299 Studio 5000 ControlLogix Fundamentals & Troubleshooting
DESCRIPTION:This training programme comes with a Skillnet discount for member companies.  Upon completion of this course\, you should be able totroubleshoot a previously operational ControlLogix system and restore normal operation.\nYou will have the opportunity to develop and practice\nthese skills by:\nLearning basic concepts and terminology used with ControlLogix system hardware and Studio 5000 Logix Designer\nPracticing a systematic strategy for diagnosing and troubleshooting problems:\n– Configuration issues\n– Electrical noise\n– Faulty/malfunctioning field devices\n– Controller I/O\, or other hardware issues\n• Performing hands-on exercises \nEnquire Now
URL:https://industry4skillnet.com/programme/ccp299-studio-5000-controllogix-fundamentals-troubleshooting-5/
CATEGORIES:Rockwell Automation
END:VEVENT
BEGIN:VEVENT
DTSTART;TZID=Europe/Dublin:20220627T000000
DTEND;TZID=Europe/Dublin:20220629T000000
DTSTAMP:20260420T083057
CREATED:20220511T113035Z
LAST-MODIFIED:20220511T113035Z
UID:10000771-1656288000-1656460800@industry4skillnet.com
SUMMARY:Virtual Classroom Training - Civil 3D Essentials Training Course
DESCRIPTION:This training programme comes with a 30% Skillnet discount for member companies.  This course is designed to teach the essential elements of AutoCAD Civil 3D to new users. Delegates should have a working knowledge of AutoCAD.It is also recommended that delegates have a working knowledge of Microsoft Windows. \nEnquire Now
URL:https://industry4skillnet.com/programme/virtual-classroom-training-civil-3d-essentials-training-course-8/
CATEGORIES:CADLINE
END:VEVENT
BEGIN:VEVENT
DTSTART;TZID=Europe/Dublin:20220627T000000
DTEND;TZID=Europe/Dublin:20220629T000000
DTSTAMP:20260420T083057
CREATED:20220511T113034Z
LAST-MODIFIED:20220511T113034Z
UID:10000768-1656288000-1656460800@industry4skillnet.com
SUMMARY:Virtual Classroom Training - AutoCAD & AutoCAD LT Essentials Training Course
DESCRIPTION:This training programme comes with a 30% Skillnet discount for member companies.  The primary objective of this course is to teach users the basic commands necessary for professional 2D drawing\, design and drafting using AutoCAD / AutoCAD LT. \nEnquire Now
URL:https://industry4skillnet.com/programme/virtual-classroom-training-autocad-autocad-lt-essentials-training-course-23/
CATEGORIES:CADLINE
END:VEVENT
BEGIN:VEVENT
DTSTART;TZID=Europe/Dublin:20220627T000000
DTEND;TZID=Europe/Dublin:20220629T000000
DTSTAMP:20260420T083057
CREATED:20211214T103552Z
LAST-MODIFIED:20211221T095843Z
UID:10000440-1656288000-1656460800@industry4skillnet.com
SUMMARY:QQI Effective People Management
DESCRIPTION:This training programme comes with a 30% Skillnet discount for member companies.  This practical course enables you to overcome barriers to effectively and confidently deliver high impact training. This course provides guidance on the effective planning and delivery of training in the office\, shop floor\, retail\, factory\, hotel\, laboratory or other areas including beauty\, hairdressing\, health and safety. We have had people from all areas attend this course. \nEnquire Now
URL:https://industry4skillnet.com/programme/qqi-effective-people-management-6/
CATEGORIES:Project Management
END:VEVENT
BEGIN:VEVENT
DTSTART;TZID=Europe/Dublin:20220627T000000
DTEND;TZID=Europe/Dublin:20220627T000000
DTSTAMP:20260420T083057
CREATED:20220511T113600Z
LAST-MODIFIED:20220511T113600Z
UID:10000794-1656288000-1656288000@industry4skillnet.com
SUMMARY:Virtual Classroom Training - AutoCAD Productivity Gains Training Course - Beyond The Basics
DESCRIPTION:This training programme comes with a 30% Skillnet discount for member companies.  The primary objective of this course is to teach users the basic commands necessary for professional 2D drawing\, design and drafting using AutoCAD / AutoCAD LT. \nEnquire Now
URL:https://industry4skillnet.com/programme/virtual-classroom-training-autocad-productivity-gains-training-course-beyond-the-basics-2/
CATEGORIES:CADLINE
END:VEVENT
BEGIN:VEVENT
DTSTART;TZID=Europe/Dublin:20220627T000000
DTEND;TZID=Europe/Dublin:20220627T000000
DTSTAMP:20260420T083057
CREATED:20220511T113600Z
LAST-MODIFIED:20220511T113600Z
UID:10000795-1656288000-1656288000@industry4skillnet.com
SUMMARY:Virtual Classroom Training - AutoCAD Blocks Training Course - Beyond The Basics
DESCRIPTION:This training programme comes with a 30% Skillnet discount for member companies.  The primary objective of this course is to teach users the basic commands necessary for professional 2D drawing\, design and drafting using AutoCAD / AutoCAD LT. \nEnquire Now
URL:https://industry4skillnet.com/programme/virtual-classroom-training-autocad-blocks-training-course-beyond-the-basics-2/
CATEGORIES:CADLINE
END:VEVENT
BEGIN:VEVENT
DTSTART;TZID=Europe/Dublin:20220627T000000
DTEND;TZID=Europe/Dublin:20220627T000000
DTSTAMP:20260420T083057
CREATED:20220511T113514Z
LAST-MODIFIED:20220511T113514Z
UID:10000790-1656288000-1656288000@industry4skillnet.com
SUMMARY:Virtual Classroom Training - AutoCAD Template Creation Training Course -Intermediate AutoCAD Level
DESCRIPTION:This training programme comes with a 30% Skillnet discount for member companies.  This course is designed to give the Revit user a good understanding of Revit Families\, including best practices and correct creation. \nEnquire Now
URL:https://industry4skillnet.com/programme/virtual-classroom-training-autocad-template-creation-training-course-intermediate-autocad-level-2/
CATEGORIES:CADLINE
END:VEVENT
BEGIN:VEVENT
DTSTART;TZID=Europe/Dublin:20220624T000000
DTEND;TZID=Europe/Dublin:20220624T000000
DTSTAMP:20260420T083057
CREATED:20220511T113513Z
LAST-MODIFIED:20220511T113513Z
UID:10000787-1656028800-1656028800@industry4skillnet.com
SUMMARY:Virtual Classroom Training - Collaboration in Civil 3D with Data Shortcuts - Beyond The Basics
DESCRIPTION:This training programme comes with a 30% Skillnet discount for member companies.  The primary objective of this course is to teach users the basic commands necessary for professional 2D drawing\, design and drafting using Autodesk Civil 3D. \nEnquire Now
URL:https://industry4skillnet.com/programme/virtual-classroom-training-collaboration-in-civil-3d-with-data-shortcuts-beyond-the-basics-2/
CATEGORIES:CADLINE
END:VEVENT
BEGIN:VEVENT
DTSTART;TZID=Europe/Dublin:20220624T000000
DTEND;TZID=Europe/Dublin:20220624T000000
DTSTAMP:20260420T083057
CREATED:20220511T113314Z
LAST-MODIFIED:20220511T113314Z
UID:10000786-1656028800-1656028800@industry4skillnet.com
SUMMARY:Virtual Classroom Training - Civil 3D Grading Essentials - Beyond The Basics
DESCRIPTION:This training programme comes with a 30% Skillnet discount for member companies.  The primary objective of this course is to teach users the basic commands necessary for professional 2D drawing\, design and drafting using Autodesk Civil 3D. \nEnquire Now
URL:https://industry4skillnet.com/programme/virtual-classroom-training-civil-3d-grading-essentials-beyond-the-basics-2/
CATEGORIES:CADLINE
END:VEVENT
BEGIN:VEVENT
DTSTART;TZID=Europe/Dublin:20220623T090000
DTEND;TZID=Europe/Dublin:20220623T170000
DTSTAMP:20260420T083057
CREATED:20220509T095013Z
LAST-MODIFIED:20220509T095013Z
UID:10000761-1655974800-1656003600@industry4skillnet.com
SUMMARY:Virtual and Augmented Reality for Industry
DESCRIPTION:After completing this programme the participant should have a fundamental grasp of the possibilities that AR and VR technologies represent. This programme will introduce the technologies involved and then using case studies from Irish businesses demonstrate the benefits they afford a company\, the challenges associated with their implementation and how they can be effectively put to use. \nDuring this hands on class you will learn about: \nAR and VR technologies\nHow to complete tasks with immersive technology\nApplications in training and development\nApplications in advanced repair and maintenance\nHow it facilitates business during travel restrictions. \nRegister Now:\nhttps://industry4skillnet.com/virtual-and-augmented-reality-for-industry/#
URL:https://industry4skillnet.com/programme/virtual-and-augmented-reality-for-industry/
LOCATION:Engineers Ireland\, 22 Clyde Road\, Ballsbridge\, Dublin
END:VEVENT
BEGIN:VEVENT
DTSTART;TZID=Europe/Dublin:20220623T000000
DTEND;TZID=Europe/Dublin:20220624T000000
DTSTAMP:20260420T083057
CREATED:20211222T121909Z
LAST-MODIFIED:20211222T121909Z
UID:10000667-1655942400-1656028800@industry4skillnet.com
SUMMARY:(Online) SIMATIC Programming 2 with S7-SCL in the TIA Portal (TIA-SCL2)
DESCRIPTION:This training programme comes with a Skillnet discount for member companies.  The course aims to inform participants about the complete language and performance scope of the Structured Control Language (SCL) development environment \nEnquire Now
URL:https://industry4skillnet.com/programme/online-simatic-programming-2-with-s7-scl-in-the-tia-portal-tia-scl2/
CATEGORIES:Siemens
END:VEVENT
BEGIN:VEVENT
DTSTART;TZID=Europe/Dublin:20220623T000000
DTEND;TZID=Europe/Dublin:20220624T000000
DTSTAMP:20260420T083057
CREATED:20211221T100640Z
LAST-MODIFIED:20211221T100640Z
UID:10000611-1655942400-1656028800@industry4skillnet.com
SUMMARY:Online-Training" SIMATIC Programming 2 with S7-SCL in the TIA Portal (TIA-SCL2)
DESCRIPTION:This training programme comes with a Skillnet discount for member companies.  The course aims to inform participants about the complete language and performance scope of the Structured Control Language (SCL) development environment \nEnquire Now
URL:https://industry4skillnet.com/programme/online-training-simatic-programming-2-with-s7-scl-in-the-tia-portal-tia-scl2/
CATEGORIES:Siemens
END:VEVENT
BEGIN:VEVENT
DTSTART;TZID=Europe/Dublin:20220622T000000
DTEND;TZID=Europe/Dublin:20220624T000000
DTSTAMP:20260420T083057
CREATED:20220511T113034Z
LAST-MODIFIED:20220511T113034Z
UID:10000767-1655856000-1656028800@industry4skillnet.com
SUMMARY:Virtual Classroom Training - AutoCAD & AutoCAD LT Essentials Training Course
DESCRIPTION:This training programme comes with a 30% Skillnet discount for member companies.  The primary objective of this course is to teach users the basic commands necessary for professional 2D drawing\, design and drafting using AutoCAD / AutoCAD LT. \nEnquire Now
URL:https://industry4skillnet.com/programme/virtual-classroom-training-autocad-autocad-lt-essentials-training-course-22/
CATEGORIES:CADLINE
END:VEVENT
BEGIN:VEVENT
DTSTART;TZID=Europe/Dublin:20220622T000000
DTEND;TZID=Europe/Dublin:20220624T000000
DTSTAMP:20260420T083057
CREATED:20211217T144445Z
LAST-MODIFIED:20211221T095728Z
UID:10000517-1655856000-1656028800@industry4skillnet.com
SUMMARY:QQI Train the trainer
DESCRIPTION:This training programme comes with a 30% Skillnet discount for member companies.  This practical course enables you to overcome barriers to effectively and confidently deliver high impact training. This course provides guidance on the effective planning and delivery of training in the office\, shop floor\, retail\, factory\, hotel\, laboratory or other areas including beauty\, hairdressing\, health and safety. We have had people from all areas attend this course. \nEnquire Now
URL:https://industry4skillnet.com/programme/qqi-train-the-trainer-45/
CATEGORIES:Project Management
END:VEVENT
BEGIN:VEVENT
DTSTART;TZID=Europe/Dublin:20220622T000000
DTEND;TZID=Europe/Dublin:20220624T000000
DTSTAMP:20260420T083057
CREATED:20211214T103437Z
LAST-MODIFIED:20211217T160103Z
UID:10000415-1655856000-1656028800@industry4skillnet.com
SUMMARY:QQI Train the trainer
DESCRIPTION:This training programme comes with a 30% Skillnet discount for member companies.  This practical course enables you to overcome barriers to effectively and confidently deliver high impact training. This course provides guidance on the effective planning and delivery of training in the office\, shop floor\, retail\, factory\, hotel\, laboratory or other areas including beauty\, hairdressing\, health and safety. We have had people from all areas attend this course. \nEnquire Now
URL:https://industry4skillnet.com/programme/qqi-train-the-trainer-11/
CATEGORIES:Project Management
END:VEVENT
BEGIN:VEVENT
DTSTART;TZID=Europe/Dublin:20220621T000000
DTEND;TZID=Europe/Dublin:20220623T000000
DTSTAMP:20260420T083057
CREATED:20211222T122311Z
LAST-MODIFIED:20211222T122311Z
UID:10000711-1655769600-1655942400@industry4skillnet.com
SUMMARY:Sinamics G120 Parameterizing and Commissioning Course (DR-G12-PM)
DESCRIPTION:This training programme comes with a Skillnet discount for member companies.   SINAMICS G120 allow the variable-speed operation of induction motors to drive pumps\, fans\, conveyor systems and many other machines. This course shows you how to handle the SINAMICS G120 inverter. \nEnquire Now
URL:https://industry4skillnet.com/programme/sinamics-g120-parameterizing-and-commissioning-course-dr-g12-pm-3/
CATEGORIES:Siemens
END:VEVENT
END:VCALENDAR