BEGIN:VCALENDAR
VERSION:2.0
PRODID:-//Industry 4.0 Skillnet - ECPv6.15.20//NONSGML v1.0//EN
CALSCALE:GREGORIAN
METHOD:PUBLISH
X-WR-CALNAME:Industry 4.0 Skillnet
X-ORIGINAL-URL:https://industry4skillnet.com
X-WR-CALDESC:Events for Industry 4.0 Skillnet
REFRESH-INTERVAL;VALUE=DURATION:PT1H
X-Robots-Tag:noindex
X-PUBLISHED-TTL:PT1H
BEGIN:VTIMEZONE
TZID:Europe/Dublin
BEGIN:STANDARD
TZOFFSETFROM:+0000
TZOFFSETTO:+0100
TZNAME:IST
DTSTART:20210328T010000
END:STANDARD
BEGIN:DAYLIGHT
TZOFFSETFROM:+0100
TZOFFSETTO:+0000
TZNAME:GMT
DTSTART:20211031T010000
END:DAYLIGHT
BEGIN:STANDARD
TZOFFSETFROM:+0000
TZOFFSETTO:+0100
TZNAME:IST
DTSTART:20220327T010000
END:STANDARD
BEGIN:DAYLIGHT
TZOFFSETFROM:+0100
TZOFFSETTO:+0000
TZNAME:GMT
DTSTART:20221030T010000
END:DAYLIGHT
BEGIN:STANDARD
TZOFFSETFROM:+0000
TZOFFSETTO:+0100
TZNAME:IST
DTSTART:20230326T010000
END:STANDARD
BEGIN:DAYLIGHT
TZOFFSETFROM:+0100
TZOFFSETTO:+0000
TZNAME:GMT
DTSTART:20231029T010000
END:DAYLIGHT
END:VTIMEZONE
BEGIN:VEVENT
DTSTART;TZID=Europe/Dublin:20220523T000000
DTEND;TZID=Europe/Dublin:20220527T000000
DTSTAMP:20260420T185904
CREATED:20211221T102945Z
LAST-MODIFIED:20220106T112714Z
UID:10000658-1653264000-1653609600@industry4skillnet.com
SUMMARY:CCV207 FactoryTalk View SE Programming
DESCRIPTION:This training programme comes with a Skillnet discount for member companies.  This course provides guidance on how to organize and develop FactoryTalk View Site Edition (SE) applications. You will have the opportunity to practice the skills used to create an application and build graphic displays. You will learn how to configure alarms and security\, trend data\, and test your application using FactoryTalk View SE Client. You will also work with FactoryTalk Linx communications software and the FactoryTalk Diagnostics system. \nEnquire Now
URL:https://industry4skillnet.com/programme/ccv207-factorytalk-view-se-programming-2/
CATEGORIES:Rockwell Automation
END:VEVENT
BEGIN:VEVENT
DTSTART;TZID=Europe/Dublin:20220523T000000
DTEND;TZID=Europe/Dublin:20220527T000000
DTSTAMP:20260420T185904
CREATED:20211221T100526Z
LAST-MODIFIED:20211222T121756Z
UID:10000589-1653264000-1653609600@industry4skillnet.com
SUMMARY:TIA Portal Programming 1 Course (TIA-PRO1)
DESCRIPTION:This training programme comes with a Skillnet discount for member companies.  In this first part of the SIMATIC TIA Portal programming training\, we teach you the handling of the TIA Portal\, basic knowledge about the structure of the SIMATIC S7 automation system\, configuration and parameterization of hardware\, and the basics of standard PLC programming. You also receive an overview of HMI\, PROFINET IO\, and connecting drives. \nEnquire Now
URL:https://industry4skillnet.com/programme/tia-portal-programming-1-course-tia-pro1-7/
CATEGORIES:Siemens
END:VEVENT
BEGIN:VEVENT
DTSTART;TZID=Europe/Dublin:20220523T000000
DTEND;TZID=Europe/Dublin:20220527T000000
DTSTAMP:20260420T185904
CREATED:20211221T100507Z
LAST-MODIFIED:20211222T121726Z
UID:10000576-1653264000-1653609600@industry4skillnet.com
SUMMARY:TIA Portal Service 1 Course (TIA-SERV1)
DESCRIPTION:This training programme comes with a Skillnet discount for member companies.   In this first part of the SIMATIC TIA Portal service training\, we teach you the handling of the TIA Portal\, basic knowledge about the structure of the SIMATIC S7 automation system\, configuration and parameterization of hardware\, and the basics of programming. You also receive an overview of HMI\, PROFINET IO / PROFIBUS\, Distributed I/O and connecting drives. You will learn to diagnose and clear simple hardware faults and software errors. You will thus be capable of reducing downtimes in your plant. \nEnquire Now
URL:https://industry4skillnet.com/programme/tia-portal-service-1-course-tia-serv1-6/
CATEGORIES:Siemens
END:VEVENT
BEGIN:VEVENT
DTSTART;TZID=Europe/Dublin:20220523T000000
DTEND;TZID=Europe/Dublin:20220524T000000
DTSTAMP:20260420T185904
CREATED:20220511T113248Z
LAST-MODIFIED:20220511T113248Z
UID:10000777-1653264000-1653350400@industry4skillnet.com
SUMMARY:Virtual Classroom Training - AutoCAD Intermediate Training Course
DESCRIPTION:This training programme comes with a 30% Skillnet discount for member companies. This course is designed for the experienced AutoCAD user who requires additional training. It incorporates the features\, commands\, and techniques for becoming more productive when creating\, annotating and printing drawings with AutoCAD. This intermediate-level course continues to build on the basic concepts of the AutoCAD for New Users Course. \nEnquire Now
URL:https://industry4skillnet.com/programme/virtual-classroom-training-autocad-intermediate-training-course-3/
CATEGORIES:CADLINE
END:VEVENT
BEGIN:VEVENT
DTSTART;TZID=Europe/Dublin:20220518T000000
DTEND;TZID=Europe/Dublin:20220520T000000
DTSTAMP:20260420T185904
CREATED:20220511T114001Z
LAST-MODIFIED:20220511T114001Z
UID:10000804-1652832000-1653004800@industry4skillnet.com
SUMMARY:Virtual Classroom Training - Revit Architecture Essentials Training Course
DESCRIPTION:This training programme comes with a 30% Skillnet discount for member companies.  The primary objective of this course is to teach delegates the concepts of Building Information Modelling and introduce the tools for parametric building design and documentation using Revit Architecture. \nEnquire Now
URL:https://industry4skillnet.com/programme/virtual-classroom-training-revit-architecture-essentials-training-course-3/
CATEGORIES:CADLINE
END:VEVENT
BEGIN:VEVENT
DTSTART;TZID=Europe/Dublin:20220518T000000
DTEND;TZID=Europe/Dublin:20220520T000000
DTSTAMP:20260420T185904
CREATED:20220511T113800Z
LAST-MODIFIED:20220511T113800Z
UID:10000801-1652832000-1653004800@industry4skillnet.com
SUMMARY:Virtual Classroom Training - Revit MEP Essentials Training Course
DESCRIPTION:This training programme comes with a 30% Skillnet discount for member companies.  The primary objective of this course is to teach delegates the concepts of building information modelling and introduce the tools for parametric engineering design and documentation using Revit MEP. \nEnquire Now
URL:https://industry4skillnet.com/programme/virtual-classroom-training-revit-mep-essentials-training-course-4/
CATEGORIES:CADLINE
END:VEVENT
BEGIN:VEVENT
DTSTART;TZID=Europe/Dublin:20220518T000000
DTEND;TZID=Europe/Dublin:20220520T000000
DTSTAMP:20260420T185904
CREATED:20220511T113021Z
LAST-MODIFIED:20220511T113021Z
UID:10000762-1652832000-1653004800@industry4skillnet.com
SUMMARY:Virtual Classroom Training - AutoCAD & AutoCAD LT Essentials Training Course
DESCRIPTION:This training programme comes with a 30% Skillnet discount for member companies.  The primary objective of this course is to teach users the basic commands necessary for professional 2D drawing\, design and drafting using AutoCAD / AutoCAD LT. \nEnquire Now
URL:https://industry4skillnet.com/programme/virtual-classroom-training-autocad-autocad-lt-essentials-training-course-17/
CATEGORIES:CADLINE
END:VEVENT
BEGIN:VEVENT
DTSTART;TZID=Europe/Dublin:20220518T000000
DTEND;TZID=Europe/Dublin:20220520T000000
DTSTAMP:20260420T185904
CREATED:20211214T103624Z
LAST-MODIFIED:20211221T095927Z
UID:10000454-1652832000-1653004800@industry4skillnet.com
SUMMARY:QQI Project Management
DESCRIPTION:This training programme comes with a 30% Skillnet discount for member companies.  This practical course enables you to overcome barriers to effectively and confidently deliver high impact training. This course provides guidance on the effective planning and delivery of training in the office\, shop floor\, retail\, factory\, hotel\, laboratory or other areas including beauty\, hairdressing\, health and safety. We have had people from all areas attend this course. \nEnquire Now
URL:https://industry4skillnet.com/programme/qqi-project-management-3/
CATEGORIES:Project Management
END:VEVENT
BEGIN:VEVENT
DTSTART;TZID=Europe/Dublin:20220516T000000
DTEND;TZID=Europe/Dublin:20220520T000000
DTSTAMP:20260420T185904
CREATED:20211222T122009Z
LAST-MODIFIED:20211222T122009Z
UID:10000688-1652659200-1653004800@industry4skillnet.com
SUMMARY:Wincc Advanced Course (ST-BWINOND)
DESCRIPTION:This training programme comes with a Skillnet discount for member companies.  The SCADA system (Supervisory Control and Data Acquisition) WinCC is designed for visualization and operator control of processes\, production flows\, machines and plants. In the advanced course\, you will learn how to use SIMATIC WinCC easily and quickly for your applications. \nEnquire Now
URL:https://industry4skillnet.com/programme/wincc-advanced-course-st-bwinond/
CATEGORIES:Siemens
END:VEVENT
BEGIN:VEVENT
DTSTART;TZID=Europe/Dublin:20220516T000000
DTEND;TZID=Europe/Dublin:20220520T000000
DTSTAMP:20260420T185904
CREATED:20211222T121925Z
LAST-MODIFIED:20211222T121925Z
UID:10000674-1652659200-1653004800@industry4skillnet.com
SUMMARY:S7 Service 2 Course (ST-SERV2)
DESCRIPTION:This training programme comes with a Skillnet discount for member companies.  The course uses a ‘hands-on’ practical approach to reinforce the theoretical aspects of the training. Practical tasks are undertaken using a simulation rig\, distributed profibus nodes and S7-300. This course is for SIMATIC S7-300-400 PLC users with basic SIMATIC control system knowledge who install or maintain automation systems and their application programs. This course continues skill development in troubleshooting and modifying a control system.  \nEnquire Now
URL:https://industry4skillnet.com/programme/s7-service-2-course-st-serv2-2/
CATEGORIES:Siemens
END:VEVENT
BEGIN:VEVENT
DTSTART;TZID=Europe/Dublin:20220516T000000
DTEND;TZID=Europe/Dublin:20220520T000000
DTSTAMP:20260420T185904
CREATED:20211221T100611Z
LAST-MODIFIED:20211222T121839Z
UID:10000600-1652659200-1653004800@industry4skillnet.com
SUMMARY:TIA Portal Programming 3 Course (TIA-PRO3)
DESCRIPTION:This training programme comes with a Skillnet discount for member companies.  The third part of the SIMATIC TIA Portal programming training is based on the knowledge of the TIA Portal gained in the SIMATIC S7 TIA Portal programming courses 1 and 2\, including STEP 7\, SIMATIC S7\,HMI\, connection of drives\, and PROFINET IO. You will expand your knowledge regarding the reusability of STEP 7 blocks and their storage in user libraries. You will learn how to use the library concept to manage versioning of objects\, so called typification and also working with indirect addressing. You will create user-specific blocks for reporting\, handling and analyzing program errors. To save the machine data\, you will learn how to manage recipes in SIMATIC HMI (operator control and monitoring system). There will be an introduction to safety integrated concepts. You will set up communication between SIMATIC CPUs based on Industrial Ethernet. Working with Technology Objects for Positioning Axis and simple closed-loop control. The comprehensive knowledge that is imparted to you will allow you to shorten configuration times and to react flexibly to the need to optimize your plant. \nEnquire Now
URL:https://industry4skillnet.com/programme/tia-portal-programming-3-course-tia-pro3-4/
CATEGORIES:Siemens
END:VEVENT
BEGIN:VEVENT
DTSTART;TZID=Europe/Dublin:20220516T000000
DTEND;TZID=Europe/Dublin:20220519T000000
DTSTAMP:20260420T185904
CREATED:20211221T102859Z
LAST-MODIFIED:20220106T112629Z
UID:10000644-1652659200-1652918400@industry4skillnet.com
SUMMARY:CCP143 Studio 5000 Project Development
DESCRIPTION:This training programme comes with a Skillnet discount for member companies.  This course provides additional knowledge of common controller terms and operation. You can gain a deeper understanding of project development tasks that are common to all Logix5000 controllers. Such tasks include organizing tasks and routines\, organizing controller data\, configuring modules\, and sharing data. You will also use producer/consumer technology for multicasting to input and output devices\, sharing data between controllers\, and controlling remote I/O. \nEnquire Now
URL:https://industry4skillnet.com/programme/ccp143-studio-5000-project-development-3/
CATEGORIES:Rockwell Automation
END:VEVENT
BEGIN:VEVENT
DTSTART;TZID=Europe/Dublin:20220516T000000
DTEND;TZID=Europe/Dublin:20220516T000000
DTSTAMP:20260420T185904
CREATED:20211222T122227Z
LAST-MODIFIED:20211222T122227Z
UID:10000699-1652659200-1652659200@industry4skillnet.com
SUMMARY:SIMATIC PCS 7 Service 1 (ST-PCS7SR1)
DESCRIPTION:This training programme comes with a Skillnet discount for member companies.  The course provides you with basic knowledge of the SIMATIC PCS 7 process control system and an introduction to the processes of SIMATIC PCS 7 Asset Management \nEnquire Now
URL:https://industry4skillnet.com/programme/simatic-pcs-7-service-1-st-pcs7sr1-2/
CATEGORIES:Siemens
END:VEVENT
BEGIN:VEVENT
DTSTART;TZID=Europe/Dublin:20220511T000000
DTEND;TZID=Europe/Dublin:20220513T000000
DTSTAMP:20260420T185904
CREATED:20211214T103414Z
LAST-MODIFIED:20211221T095713Z
UID:10000412-1652227200-1652400000@industry4skillnet.com
SUMMARY:QQI Train the trainer
DESCRIPTION:This training programme comes with a 30% Skillnet discount for member companies.  This practical course enables you to overcome barriers to effectively and confidently deliver high impact training. This course provides guidance on the effective planning and delivery of training in the office\, shop floor\, retail\, factory\, hotel\, laboratory or other areas including beauty\, hairdressing\, health and safety. We have had people from all areas attend this course. \nEnquire Now
URL:https://industry4skillnet.com/programme/qqi-train-the-trainer-8/
CATEGORIES:Project Management
END:VEVENT
BEGIN:VEVENT
DTSTART;TZID=Europe/Dublin:20220510T000000
DTEND;TZID=Europe/Dublin:20220610T000000
DTSTAMP:20260420T185904
CREATED:20211221T102928Z
LAST-MODIFIED:20220106T112659Z
UID:10000654-1652140800-1654819200@industry4skillnet.com
SUMMARY:CCP154 Studio 5000 Structured Text & Sequential Function Chart Programming
DESCRIPTION:This training programme comes with a Skillnet discount for member companies.  Building on your project development skills\, such as creating tags and programming control code\, this course provides the skills and knowledge to program using the structured text and sequential function chart programming languages. \nEnquire Now
URL:https://industry4skillnet.com/programme/ccp154-studio-5000-structured-text-sequential-function-chart-programming-2/
CATEGORIES:Rockwell Automation
END:VEVENT
BEGIN:VEVENT
DTSTART;TZID=Europe/Dublin:20220509T000000
DTEND;TZID=Europe/Dublin:20220513T000000
DTSTAMP:20260420T185904
CREATED:20211222T122226Z
LAST-MODIFIED:20211222T122226Z
UID:10000697-1652054400-1652400000@industry4skillnet.com
SUMMARY:PCS7 Batch Course (ST-PCS7BAT)
DESCRIPTION:This training programme comes with a Skillnet discount for member companies.  Target group are project managers and assistants\, configuring engineers and users of PCS 7 configurations in batch processes. They get knowledge about batch basics and the SIMATIC Batch interfaces to the automation systems and their administration. \nEnquire Now
URL:https://industry4skillnet.com/programme/pcs7-batch-course-st-pcs7bat-2/
CATEGORIES:Siemens
END:VEVENT
BEGIN:VEVENT
DTSTART;TZID=Europe/Dublin:20220509T000000
DTEND;TZID=Europe/Dublin:20220513T000000
DTSTAMP:20260420T185904
CREATED:20211222T121943Z
LAST-MODIFIED:20211222T121943Z
UID:10000679-1652054400-1652400000@industry4skillnet.com
SUMMARY:S7 Programming 1 Course (ST-PRO1)
DESCRIPTION:This training programme comes with a Skillnet discount for member companies.  This course is primarily aimed at personnel who program other vendors PLCs and are looking to migrate their skills onto the S7 CPU.  \nEnquire Now
URL:https://industry4skillnet.com/programme/s7-programming-1-course-st-pro1-3/
CATEGORIES:Siemens
END:VEVENT
BEGIN:VEVENT
DTSTART;TZID=Europe/Dublin:20220509T000000
DTEND;TZID=Europe/Dublin:20220513T000000
DTSTAMP:20260420T185904
CREATED:20211221T100555Z
LAST-MODIFIED:20211222T121824Z
UID:10000595-1652054400-1652400000@industry4skillnet.com
SUMMARY:TIA Portal Programming 2 Course (TIA-PRO2)
DESCRIPTION:This training programme comes with a Skillnet discount for member companies.  In this first part of the SIMATIC TIA Portal programming training\, we teach you the handling of the TIA Portal\, basic knowledge about the structure of the SIMATIC S7 automation system\, configuration and parameterization of hardware\, and the basics of standard PLC programming. You also receive an overview of HMI\, PROFINET IO\, and connecting drives. \nEnquire Now
URL:https://industry4skillnet.com/programme/tia-portal-programming-2-course-tia-pro2-5/
CATEGORIES:Siemens
END:VEVENT
BEGIN:VEVENT
DTSTART;TZID=Europe/Dublin:20220509T000000
DTEND;TZID=Europe/Dublin:20220513T000000
DTSTAMP:20260420T185904
CREATED:20211221T100510Z
LAST-MODIFIED:20211222T121738Z
UID:10000580-1652054400-1652400000@industry4skillnet.com
SUMMARY:TIA Portal Service 2 Course (TIA-SERV2)
DESCRIPTION:This training programme comes with a Skillnet discount for member companies.  The second part of the SIMATIC TIA Portal service training is based on the knowledge of the TIA Portal gained in the SIMATIC TIA Portal service 1 course\, including SIMATIC STEP 7\, HMI\, connection of drives\, and PROFINET IO. You will expand your troubleshooting and error correction knowledge – using the TIA Portal diagnostic tool during the commissioning and production phase. Alarms are displayed on an operator control and HMI monitoring system. You will be introduced to the functions for controlling\, monitoring and editing programs written in Structured Control Language (SCL). You be introduced and make changes to a sequence control written SIMATIC S7-GRAPH. You will thus be able to adapt your plant to new demands and to reduce downtime. \nEnquire Now
URL:https://industry4skillnet.com/programme/tia-portal-service-2-course-tia-serv2-2/
CATEGORIES:Siemens
END:VEVENT
BEGIN:VEVENT
DTSTART;TZID=Europe/Dublin:20220504T000000
DTEND;TZID=Europe/Dublin:20220506T000000
DTSTAMP:20260420T185904
CREATED:20211221T100629Z
LAST-MODIFIED:20211222T121853Z
UID:10000608-1651622400-1651795200@industry4skillnet.com
SUMMARY:S7 1200 Basic Course (TIA-MICRO1)
DESCRIPTION:This training programme comes with a Skillnet discount for member companies.  This course introduces the participant to the Siemens 1200 PLC hardware and software and will build skills on programming\, installation\, commissioning and basic fault diagnostics\, utilising a HMI and PLC\, PROFINET communications network. Participants will learn to navigate S7 1200 software by creating a basic control program and use of the built-in diagnostics tools.  \nEnquire Now
URL:https://industry4skillnet.com/programme/s7-1200-basic-course-tia-micro1-2/
CATEGORIES:Siemens
END:VEVENT
BEGIN:VEVENT
DTSTART;TZID=Europe/Dublin:20220501T000000
DTEND;TZID=Europe/Dublin:20220701T000000
DTSTAMP:20260420T185904
CREATED:20211221T102959Z
LAST-MODIFIED:20220106T112730Z
UID:10000664-1651363200-1656633600@industry4skillnet.com
SUMMARY:RS-FTHSEC FactoryTalk Historian SE Configuration & Data Collection
DESCRIPTION:This training programme comes with a Skillnet discount for member companies.  This course will provide you with an overview of the various FactoryTalk® Historian tools for collecting data.You will learn how to configure a FactoryTalk Historian Site Edition system \nEnquire Now
URL:https://industry4skillnet.com/programme/rs-fthsec-factorytalk-historian-se-configuration-data-collection/
CATEGORIES:Rockwell Automation
END:VEVENT
BEGIN:VEVENT
DTSTART;TZID=Europe/Dublin:20220501T000000
DTEND;TZID=Europe/Dublin:20220701T000000
DTSTAMP:20260420T185904
CREATED:20211221T102958Z
LAST-MODIFIED:20220106T112729Z
UID:10000662-1651363200-1656633600@industry4skillnet.com
SUMMARY:FTAC FactoryTalk Asset Centre System Design & Implementation
DESCRIPTION:This training programme comes with a Skillnet discount for member companies.  This course provides you with the skills required to use FactoryTalk® AssetCentre software to maximize your control system investment and manage assets effectively. Throughout the course\, you will learn how to design a FactoryTalk AssetCentre system\, install and configure the software\, secure access to the control system\, track users’ actions\, manage asset configurationfiles\, provide backup and recovery of operating asset configurations\, and troubleshoot your system using FactoryTalk AssetCentre software. \nEnquire Now
URL:https://industry4skillnet.com/programme/ftac-factorytalk-asset-centre-system-design-implementation/
CATEGORIES:Rockwell Automation
END:VEVENT
BEGIN:VEVENT
DTSTART;TZID=Europe/Dublin:20220427T000000
DTEND;TZID=Europe/Dublin:20220429T000000
DTSTAMP:20260420T185904
CREATED:20211214T103541Z
LAST-MODIFIED:20211221T095828Z
UID:10000438-1651017600-1651190400@industry4skillnet.com
SUMMARY:QQI Effective People Management
DESCRIPTION:This training programme comes with a 30% Skillnet discount for member companies.  This practical course enables you to overcome barriers to effectively and confidently deliver high impact training. This course provides guidance on the effective planning and delivery of training in the office\, shop floor\, retail\, factory\, hotel\, laboratory or other areas including beauty\, hairdressing\, health and safety. We have had people from all areas attend this course. \nEnquire Now
URL:https://industry4skillnet.com/programme/qqi-effective-people-management-4/
CATEGORIES:Project Management
END:VEVENT
BEGIN:VEVENT
DTSTART;TZID=Europe/Dublin:20220426T000000
DTEND;TZID=Europe/Dublin:20220429T000000
DTSTAMP:20260420T185904
CREATED:20211221T102915Z
LAST-MODIFIED:20220106T112644Z
UID:10000648-1650931200-1651190400@industry4skillnet.com
SUMMARY:SI100 Logix5000 Project Development & Basic Ladder Programming
DESCRIPTION:This training programme comes with a Skillnet discount for member companies.  DESCRIPTION  \nEnquire Now
URL:https://industry4skillnet.com/programme/si100-logix5000-project-development-basic-ladder-programming/
CATEGORIES:Rockwell Automation
END:VEVENT
BEGIN:VEVENT
DTSTART;TZID=Europe/Dublin:20220425T000000
DTEND;TZID=Europe/Dublin:20220429T000000
DTSTAMP:20260420T185904
CREATED:20211222T122244Z
LAST-MODIFIED:20211222T122244Z
UID:10000704-1650844800-1651190400@industry4skillnet.com
SUMMARY:840D Solution Line Service Course (NC-84SL-SK)
DESCRIPTION:This training programme comes with a Skillnet discount for member companies.   This course is aimed at Maintenance and Service Engineers who wish to maintain and service SINUMERIK 840D sl equipment. On completion of the course delegates will have the knowledge and abilities necessary to handle ongoing service and maintenance work on the machine tools SINUMERIK 840D sl and SINAMICS S120.  \nEnquire Now
URL:https://industry4skillnet.com/programme/840d-solution-line-service-course-nc-84sl-sk-2/
CATEGORIES:Siemens
END:VEVENT
BEGIN:VEVENT
DTSTART;TZID=Europe/Dublin:20220425T000000
DTEND;TZID=Europe/Dublin:20220429T000000
DTSTAMP:20260420T185904
CREATED:20211222T121923Z
LAST-MODIFIED:20211222T121923Z
UID:10000671-1650844800-1651190400@industry4skillnet.com
SUMMARY:S7 Service 1 Course (ST-SERV1)
DESCRIPTION:This training programme comes with a Skillnet discount for member companies.  This course introduces the customer to a Siemens integrated automation system. Participants will build skills on commissioning\, troubleshooting and upgrading an automation system complete with HMI\, PLC\, drive and communications network. Students will learn to navigate STEP7\, use the built-in diagnostics tools and perform basic program modifications. Profibus DP configuration and troubleshooting are included using remote I/O\, a touch panel display and a drive system. \nEnquire Now
URL:https://industry4skillnet.com/programme/s7-service-1-course-st-serv1-4/
CATEGORIES:Siemens
END:VEVENT
BEGIN:VEVENT
DTSTART;TZID=Europe/Dublin:20220425T000000
DTEND;TZID=Europe/Dublin:20220429T000000
DTSTAMP:20260420T185904
CREATED:20211221T100628Z
LAST-MODIFIED:20211222T121853Z
UID:10000606-1650844800-1651190400@industry4skillnet.com
SUMMARY:TIA Portal System Retraining Course (TIA-SYSUP)
DESCRIPTION:This training programme comes with a Skillnet discount for member companies.  In this course the student will learn about the major differences between SIMATIC Manager and TIA Portal\, and between STEP 7 V5.x and STEP 7 based on TIA Portal. They will learn how to configure and program a SIMATIC S7 automation system with the “TIA Portal” engineering platform. Participants can reinforce their theoretical knowledge with extensive practical exercises on a TIA system model.  \nEnquire Now
URL:https://industry4skillnet.com/programme/tia-portal-system-retraining-course-tia-sysup-2/
CATEGORIES:Siemens
END:VEVENT
BEGIN:VEVENT
DTSTART;TZID=Europe/Dublin:20220425T000000
DTEND;TZID=Europe/Dublin:20220429T000000
DTSTAMP:20260420T185904
CREATED:20211221T100526Z
LAST-MODIFIED:20211222T121756Z
UID:10000588-1650844800-1651190400@industry4skillnet.com
SUMMARY:TIA Portal Programming 1 Course (TIA-PRO1)
DESCRIPTION:This training programme comes with a Skillnet discount for member companies.  In this first part of the SIMATIC TIA Portal programming training\, we teach you the handling of the TIA Portal\, basic knowledge about the structure of the SIMATIC S7 automation system\, configuration and parameterization of hardware\, and the basics of standard PLC programming. You also receive an overview of HMI\, PROFINET IO\, and connecting drives. \nEnquire Now
URL:https://industry4skillnet.com/programme/tia-portal-programming-1-course-tia-pro1-6/
CATEGORIES:Siemens
END:VEVENT
BEGIN:VEVENT
DTSTART;TZID=Europe/Dublin:20220420T000000
DTEND;TZID=Europe/Dublin:20220422T000000
DTSTAMP:20260420T185904
CREATED:20211222T122330Z
LAST-MODIFIED:20211222T122330Z
UID:10000716-1650412800-1650585600@industry4skillnet.com
SUMMARY:Functional Safety for the Process Industry Workshop & Certification (ST-WSFSP)
DESCRIPTION:This training programme comes with a Skillnet discount for member companies.  This workshop provides a common sense understanding of the fundamental aspects and principles of functional safety. It explains how these aspects and principles are implemented by concepts and requirements of IEC 61508 and derivate standards. \nEnquire Now
URL:https://industry4skillnet.com/programme/functional-safety-for-the-process-industry-workshop-certification-st-wsfsp/
CATEGORIES:Siemens
END:VEVENT
BEGIN:VEVENT
DTSTART;TZID=Europe/Dublin:20220420T000000
DTEND;TZID=Europe/Dublin:20220422T000000
DTSTAMP:20260420T185904
CREATED:20211214T103411Z
LAST-MODIFIED:20211221T095712Z
UID:10000411-1650412800-1650585600@industry4skillnet.com
SUMMARY:QQI Train the trainer
DESCRIPTION:This training programme comes with a 30% Skillnet discount for member companies.  This practical course enables you to overcome barriers to effectively and confidently deliver high impact training. This course provides guidance on the effective planning and delivery of training in the office\, shop floor\, retail\, factory\, hotel\, laboratory or other areas including beauty\, hairdressing\, health and safety. We have had people from all areas attend this course. \nEnquire Now
URL:https://industry4skillnet.com/programme/qqi-train-the-trainer-7/
CATEGORIES:Project Management
END:VEVENT
END:VCALENDAR