BEGIN:VCALENDAR
VERSION:2.0
PRODID:-//Industry 4.0 Skillnet - ECPv6.15.20//NONSGML v1.0//EN
CALSCALE:GREGORIAN
METHOD:PUBLISH
X-ORIGINAL-URL:https://industry4skillnet.com
X-WR-CALDESC:Events for Industry 4.0 Skillnet
REFRESH-INTERVAL;VALUE=DURATION:PT1H
X-Robots-Tag:noindex
X-PUBLISHED-TTL:PT1H
BEGIN:VTIMEZONE
TZID:Europe/Dublin
BEGIN:STANDARD
TZOFFSETFROM:+0000
TZOFFSETTO:+0100
TZNAME:IST
DTSTART:20220327T010000
END:STANDARD
BEGIN:DAYLIGHT
TZOFFSETFROM:+0100
TZOFFSETTO:+0000
TZNAME:GMT
DTSTART:20221030T010000
END:DAYLIGHT
BEGIN:STANDARD
TZOFFSETFROM:+0000
TZOFFSETTO:+0100
TZNAME:IST
DTSTART:20230326T010000
END:STANDARD
BEGIN:DAYLIGHT
TZOFFSETFROM:+0100
TZOFFSETTO:+0000
TZNAME:GMT
DTSTART:20231029T010000
END:DAYLIGHT
BEGIN:STANDARD
TZOFFSETFROM:+0000
TZOFFSETTO:+0100
TZNAME:IST
DTSTART:20240331T010000
END:STANDARD
BEGIN:DAYLIGHT
TZOFFSETFROM:+0100
TZOFFSETTO:+0000
TZNAME:GMT
DTSTART:20241027T010000
END:DAYLIGHT
END:VTIMEZONE
BEGIN:VEVENT
DTSTART;TZID=Europe/Dublin:20230403T000000
DTEND;TZID=Europe/Dublin:20230403T000000
DTSTAMP:20260420T052334
CREATED:20230403T154335Z
LAST-MODIFIED:20230403T154335Z
UID:10000846-1680480000-1680480000@industry4skillnet.com
SUMMARY:Lean Six Sigma Green Belt
DESCRIPTION:Dates: April 3rd\, 4th\, 5th & 6th from  9:30am to 15:00pm each day. \nThis training programme comes with a 30% Skillnet discount for the Irish Private Construction and Quarrying sector (including Sole Traders).  \nThis Certified Lean Six Sigma Green Belt course is designed to help you to optimise processes\, reduce costs and improve quality. \nUnderstand the concepts\, tools and principles of Lean Six Sigma.\nPractically learn the key tools needed to solve business problems.\nLearn implementation techniques to integrate lean into a company’s management system.\nIdentify areas for reviewing\, evaluating and improving.\nLearn to deliver an effective continuous improvement program and reduce waste and variation in business. \nOur Lean Six Sigma Green Belt training course is recommended for anyone working in or hoping to move into a lean environment. \nDMAIC Methodology \nModule 1-Define  \nProject Charter\nHouse of Quality and Stakeholder Analysis\nVoice of the Customer (VOC)\nCritical to Quality Requirements (CTQ)\nVerifying CTQs\nHi-Level Process Mapping \nModule 2-Measure  \nUnderstanding Variability\nMeasurement Basics\nMeasurement Process and Plan\nMeasurement System Analysis (MSA)\nData Definition and Sources\nMeasuring Yield and Process\nImplementing the Measure Plan \nModule 3-Analyse \nData Analysis\nRun Charts and Pareto Analysis\nFrequency Charts\nValue Stream Analysis\nComplexity=Root Cause Analysis\n5 Whys \nModule 4-Improve \nBrain Storming & Lean Principles\nKaizen: How to run improvements and events\nChange Management\nForce Field Analysis \nModule 5-Control \nSimple and necessary documentation (SOP’s)\nMistake Proofing / Poka Yoke\nStatistical Process Control\nGEMBA Walks\nLean Six Sigma Score Cards \nCertification: \nAfter successfully completing the course and assessments\, you will be awarded with you will achieve 2 certifications: DCM Learning Lean Six Sigma Green Belt and a QQI Level 5 Certificate in Lean Manufacturing Tools. \n  \nEnquire Now
URL:https://industry4skillnet.com/programme/lean-six-sigma-green-belt-7/
CATEGORIES:DCM
END:VEVENT
BEGIN:VEVENT
DTSTART;TZID=Europe/Dublin:20230412T000000
DTEND;TZID=Europe/Dublin:20230412T235900
DTSTAMP:20260420T052334
CREATED:20221024T051849Z
LAST-MODIFIED:20230717T135846Z
UID:10000830-1681257600-1681343940@industry4skillnet.com
SUMMARY:QQI Train the Trainer
DESCRIPTION:Dates: 3 Consecutive days via Zoom from 9:30am to 15:00pm each day \nFull Price €495 / Industry 4.0 Skillnet Price €206.50 \nThe funding is available to Irish Private Construction\, Manufacturing and Quarrying companies (including Sole Traders). \nThe Train The Trainer course is designed to help you enhance your existing skills and prepare you to deliver training sessions in a dynamic and thought-provoking way. \nView the full course description HERE \nEnquire Now
URL:https://industry4skillnet.com/programme/qqi-train-the-trainer-58/2023-04-12/
CATEGORIES:DCM
END:VEVENT
BEGIN:VEVENT
DTSTART;TZID=Europe/Dublin:20230419T080000
DTEND;TZID=Europe/Dublin:20230419T083000
DTSTAMP:20260420T052334
CREATED:20230331T160938Z
LAST-MODIFIED:20230419T150454Z
UID:10000934-1681891200-1681893000@industry4skillnet.com
SUMMARY:Industrial Electrical Systems- QQI Award (Minor) Level 6
DESCRIPTION:Dates April 21st\, 27th\, 28th + May 3rd\, 4th- Location: W8 Manorhamilton\, Leitrim \nIndustry 4.0 Skillnet partial funding available to Irish Private Construction and Quarrying companies (including Sole Traders).\nOur Price €1\,050 includes 5 days training in the brand new W8 Innovation Canter and lunch out. \nThe Industrial Electrical Systems training course develops the skills required by industrial maintenance technicians to safely diagnose and repair faults in electrically controlled equipment. We offer a uniquely practical course focused on replicating real-life scenarios using specialist industrial equipment and troubleshooting simulation software. We also provide a comprehensive suite of online learning activities which enable deep learning and excellent retention of skills learned. Students are given full access to our materials when they register on the course so they can dive straight in to our materials which will help them prepare for the course and get the most out of it. \nWho should attend the QQI Level 6 Industrial Electrical Systems course:\nThose who want to upskill and develop electrical knowledge in order to pursue a career in a production environment or industrial maintenance personnel who would like to increase their electrical troubleshooting skills. You do not need to be formally qualified as an electrician to do this course. So\, whether you are starting a career in industrial maintenance\, or you are already engaged in maintenance of equipment systems but want to develop your skills further\, this training course is ideal for you. \nWhy should I attend?\nCorrect diagnosis of electrical systems faults saves time and money in the long run. And\, effective troubleshooters add great value to the organisation they work for. Learning to work safely with electrical equipment is central to the course and qualification means that you have demonstrated your competence as required in Health and Safety legislation. This internationally-recognised qualification will present opportunities to work in diverse areas within the manufacturing environment carrying out the diagnosing and repair/replacement of components. \nCourse Objectives\nTo enable maintenance staff to be effective in the use of preventative and corrective maintenance strategies when working on modern industrial electrical systems and components. At the end of the Industrial Electrical Systems course the participants will be able to: \nTest electrical systems to narrow down a problem area.\nList electrical hazards when testing live systems and list ways to minimise hazards.\nUse electrical schematics to navigate a system effectively.\nCarry out LOTO procedures correctly.\nDescribe the operating principle of fuses\, MCBs and RCDs.\nCompetently use multi-meters and grip-ons to test systems.\nTest 3-phase motor circuits controlled by contactors and overloads.\nDemonstrate how to troubleshoot a range of common faults on work- based technology. \nCourse Modules \n\n\nUnit 1 /Electrical Concepts and Units – at the end of this learners should be able to:\n\n\nUnderstand the differences  between conductors and insulators\nUnderstand the concept and units of voltage\, current and resistance. Use Ohm’s law to predict circuit behaviour\nCompetently use a multimeter to measure V\, I and R.\nUnderstand Kirchoff’s current law\nWork out what voltages and currents will be at different points in series and parallel circuits\nUnderstand how to detect and conclude that circuits have open or short circuit faults\nUse the correct specification language to describe switchgear in terms of poles and throws (ways)\nUnderstand the principles of electro-magnetism and how it applies to DC motors\n\n\nUnit 2 /Electrical Safety Awareness: at the end of this learners should be able to:\n\n\n\n\nList the hazards associated with electricity\nAppreciate why precautions are necessary\nList the effects of electricity on the human body\nEvaluate if it is necessary to work LIVE\nList the types of electrical fault and circuit protection\nAppreciate why and when LOTO is required\nFollow procedures for working on equipment LIVE and De-energised\nElectrical Protection\nTypes of fault conditions that can be detected\nPrinciple of operation of circuit breakers\nMCB rating and trip characteristics\nFuse types and ratings\nRCD and RCBO principles\n\n\n\n\nUnit 3 /Testing Circuits & Circuit Components including Safety Relays: at the end of this learners should be able to:\n\n\nBuild\, verify and test series and parallel circuits\nUse a multi-meter competently to test circuits\nBuild relay latching circuits\nUse the correct terminology and recognise switchgear poles based on their universal numbering system\nWire\, test and troubleshoot safety relays\n\n\n\n\nUnit 3 /AC Systems (optional module)\n\n\nDescribe the characteristics of an AC Sine Wave in terms of RMS voltage\, peak voltage\, frequence\, and time period\nDeduce inductive reactance in an AC coil\nUnderstand transformers\, split coils\, turns\, step-up and step-down\n\n\n\n\nUnit 4 /3-phase and Motor control circuits\n\n\nUnderstanding 3-phase power generating systems\nPrinciple of induction motors\, motor poles and rpm\, star and delta wiring.\nTake resistance reading to deduce condition of coils\nWire 3ph motor control and protection using  contactors and overloads\nReverse 3 phase motors\nCause single phasing to occur to see motor response\nControl motors using a variable speed drive\nTroubleshooting forward and reverse 3-phase motor circuits\n\n\n\n\nUnit 5 /Using Electrical Schematics to troubleshoot\n\n\n\n\nUse schematics to see how power is distributed from 3ph to 1ph to DC to safety circuits\nInterpret symbols and skilfully navigate your way on both US and EU drawings.\nHow to use electrical schematics to effectively troubleshoot\n\n\n\n\nQQI Assessment \n\nExamination 1. 40% of overall mark       \nExamination 2. 30% of overall mark\nSkills Demonstration based on reading drawings\, building and troubleshooting circuits. 30% of overall mark\nThe pass mark for all assessments is 50%\n\n\n\nQQI Accreditation and Progression \n\n6N5377 QQI Level 6 Minor award in Industrial Electrical Systems\nThis Award is one component required for the Major Award6M5154 Maintenance Skills Technology\n\n\nEntry Requirements \nNo previous formal qualification is required but learners should have relevant work or life experience to have reached the standards of knowledge\, skill and competence associated with Level 5 of the National Framework of Qualifications. \nCompetence in written and spoken English is essential. International students whose first language is not English are required to have an appropriate score in an approved examination in English language. \nEnquire Now
URL:https://industry4skillnet.com/programme/industrial-electrical-systems-4/
CATEGORIES:Industrial Training,TechnoTraining
END:VEVENT
BEGIN:VEVENT
DTSTART;TZID=Europe/Dublin:20230425T123000
DTEND;TZID=Europe/Dublin:20230425T131500
DTSTAMP:20260420T052334
CREATED:20230403T153803Z
LAST-MODIFIED:20230404T085514Z
UID:10000939-1682425800-1682428500@industry4skillnet.com
SUMMARY:Project Management Webinar
DESCRIPTION:Join Industry 4.0 Skillnet\,  Aspira and Future Cast on Tuesday 25th April at 12.30pm GMT for a FREE webinar to discuss how project management can help businesses achieve their goals and objectives. We will share tips on managing projects effectively and examples and best practices for successful project management implementation. \n  \n \nWebinar Agenda: \nWelcome & Webinar overview – Marta Borkowska\, Head of Training\, Aspira \nIntroducing Future Cast – Mary Whitney\, Director of Education\, Future Cast \nThe importance of project management in maximising efficiency and success in organisations – Simon Doody\, Programme Manager Carbery \nPanel Discussion with industry experts: Russell Moore\, Simon Doody\, and Mary Whitney on best practices for successful project management implementation \nAn interactive quiz to test your knowledge\, evaluate answers and common misconceptions; \nWrap up with an exclusive offer for attendees. \n\n\n\n  \n\n\n\n\nRegister Here
URL:https://industry4skillnet.com/programme/project-management-webinar/
LOCATION:Online
CATEGORIES:Event category,FREE event,Project Management
END:VEVENT
BEGIN:VEVENT
DTSTART;TZID=Europe/Dublin:20230426T080000
DTEND;TZID=Europe/Dublin:20230426T204000
DTSTAMP:20260420T052334
CREATED:20230426T130749Z
LAST-MODIFIED:20230426T130750Z
UID:10000926-1682496000-1682541600@industry4skillnet.com
SUMMARY:EU Specific Category Theoretical Course & Flight Exam (Drone Training)
DESCRIPTION:Dates: 2 Consecutive days \nIndustry 4.0 Skillnet Price €540 \nThe funding is available to Irish Private Construction and Quarrying companies (including Sole Traders). \nThis Course is compulsory if you want to become a holder of a Operational Authorisation  under the Specific Category. You will have to either submit a PDRA or a SORA in order to conduct high risk operations. Specific Drone Operations are considered to be High Risk\, where as the Open Category Operations are deemed as Low Risk operations. \nThis is a 12 hour course. This course covers all subjects that the IAA have deemed necessary for Drone Operations on Fixed-Wing. Multi-Rotor UAVs and Vertical Take-off And Landing (VTOL). There is a written exam at the end of the Course. This Written Exam is 40 questions of multiple choice. You must receive 75% of the overall marks to successfully pass the course. \nSubject Covered: \n\nSpecific Category\nAirspace.\nU.F 101 Application to request Permission to Fly a UAS inside a Controlled Traffic Area.\nNavigation.\nMeteorology.\nTechnical and operational mitigation’s for ground risk.\nUAS Flight Performance.\nSORA (Specific Operating Risk Assessment) Part One.\nSORA (Specific Operating Risk Assessment) Part Two.\nTechnical and operational mitigation for air risks.\nHuman Factors.\nData Protection – Introduction.\nWritten Exam.\n\nPrerequisite: \nThere is no Course Prerequisites for this course. It is for beginners from any commercial field. It is also designed in such a manner that Hobbyists can make the move from doing what they love as a hobby\, to becoming a professional commercial drone pilot. \nEnquire Now
URL:https://industry4skillnet.com/programme/eu-specific-category-theoretical-course-flight-exam-drone-training-2/
CATEGORIES:Drone Technology course,Survey Drones Ireland
END:VEVENT
END:VCALENDAR