BEGIN:VCALENDAR
VERSION:2.0
PRODID:-//Industry 4.0 Skillnet - ECPv6.15.20//NONSGML v1.0//EN
CALSCALE:GREGORIAN
METHOD:PUBLISH
X-WR-CALNAME:Industry 4.0 Skillnet
X-ORIGINAL-URL:https://industry4skillnet.com
X-WR-CALDESC:Events for Industry 4.0 Skillnet
REFRESH-INTERVAL;VALUE=DURATION:PT1H
X-Robots-Tag:noindex
X-PUBLISHED-TTL:PT1H
BEGIN:VTIMEZONE
TZID:Europe/Dublin
BEGIN:STANDARD
TZOFFSETFROM:+0000
TZOFFSETTO:+0100
TZNAME:IST
DTSTART:20220327T010000
END:STANDARD
BEGIN:DAYLIGHT
TZOFFSETFROM:+0100
TZOFFSETTO:+0000
TZNAME:GMT
DTSTART:20221030T010000
END:DAYLIGHT
BEGIN:STANDARD
TZOFFSETFROM:+0000
TZOFFSETTO:+0100
TZNAME:IST
DTSTART:20230326T010000
END:STANDARD
BEGIN:DAYLIGHT
TZOFFSETFROM:+0100
TZOFFSETTO:+0000
TZNAME:GMT
DTSTART:20231029T010000
END:DAYLIGHT
BEGIN:STANDARD
TZOFFSETFROM:+0000
TZOFFSETTO:+0100
TZNAME:IST
DTSTART:20240331T010000
END:STANDARD
BEGIN:DAYLIGHT
TZOFFSETFROM:+0100
TZOFFSETTO:+0000
TZNAME:GMT
DTSTART:20241027T010000
END:DAYLIGHT
END:VTIMEZONE
BEGIN:VEVENT
DTSTART;TZID=Europe/Dublin:20230906T080000
DTEND;TZID=Europe/Dublin:20230906T170000
DTSTAMP:20260419T202103
CREATED:20221024T051849Z
LAST-MODIFIED:20230717T135846Z
UID:10000911-1693987200-1694019600@industry4skillnet.com
SUMMARY:QQI Train the Trainer
DESCRIPTION:Dates: 3 Consecutive days via Zoom from 9:30am to 15:00pm each day \nFull Price €495 / Industry 4.0 Skillnet Price €206.50 \nThe funding is available to Irish Private Construction\, Manufacturing and Quarrying companies (including Sole Traders). \nThe Train The Trainer course is designed to help you enhance your existing skills and prepare you to deliver training sessions in a dynamic and thought-provoking way. \nView the full course description HERE \nEnquire Now
URL:https://industry4skillnet.com/programme/qqi-train-the-trainer-58/2023-09-06/
CATEGORIES:DCM
END:VEVENT
BEGIN:VEVENT
DTSTART;TZID=Europe/Dublin:20230912T080000
DTEND;TZID=Europe/Dublin:20230912T170000
DTSTAMP:20260419T202103
CREATED:20230327T152512Z
LAST-MODIFIED:20230725T151429Z
UID:10000902-1694505600-1694538000@industry4skillnet.com
SUMMARY:Lean Six Sigma Green Belt
DESCRIPTION:Dates: September 12th\, 13th\, 14th & 15th from 9:30am to 15:00pm each day. \nThis training programme comes with funding  30% Skillnet discount for the Irish Private Construction\, Manufacturing and Quarry sector (including Sole Traders). \nFull price €495 / Our Price €206.50 \nThis Certified Lean Six Sigma Green Belt course is designed to help you to optimise processes\, reduce costs and improve quality. \nThe course aims:\nUnderstand the concepts\, tools and principles of Lean Six Sigma.\nPractically learn the key tools needed to solve business problems.\nLearn implementation techniques to integrate lean into a company’s management system.\nIdentify areas for reviewing\, evaluating and improving.\nLearn to deliver an effective continuous improvement program and reduce waste and variation in business. \nThis Lean Six Sigma Green Belt training course is recommended for anyone working in or hoping to move into a lean environment. \nView all the course details HERE \nContact Details:\nPaul Quinn\, Network Manager\nT: +353 (0)71 9317 485 / E: info@industry4skillnet.com\nEnquire Now
URL:https://industry4skillnet.com/programme/lean-six-sigma-green-belt-4/
CATEGORIES:DCM
END:VEVENT
BEGIN:VEVENT
DTSTART;TZID=Europe/Dublin:20230915T080000
DTEND;TZID=Europe/Dublin:20230915T083000
DTSTAMP:20260419T202103
CREATED:20230719T160726Z
LAST-MODIFIED:20230815T164359Z
UID:10000953-1694764800-1694766600@industry4skillnet.com
SUMMARY:Industrial Electrical Systems- QQI Award (Minor) Level 6
DESCRIPTION:Dates in Dublin September 15th\, 18th\, 28th\, 29th\, October 5th\, 6th  \nIndustry 4.0 Skillnet partial funding available to Irish Private Construction and Quarrying companies (including Sole Traders). \nFull Price € 1\,550- Our Price € 1\,085 \nView the Course Content HERE \nGet in touch with Industry 4.0 Skillnet Network – Paul or Ylenia at accounts@industry4skillnet.com / info@industry4skillnet.com \n  \n\nEnquire Now
URL:https://industry4skillnet.com/programme/industrial-electrical-systems-course/
CATEGORIES:Industrial Training,TechnoTraining
END:VEVENT
BEGIN:VEVENT
DTSTART;TZID=Europe/Dublin:20230920T080000
DTEND;TZID=Europe/Dublin:20230920T170000
DTSTAMP:20260419T202103
CREATED:20230327T143430Z
LAST-MODIFIED:20230327T143431Z
UID:10000897-1695196800-1695229200@industry4skillnet.com
SUMMARY:QQI Effective People Management
DESCRIPTION:Dates: September 20th\, 21st\, 22nd – from 9:30am to 15:00pm each day \nThis training programme comes with a 30% Skillnet discount for Irish Private Companies in the Construction and Quarrying sector. \n \nThis practical course enables you to overcome barriers to effectively and confidently deliver high impact training. This Certified People Management course will show you how to motivate and manage others\, obtain the core management skills and a recognised certification. \nCourse Aim: \nUse effective skills for leading\, managing and motivating a team.\nDeveloped communication and influencing techniques.\nManage different personalities and encourage mutual respect and cooperation.\nManage effective team meetings and carry out delegation duties assertively.\nResolve conflict and deal with difficult people and situations confidently and positively.\nHave a personal action plan to apply learning back on the job. \nCourse Overview: \n1. Effective Team Management \nManager’s role and responsibilities\nThe role and characteristics of a successful leader\nRecognising and reviewing your personal style of leadership\nSetting SMART goals\nThe Goal Pyramid (PESTLE/Strategic Management)\nUnderstanding external factors and company values/strategy\nMotivational theory and practice \n2. Effective Teams and Communication \nUnderstanding team roles (Belbin)\nDefining roles and responsibilities\nPractical application of assigning work based on role\nExamining the key building blocks of highperformance teams\nGiving Advice and Encouragement\nUsing the SAID model to deliver feedback based on agreed goals \n3. Managing Under Performers and Conflict \nWhat constitutes poor performance – lack of ability versus low motivation\nEnhancing ability\nImproving motivation\nHandling difficult people fairly and assertively\nDisciplinary and grievance procedures\nUnderstanding your own conflict style and recognising that different situations may require a different approach\nRemaining constructive when dealing with passive or aggressive employees and peers\nHow to mediate conflict between two employees \nCertification: \nAfter successfully completing the course and assessments\, you will be awarded with a QQI Level 6 People Management Certification. \nEnquire Now
URL:https://industry4skillnet.com/programme/qqi-effective-people-management-28-2-2/
CATEGORIES:DCM
END:VEVENT
BEGIN:VEVENT
DTSTART;TZID=Europe/Dublin:20230920T080000
DTEND;TZID=Europe/Dublin:20230920T170000
DTSTAMP:20260419T202103
CREATED:20230327T165757Z
LAST-MODIFIED:20230719T141850Z
UID:10000931-1695196800-1695229200@industry4skillnet.com
SUMMARY:EU Specific Category Theoretical Course & Flight Exam (Online Drone Training)
DESCRIPTION:Dates: 2 Consecutive days \nFull Price €750 / Industry 4.0 Skillnet Price €540 \nThe funding is available to Irish Private Construction and Quarrying companies (including Sole Traders). \nThis Course is compulsory if you want to become a holder of a Operational Authorisation  under the Specific Category. You will have to either submit a PDRA or a SORA in order to conduct high risk operations. Specific Drone Operations are considered to be High Risk\, where as the Open Category Operations are deemed as Low Risk operations. \nClick HERE to view the full description of the course \nContact Details:\nPaul Quinn\, Network Manager\nT: +353 (0)71 9317 485 / E: info@industry4skillnet.com\n\nYlenia Morselli \nE: ylenia@futurecast.info – T. 085/8675275\n  \nEnquire Now
URL:https://industry4skillnet.com/programme/eu-specific-category-theoretical-course-flight-exam-drone-training/2023-09-20/
CATEGORIES:Drone Technology course,Survey Drones Ireland
END:VEVENT
BEGIN:VEVENT
DTSTART;TZID=Europe/Dublin:20230926T073000
DTEND;TZID=Europe/Dublin:20230926T073000
DTSTAMP:20260419T202103
CREATED:20230522T142230Z
LAST-MODIFIED:20230904T152722Z
UID:10000949-1695713400-1695713400@industry4skillnet.com
SUMMARY:Ground Probing Radar for Utility Mapping and Detection Course
DESCRIPTION:2 Consecutive Days Course – Dates September 26th 27th – in person course from 9.00am to 16.00pm – Location Co Dublin \nThe Industry 4.0 Skillnet funding is available to Irish Private Construction\, Manufacturing and Quarrying companies (including Sole Traders). \nFull Price € 495 – Industry 4.0 Skillnet Price € 346.50 \nGet in touch with Industry 4.0 Skillnet Paul or Ylenia at accounts@industry4skillnet.com / info@industry4skillnet.com \nWho should attend?\nThe course is available for anyone to want to learn and use GPR Detection equipment and software for implementing in site constructions\, design\, utility mapping and survey etc. \nCourse Objectives\n– Understanding GPR principles and get the foundations in the principles and theory\, including electromagnetic waves propagation\, signal reflection and data acquisition\n-Familiarity with the equipment and minimum components required of the system.\n– Proficiency in data interpretation developing skills in interpreting GPR Data \n– Survey Planning and execution selecting the appropriate antennas frequency based\non application. \nClick here for the FULL Course description \n  \nGet in touch with Industry 4.0 Skillnet  \nPaul or Ylenia at accounts@industry4skillnet.com / info@industry4skillnet.com \n  \nEnquire Now
URL:https://industry4skillnet.com/programme/ground-probing-radar-for-utility-mapping-and-detection-course/
CATEGORIES:Ground Penetrating Radar,Survey Drones Ireland
END:VEVENT
BEGIN:VEVENT
DTSTART;TZID=Europe/Dublin:20230927T080000
DTEND;TZID=Europe/Dublin:20230927T170000
DTSTAMP:20260419T202103
CREATED:20221024T051849Z
LAST-MODIFIED:20230717T135846Z
UID:10000912-1695801600-1695834000@industry4skillnet.com
SUMMARY:QQI Train the Trainer
DESCRIPTION:Dates: 3 Consecutive days via Zoom from 9:30am to 15:00pm each day \nFull Price €495 / Industry 4.0 Skillnet Price €206.50 \nThe funding is available to Irish Private Construction\, Manufacturing and Quarrying companies (including Sole Traders). \nThe Train The Trainer course is designed to help you enhance your existing skills and prepare you to deliver training sessions in a dynamic and thought-provoking way. \nView the full course description HERE \nEnquire Now
URL:https://industry4skillnet.com/programme/qqi-train-the-trainer-58/2023-09-27/
CATEGORIES:DCM
END:VEVENT
END:VCALENDAR