BEGIN:VCALENDAR
VERSION:2.0
PRODID:-//Industry 4.0 Skillnet - ECPv6.15.20//NONSGML v1.0//EN
CALSCALE:GREGORIAN
METHOD:PUBLISH
X-ORIGINAL-URL:https://industry4skillnet.com
X-WR-CALDESC:Events for Industry 4.0 Skillnet
REFRESH-INTERVAL;VALUE=DURATION:PT1H
X-Robots-Tag:noindex
X-PUBLISHED-TTL:PT1H
BEGIN:VTIMEZONE
TZID:Europe/Dublin
BEGIN:STANDARD
TZOFFSETFROM:+0000
TZOFFSETTO:+0100
TZNAME:IST
DTSTART:20220327T010000
END:STANDARD
BEGIN:DAYLIGHT
TZOFFSETFROM:+0100
TZOFFSETTO:+0000
TZNAME:GMT
DTSTART:20221030T010000
END:DAYLIGHT
BEGIN:STANDARD
TZOFFSETFROM:+0000
TZOFFSETTO:+0100
TZNAME:IST
DTSTART:20230326T010000
END:STANDARD
BEGIN:DAYLIGHT
TZOFFSETFROM:+0100
TZOFFSETTO:+0000
TZNAME:GMT
DTSTART:20231029T010000
END:DAYLIGHT
BEGIN:STANDARD
TZOFFSETFROM:+0000
TZOFFSETTO:+0100
TZNAME:IST
DTSTART:20240331T010000
END:STANDARD
BEGIN:DAYLIGHT
TZOFFSETFROM:+0100
TZOFFSETTO:+0000
TZNAME:GMT
DTSTART:20241027T010000
END:DAYLIGHT
END:VTIMEZONE
BEGIN:VEVENT
DTSTART;TZID=Europe/Dublin:20231004T080000
DTEND;TZID=Europe/Dublin:20231004T170000
DTSTAMP:20260419T183426
CREATED:20221024T052017Z
LAST-MODIFIED:20230717T150451Z
UID:10000918-1696406400-1696438800@industry4skillnet.com
SUMMARY:Project Management Course - QQI Level 6
DESCRIPTION:Dates: 3 consecutive days Via Zoom from 9.30am to 15.00pm each day. \nIndustry 4.0 Skillnet price €206.50 \nThis training programme comes with a Skillnet discount to Irish Private Construction and Quarrying Companies (Including Sole Traders).\nThis Certified Project Management course is designed to equip learners with essential knowledge\, skills and competencies to plan\, implement and review projects. \nCourse Aims:\nManage a project taking corrective action where necessary to meet agreed goals.\nEvaluate the methodology and process of a selected project.\nUtilise financial planning and budget models within the context of managing a project.\nDevise a risk analysis for a project to include the preparation of a contingency plan.\nCommunicate project management planning operations.\nInvestigate a range of approaches to plan\, cost and manage a project. \nRead the full course content HERE\nContact Details:\nPaul Quinn\, Network Manager\nT: +353 (0)71 9317 485 / E: info@industry4skillnet.com\nEnquire Now
URL:https://industry4skillnet.com/programme/qqi-project-management-20/2023-10-04/
CATEGORIES:DCM
END:VEVENT
BEGIN:VEVENT
DTSTART;TZID=Europe/Dublin:20231011T080000
DTEND;TZID=Europe/Dublin:20231011T170000
DTSTAMP:20260419T183426
CREATED:20221024T051849Z
LAST-MODIFIED:20230717T135846Z
UID:10000913-1697011200-1697043600@industry4skillnet.com
SUMMARY:QQI Train the Trainer
DESCRIPTION:Dates: 3 Consecutive days via Zoom from 9:30am to 15:00pm each day \nFull Price €495 / Industry 4.0 Skillnet Price €206.50 \nThe funding is available to Irish Private Construction\, Manufacturing and Quarrying companies (including Sole Traders). \nThe Train The Trainer course is designed to help you enhance your existing skills and prepare you to deliver training sessions in a dynamic and thought-provoking way. \nView the full course description HERE \nEnquire Now
URL:https://industry4skillnet.com/programme/qqi-train-the-trainer-58/2023-10-11/
CATEGORIES:DCM
END:VEVENT
BEGIN:VEVENT
DTSTART;TZID=Europe/Dublin:20231017T080000
DTEND;TZID=Europe/Dublin:20231017T170000
DTSTAMP:20260419T183426
CREATED:20230327T165757Z
LAST-MODIFIED:20230719T141850Z
UID:10000932-1697529600-1697562000@industry4skillnet.com
SUMMARY:EU Specific Category Theoretical Course & Flight Exam (Online Drone Training)
DESCRIPTION:Dates: 2 Consecutive days \nFull Price €750 / Industry 4.0 Skillnet Price €540 \nThe funding is available to Irish Private Construction and Quarrying companies (including Sole Traders). \nThis Course is compulsory if you want to become a holder of a Operational Authorisation  under the Specific Category. You will have to either submit a PDRA or a SORA in order to conduct high risk operations. Specific Drone Operations are considered to be High Risk\, where as the Open Category Operations are deemed as Low Risk operations. \nClick HERE to view the full description of the course \nContact Details:\nPaul Quinn\, Network Manager\nT: +353 (0)71 9317 485 / E: info@industry4skillnet.com\n\nYlenia Morselli \nE: ylenia@futurecast.info – T. 085/8675275\n  \nEnquire Now
URL:https://industry4skillnet.com/programme/eu-specific-category-theoretical-course-flight-exam-drone-training/2023-10-17/
CATEGORIES:Drone Technology course,Survey Drones Ireland
END:VEVENT
BEGIN:VEVENT
DTSTART;TZID=Europe/Dublin:20231018T080000
DTEND;TZID=Europe/Dublin:20231018T170000
DTSTAMP:20260419T183426
CREATED:20221024T051849Z
LAST-MODIFIED:20230717T135846Z
UID:10000914-1697616000-1697648400@industry4skillnet.com
SUMMARY:QQI Train the Trainer
DESCRIPTION:Dates: 3 Consecutive days via Zoom from 9:30am to 15:00pm each day \nFull Price €495 / Industry 4.0 Skillnet Price €206.50 \nThe funding is available to Irish Private Construction\, Manufacturing and Quarrying companies (including Sole Traders). \nThe Train The Trainer course is designed to help you enhance your existing skills and prepare you to deliver training sessions in a dynamic and thought-provoking way. \nView the full course description HERE \nEnquire Now
URL:https://industry4skillnet.com/programme/qqi-train-the-trainer-58/2023-10-18/
CATEGORIES:DCM
END:VEVENT
BEGIN:VEVENT
DTSTART;TZID=Europe/Dublin:20231025T080000
DTEND;TZID=Europe/Dublin:20231025T170000
DTSTAMP:20260419T183426
CREATED:20230327T144127Z
LAST-MODIFIED:20230327T144127Z
UID:10000898-1698220800-1698253200@industry4skillnet.com
SUMMARY:QQI Effective People Management
DESCRIPTION:Dates: October 25th\, 26th & 27th – from 9:30am to 15:00pm each day \nThis training programme comes with a 30% Skillnet discount for Irish Private Companies in the Construction and Quarrying sector. \n \nThis practical course enables you to overcome barriers to effectively and confidently deliver high impact training. This Certified People Management course will show you how to motivate and manage others\, obtain the core management skills and a recognised certification. \nCourse Aim: \nUse effective skills for leading\, managing and motivating a team.\nDeveloped communication and influencing techniques.\nManage different personalities and encourage mutual respect and cooperation.\nManage effective team meetings and carry out delegation duties assertively.\nResolve conflict and deal with difficult people and situations confidently and positively.\nHave a personal action plan to apply learning back on the job. \nCourse Overview: \n1. Effective Team Management \nManager’s role and responsibilities\nThe role and characteristics of a successful leader\nRecognising and reviewing your personal style of leadership\nSetting SMART goals\nThe Goal Pyramid (PESTLE/Strategic Management)\nUnderstanding external factors and company values/strategy\nMotivational theory and practice \n2. Effective Teams and Communication \nUnderstanding team roles (Belbin)\nDefining roles and responsibilities\nPractical application of assigning work based on role\nExamining the key building blocks of highperformance teams\nGiving Advice and Encouragement\nUsing the SAID model to deliver feedback based on agreed goals \n3. Managing Under Performers and Conflict \nWhat constitutes poor performance – lack of ability versus low motivation\nEnhancing ability\nImproving motivation\nHandling difficult people fairly and assertively\nDisciplinary and grievance procedures\nUnderstanding your own conflict style and recognising that different situations may require a different approach\nRemaining constructive when dealing with passive or aggressive employees and peers\nHow to mediate conflict between two employees \nCertification: \nAfter successfully completing the course and assessments\, you will be awarded with a QQI Level 6 People Management Certification. \nEnquire Now
URL:https://industry4skillnet.com/programme/qqi-effective-people-management-28-2-6/
CATEGORIES:DCM
END:VEVENT
END:VCALENDAR