BEGIN:VCALENDAR
VERSION:2.0
PRODID:-//Industry 4.0 Skillnet - ECPv6.15.20//NONSGML v1.0//EN
CALSCALE:GREGORIAN
METHOD:PUBLISH
X-WR-CALNAME:Industry 4.0 Skillnet
X-ORIGINAL-URL:https://industry4skillnet.com
X-WR-CALDESC:Events for Industry 4.0 Skillnet
REFRESH-INTERVAL;VALUE=DURATION:PT1H
X-Robots-Tag:noindex
X-PUBLISHED-TTL:PT1H
BEGIN:VTIMEZONE
TZID:Europe/Dublin
BEGIN:STANDARD
TZOFFSETFROM:+0000
TZOFFSETTO:+0100
TZNAME:IST
DTSTART:20220327T010000
END:STANDARD
BEGIN:DAYLIGHT
TZOFFSETFROM:+0100
TZOFFSETTO:+0000
TZNAME:GMT
DTSTART:20221030T010000
END:DAYLIGHT
BEGIN:STANDARD
TZOFFSETFROM:+0000
TZOFFSETTO:+0100
TZNAME:IST
DTSTART:20230326T010000
END:STANDARD
BEGIN:DAYLIGHT
TZOFFSETFROM:+0100
TZOFFSETTO:+0000
TZNAME:GMT
DTSTART:20231029T010000
END:DAYLIGHT
BEGIN:STANDARD
TZOFFSETFROM:+0000
TZOFFSETTO:+0100
TZNAME:IST
DTSTART:20240331T010000
END:STANDARD
BEGIN:DAYLIGHT
TZOFFSETFROM:+0100
TZOFFSETTO:+0000
TZNAME:GMT
DTSTART:20241027T010000
END:DAYLIGHT
END:VTIMEZONE
BEGIN:VEVENT
DTSTART;TZID=Europe/Dublin:20231206T080000
DTEND;TZID=Europe/Dublin:20231206T170000
DTSTAMP:20260419T145547
CREATED:20221024T051849Z
LAST-MODIFIED:20230717T135846Z
UID:10000917-1701849600-1701882000@industry4skillnet.com
SUMMARY:QQI Train the Trainer
DESCRIPTION:Dates: 3 Consecutive days via Zoom from 9:30am to 15:00pm each day \nFull Price €495 / Industry 4.0 Skillnet Price €206.50 \nThe funding is available to Irish Private Construction\, Manufacturing and Quarrying companies (including Sole Traders). \nThe Train The Trainer course is designed to help you enhance your existing skills and prepare you to deliver training sessions in a dynamic and thought-provoking way. \nView the full course description HERE \nEnquire Now
URL:https://industry4skillnet.com/programme/qqi-train-the-trainer-58/2023-12-06/
CATEGORIES:DCM
END:VEVENT
BEGIN:VEVENT
DTSTART;TZID=Europe/Dublin:20231212T080000
DTEND;TZID=Europe/Dublin:20231212T080000
DTSTAMP:20260419T145547
CREATED:20230424T154105Z
LAST-MODIFIED:20231116T155757Z
UID:10000952-1702368000-1702368000@industry4skillnet.com
SUMMARY:Pneumatics Systems Maintenance
DESCRIPTION:Dates: December 12th\, 13th\, 14th 15th – 4 days – Dublin 12 \nFull Price €1\,200 / Industry 4.0 Skillnet Price €960 \nThe funding is available to Irish Private Construction and Quarrying companies (including Sole Traders). \nPneumatic systems are widely used in production equipment. This course is designed to enable learners to maintain and fault find pneumatic systems in a safe manner. \nCourse Objectives\nAt the end of the course the participants will be able to: \n\nMaintain the efficient operation of pneumatic systems.\nInterpret Circuit Diagrams.\nIdentify standard pneumatic components and understand their functions and maintenance requirements.\nUse Pneumatic Circuits to predict the behaviour of machines.\nLocate\, Diagnose and replace faulty components.\nExplain the Health and Safety legislative requirements for air-powered machinery.\nTake suitable precautions when working with Pneumatic Equipment\n\nCourse Modules\n\n\nModule 1 / Compressed Air delivery systems. Theory\, units and principles of compressed air systems\, compressed air generation and distribution\, air service units\, soft-start valves.\n\n\n\nModule 2 / Pneumatic Components\, valves\, actuators and flow controls. Types of actuator and sizing\, valve types and designations\, valve operators (roller\, pilot\, solenoid)\, cylinder directional control\, 3/2 (nc and no)\, 5/2 (double and single)\, 5/3 (cc\,oc\,ec)\n\n\n\nModule 3 / Pneumatic Circuits and symbols. Building\, testing and fault finding pneumatic and electro-pneumatic circuits\n\n\n\nModule 4 / Health and Safety requirements. Safe work practices\, Sensor and valve PLC wiring and troubleshooting\, sequential circuits.\n\n\n\nEntry Requirements:\nLearners are required to have an NFQ or equivalent Level 5 Certificate in a technical or related discipline. Alternatively\, if learners have reached the standards of knowledge\, skill and competence associated with Level 5 they can apply for Recognition of Prior Learning for Access to the programme. Though not essential\, learners will benefit from having some prior knowledge or exposure to pneumatics systems.\n\n\n\nCertification:\nQQI Assessment\n\nSkills Demonstration – 50% of overall mark\nPortfolio / Collection of Work – 30% of overall mark\nExamination (Theory) – 20% of overall mark\n\n\n\nQQI Accreditation and Progression\nThis course leads to the QQI Level 6 Minor Award 6N5375 in Industrial Pneumatic Systems. This Award is one component of the Major Award 6M5154 Maintenance Skills Technology \nGet in touch with us at accounts@industry4skillnet.com – 085 8675275
URL:https://industry4skillnet.com/programme/pneumatics-systems-maintenance/
CATEGORIES:Pneumatic training,TechnoTraining
END:VEVENT
END:VCALENDAR