BEGIN:VCALENDAR
VERSION:2.0
PRODID:-//Industry 4.0 Skillnet - ECPv6.15.20//NONSGML v1.0//EN
CALSCALE:GREGORIAN
METHOD:PUBLISH
X-ORIGINAL-URL:https://industry4skillnet.com
X-WR-CALDESC:Events for Industry 4.0 Skillnet
REFRESH-INTERVAL;VALUE=DURATION:PT1H
X-Robots-Tag:noindex
X-PUBLISHED-TTL:PT1H
BEGIN:VTIMEZONE
TZID:Europe/Dublin
BEGIN:STANDARD
TZOFFSETFROM:+0000
TZOFFSETTO:+0100
TZNAME:IST
DTSTART:20230326T010000
END:STANDARD
BEGIN:DAYLIGHT
TZOFFSETFROM:+0100
TZOFFSETTO:+0000
TZNAME:GMT
DTSTART:20231029T010000
END:DAYLIGHT
BEGIN:STANDARD
TZOFFSETFROM:+0000
TZOFFSETTO:+0100
TZNAME:IST
DTSTART:20240331T010000
END:STANDARD
BEGIN:DAYLIGHT
TZOFFSETFROM:+0100
TZOFFSETTO:+0000
TZNAME:GMT
DTSTART:20241027T010000
END:DAYLIGHT
BEGIN:STANDARD
TZOFFSETFROM:+0000
TZOFFSETTO:+0100
TZNAME:IST
DTSTART:20250330T010000
END:STANDARD
BEGIN:DAYLIGHT
TZOFFSETFROM:+0100
TZOFFSETTO:+0000
TZNAME:GMT
DTSTART:20251026T010000
END:DAYLIGHT
END:VTIMEZONE
BEGIN:VEVENT
DTSTART;TZID=Europe/Dublin:20240105T060000
DTEND;TZID=Europe/Dublin:20240228T060000
DTSTAMP:20260419T183506
CREATED:20230327T152557Z
LAST-MODIFIED:20231214T102116Z
UID:10000903-1704434400-1709100000@industry4skillnet.com
SUMMARY:College Funding Available for 2024
DESCRIPTION:College Funding – Third Level Courses Requests Open for 2024\nWe are delighted to inform you that we are now accepting funding requests for 2024! \nCheck out some of the courses we are funding\, make sure to get in touch for any other courses\, we’ll be happy to help! \nView some of the courses HERE \n  \nContact Details:\nPaul Quinn\, Network Manager\nE: info@industry4skillnet.com\nYlenia Morselli – ylenia@futurecast.info\nT. 085 8675275 \n  \nEnquire Now
URL:https://industry4skillnet.com/programme/college-funding-available-for-2024/
CATEGORIES:Third Level Courses
ATTACH;FMTTYPE=image/png:https://industry4skillnet.com/wp-content/uploads/2023/03/YM-Skillnet-cOLLEGE-FUNDING.png
END:VEVENT
BEGIN:VEVENT
DTSTART;TZID=Europe/Dublin:20240105T060000
DTEND;TZID=Europe/Dublin:20240228T060000
DTSTAMP:20260419T183506
CREATED:20231214T103233Z
LAST-MODIFIED:20231214T103233Z
UID:10001010-1704434400-1709100000@industry4skillnet.com
SUMMARY:Quarry Courses
DESCRIPTION:Quarry Industry Courses\nOnline | self-paced | Bite size Learning\nGet Certified | Advance Your Career | Save Money! \nIndustry 4.0 Skillnet is proud to introduce a series of certified MODULES  in collaboration with The Institute of Quarrying. \nWe are currently offering FREE access to 1 module and funding for any additional modules. \nReach out to us to get this INCREDIBLE OFFER: \nCheck out all the online self-paced modules and bundles. \nFind out more \n  \nContact Details:\nPaul Quinn\, Network Manager\nE: info@industry4skillnet.com\nT. 071 9317 485 \nYlenia Morselli – ylenia@futurecast.info\nT. 085 8675275 \n  \nEnquire Now
URL:https://industry4skillnet.com/programme/quarry-courses/
CATEGORIES:online course,Online Self paced course,Quarry Courses
ATTACH;FMTTYPE=image/png:https://industry4skillnet.com/wp-content/uploads/2023/12/I4S-Blue-14.png
END:VEVENT
BEGIN:VEVENT
DTSTART;TZID=Europe/Dublin:20240206T053000
DTEND;TZID=Europe/Dublin:20240206T063000
DTSTAMP:20260419T183506
CREATED:20231213T131624Z
LAST-MODIFIED:20240124T145452Z
UID:10000996-1707197400-1707201000@industry4skillnet.com
SUMMARY:Industrial Electrical Systems - QQI Level 6
DESCRIPTION:Location: Dublin / Dates: February 6th\, 8th\, 12th\, 13th\, 20th\, 21st \nFull Price €1\,550 / Industry 4.0 Skillnet Price €1\,085 \nIndustry 4.0 Skillnet funding is available to Irish Private Construction\, Manufacturing and Quarrying companies and Sole Traders. \nThe Industrial Electrical Systems training course develops the skills required by industrial maintenance technicians to safely diagnose and repair faults in electrically controlled equipment. We offer a uniquely practical course focused on replicating real-life scenarios using specialist industrial equipment and troubleshooting simulation software. We also provide a comprehensive suite of online learning activities which enable deep learning and excellent retention of skills learned. Students are given full access to our materials when they register on the course so they can dive straight in to our materials which will help them prepare for the course and get the most out of it. \nQQI Accreditation and Progression\n\n6N5377 QQI Level 6 Minor award in Industrial Electrical Systems\nThis Award is one component required for the Major Award 6M5154 Maintenance Skills Technology\n\nRead the full course description HERE \n\nContact Details:\nPaul Quinn\, Network Manager\nE: info@industry4skillnet.com\nT: 071 9317 485\nYlenia Morselli – ylenia@futurecast.info\n  \nEnquire Now
URL:https://industry4skillnet.com/programme/industrial-electrical-systems-level-6-2/
CATEGORIES:Industrial Training,TechnoTraining
ATTACH;FMTTYPE=image/png:https://industry4skillnet.com/wp-content/uploads/2023/05/Industry-4.0-Skillnet-Industrial-Electrial-Systems-Course.png
END:VEVENT
BEGIN:VEVENT
DTSTART;TZID=Europe/Dublin:20240213T060000
DTEND;TZID=Europe/Dublin:20240213T060000
DTSTAMP:20260419T183506
CREATED:20230327T152707Z
LAST-MODIFIED:20240820T115716Z
UID:10000979-1707804000-1707804000@industry4skillnet.com
SUMMARY:Lean Six Sigma Green Belt
DESCRIPTION:Dates: 4 consecutive days online via Zoom from 9:30am to 15:00pm each day. \nFull Price €495 / Industry 4.0 Skillnet Price €206.50 \nIndustry 4.0 Skillnet funding is available to Irish Private Construction\, Manufacturing and Quarrying companies and Sole Traders. \nThis Certified Lean Six Sigma Green Belt course is designed to help you to optimise processes\, reduce costs and improve quality. \nUnderstand the concepts\, tools and principles of Lean Six Sigma.\nPractically learn the key tools needed to solve business problems.\nLearn implementation techniques to integrate lean into a company’s management system.\nIdentify areas for reviewing\, evaluating and improving.\nLearn to deliver an effective continuous improvement program and reduce waste and variation in business. \nOur Lean Six Sigma Green Belt training course is recommended for anyone working in or hoping to move into a lean environment.\nDMAIC Methodology \nCertification:\nAfter successfully completing the course and assessments\, you will be awarded with you will achieve 2 certifications: DCM Learning Lean Six Sigma Green Belt and a QQI Level 5 Certificate in Lean Manufacturing Tools. \nRead the full course description HERE \nContact Details:\nE: info@industry4skillnet.com \n  \nEnquire Now \n 
URL:https://industry4skillnet.com/programme/lean-six-sigma-green-belt-course/
CATEGORIES:DCM,Lean Six Sigma Green Belt level 6,online course
ATTACH;FMTTYPE=image/png:https://industry4skillnet.com/wp-content/uploads/2023/07/YM-Skillnet-Social-Media-Posts-11.png
END:VEVENT
BEGIN:VEVENT
DTSTART;TZID=Europe/Dublin:20240226T053000
DTEND;TZID=Europe/Dublin:20240226T060000
DTSTAMP:20260419T183506
CREATED:20240108T122806Z
LAST-MODIFIED:20240108T125121Z
UID:10001011-1708925400-1708927200@industry4skillnet.com
SUMMARY:Introduction to PLC Allen Bradley Course Manorhamilton
DESCRIPTION:Location: W8 Centre Manorhamilton Co Leitrim – Date: 26th\, 27th and 28th of February  \nIndustry 4.0 Skillnet funding is available to Irish Private Construction\, Manufacturing and Quarrying companies and Sole Traders. \nVirtually all production equipment is controlled by a PLC. They are at the centre of modern automation systems. If you can understand how PLCs think and how they generate fault messages\, then you can use them as a powerful diagnostic tool. \nThis course will provide learners with a strong understanding of how PLCs act as the hub in an automated process. It is intended as a foundation course to prepare entry-level learners for the 4-day QQI certified PLC course\, using  Allen Bradley PLCs. The course is 70% hands on using process simulation software. This provides a realistic and gamified environment within which to solve automation challenges. \nRead the full course description HERE \n\nContact Details:\nPaul Quinn\, Network Manager\nE: info@industry4skillnet.com\nT: 071 9317 485\nYlenia Morselli – ylenia@futurecast.info\n  \nEnquire Now
URL:https://industry4skillnet.com/programme/introduction-to-plc-allen-bradley-course-manorhamilton/
CATEGORIES:Introduction to PLC,TechnoTraining
ATTACH;FMTTYPE=image/jpeg:https://industry4skillnet.com/wp-content/uploads/2023/06/Introduction-to-Programmable-Logic-Controllers-Allen-Bradley-Course-Industry-4.0-Skillnet-1.jpg
END:VEVENT
BEGIN:VEVENT
DTSTART;TZID=Europe/Dublin:20240226T053000
DTEND;TZID=Europe/Dublin:20240226T063000
DTSTAMP:20260419T183506
CREATED:20240124T145133Z
LAST-MODIFIED:20240124T145441Z
UID:10001013-1708925400-1708929000@industry4skillnet.com
SUMMARY:Industrial Electrical Systems - QQI Level 6
DESCRIPTION:Location: Dublin / Dates: February 26th\, 27th\, March 4th\, 5th\, 11th\, 12th \nFull Price €1\,550 / Industry 4.0 Skillnet Price €1\,085 \nIndustry 4.0 Skillnet funding is available to Irish Private Construction\, Manufacturing and Quarrying companies and Sole Traders. \nThe Industrial Electrical Systems training course develops the skills required by industrial maintenance technicians to safely diagnose and repair faults in electrically controlled equipment. We offer a uniquely practical course focused on replicating real-life scenarios using specialist industrial equipment and troubleshooting simulation software. We also provide a comprehensive suite of online learning activities which enable deep learning and excellent retention of skills learned. Students are given full access to our materials when they register on the course so they can dive straight in to our materials which will help them prepare for the course and get the most out of it. \nQQI Accreditation and Progression\n\n6N5377 QQI Level 6 Minor award in Industrial Electrical Systems\nThis Award is one component required for the Major Award 6M5154 Maintenance Skills Technology\n\nRead the full course description HERE \n\nContact Details:\nPaul Quinn\, Network Manager\nE: info@industry4skillnet.com\nT: 071 9317 485\nYlenia Morselli – ylenia@futurecast.info\n  \nEnquire Now
URL:https://industry4skillnet.com/programme/industrial-electrical-systems-qqi-level-6/
CATEGORIES:Industrial Training,TechnoTraining
ATTACH;FMTTYPE=image/png:https://industry4skillnet.com/wp-content/uploads/2023/05/Industry-4.0-Skillnet-Industrial-Electrial-Systems-Course.png
END:VEVENT
END:VCALENDAR