BEGIN:VCALENDAR
VERSION:2.0
PRODID:-//Industry 4.0 Skillnet - ECPv6.15.20//NONSGML v1.0//EN
CALSCALE:GREGORIAN
METHOD:PUBLISH
X-WR-CALNAME:Industry 4.0 Skillnet
X-ORIGINAL-URL:https://industry4skillnet.com
X-WR-CALDESC:Events for Industry 4.0 Skillnet
REFRESH-INTERVAL;VALUE=DURATION:PT1H
X-Robots-Tag:noindex
X-PUBLISHED-TTL:PT1H
BEGIN:VTIMEZONE
TZID:Europe/Dublin
BEGIN:STANDARD
TZOFFSETFROM:+0000
TZOFFSETTO:+0100
TZNAME:IST
DTSTART:20230326T010000
END:STANDARD
BEGIN:DAYLIGHT
TZOFFSETFROM:+0100
TZOFFSETTO:+0000
TZNAME:GMT
DTSTART:20231029T010000
END:DAYLIGHT
BEGIN:STANDARD
TZOFFSETFROM:+0000
TZOFFSETTO:+0100
TZNAME:IST
DTSTART:20240331T010000
END:STANDARD
BEGIN:DAYLIGHT
TZOFFSETFROM:+0100
TZOFFSETTO:+0000
TZNAME:GMT
DTSTART:20241027T010000
END:DAYLIGHT
BEGIN:STANDARD
TZOFFSETFROM:+0000
TZOFFSETTO:+0100
TZNAME:IST
DTSTART:20250330T010000
END:STANDARD
BEGIN:DAYLIGHT
TZOFFSETFROM:+0100
TZOFFSETTO:+0000
TZNAME:GMT
DTSTART:20251026T010000
END:DAYLIGHT
END:VTIMEZONE
BEGIN:VEVENT
DTSTART;TZID=Europe/Dublin:20241017T080000
DTEND;TZID=Europe/Dublin:20241017T170000
DTSTAMP:20260420T085422
CREATED:20240918T091553Z
LAST-MODIFIED:20240918T100630Z
UID:10001075-1729152000-1729184400@industry4skillnet.com
SUMMARY:CE5105 Digital Construction Technologies (10 ECTS)
DESCRIPTION:This module will cover the broad areas of building information modelling (BIM) technology\, digital twinning\, visualisation methods and their standard approaches within the construction sector. Digitalisation is fundamentally changing the ways in which construction teams interact. Technologies such as BIM can seamlessly monitor the materials and products delivered to the construction site\, in a manner that respects the need for sustainability and traceability. Furthermore\, sensors can provide the data for digital twins and their incorporation into construction elements\, thus the ability to analyse and exploit the large volumes of data is required. \nFurthermore\, augmented reality technologies are beginning to be used for tasks such as site inspections\, allowing continuous monitoring of construction process and conducting quality control checks with greater ease. Technologies such as these are fundamentally changing the way in which construction projects are managed and lead to new work processes. This module will engage with learners to ensure they are fully prepared for the potential of these new work practices.   This module is a science-based approach and key tools\, methods and materials will be explored. \nStart date 04/11/24 until 13/01/25 \nFee: €1\,850 – 30% €555 = €1\,295\nFunding Application closes on 17/10/2024 – Apply NOW info@industry4skillnet.com \nContact Details:\nE: info@industry4skillnet.com\nEnquire Now
URL:https://industry4skillnet.com/programme/ce5105-digital-construction-technologies-10-ects/
CATEGORIES:Modern Method of Construction
ATTACH;FMTTYPE=image/png:https://industry4skillnet.com/wp-content/uploads/2024/09/Courses-Banners-Website-Industry-4.0-Skillnet-19.png
END:VEVENT
END:VCALENDAR